BEGIN:VCALENDAR
VERSION:2.0
PRODID:-//wp-events-plugin.com//7.2.3.1//EN
TZID:Europe/Ljubljana
X-WR-TIMEZONE:Europe/Ljubljana
BEGIN:VEVENT
UID:858@kjuc.si
DTSTART;TZID=Europe/Ljubljana;VALUE=DATE:20190424
DTEND;TZID=Europe/Ljubljana;VALUE=DATE:20190601
DTSTAMP:20250331T103336Z
URL:https://www.kjuc.si/dogodki/razstava-eve-mazi-unikatni-tekstilni-izdel
 ki-ma-za-otroke-in-odrasle-2/
SUMMARY:Razstava Eve Mazi – Unikatni tekstilni izdelki Má za otroke in o
 drasle
DESCRIPTION:\n\nVabilo\n\n[gallery link="file" columns="2" size="full" ids=
 "eyJ1cmwiOiJodHRwczpcL1wvd3d3LmtqdWMuc2lcL3dwLWNvbnRlbnRcL3VwbG9hZHNcLzIwM
 TlcLzA0XC8yMDE5MDQyM18xMTA1NTguanBnIiwidGl0bGUiOiIyMDE5MDQyM18xMTA1NTgiLCJ
 jYXB0aW9uIjoiIiwiYWx0IjoiIiwiZGVzY3JpcHRpb24iOiIifQ==\,eyJ1cmwiOiJodHRwczp
 cL1wvd3d3LmtqdWMuc2lcL3dwLWNvbnRlbnRcL3VwbG9hZHNcLzIwMTlcLzA0XC8yMDE5MDQyM
 18xMTA2MjguanBnIiwidGl0bGUiOiIyMDE5MDQyM18xMTA2MjgiLCJjYXB0aW9uIjoiIiwiYWx
 0IjoiIiwiZGVzY3JpcHRpb24iOiIifQ==\,eyJ1cmwiOiJodHRwczpcL1wvd3d3LmtqdWMuc2l
 cL3dwLWNvbnRlbnRcL3VwbG9hZHNcLzIwMTlcLzA0XC8yMDE5MDQyM18xMTA2MzMuanBnIiwid
 Gl0bGUiOiIyMDE5MDQyM18xMTA2MzMiLCJjYXB0aW9uIjoiIiwiYWx0IjoiIiwiZGVzY3JpcHR
 pb24iOiIifQ==\,eyJ1cmwiOiJodHRwczpcL1wvd3d3LmtqdWMuc2lcL3dwLWNvbnRlbnRcL3V
 wbG9hZHNcLzIwMTlcLzA0XC8yMDE5MDQyM18xMTA2NDAuanBnIiwidGl0bGUiOiIyMDE5MDQyM
 18xMTA2NDAiLCJjYXB0aW9uIjoiIiwiYWx0IjoiIiwiZGVzY3JpcHRpb24iOiIifQ==\,eyJ1c
 mwiOiJodHRwczpcL1wvd3d3LmtqdWMuc2lcL3dwLWNvbnRlbnRcL3VwbG9hZHNcLzIwMTlcLzA
 0XC8yMDE5MDQyM18xMTA2NDUuanBnIiwidGl0bGUiOiIyMDE5MDQyM18xMTA2NDUiLCJjYXB0a
 W9uIjoiIiwiYWx0IjoiIiwiZGVzY3JpcHRpb24iOiIifQ=="]
ATTACH;FMTTYPE=image/jpeg:https://www.kjuc.si/wp-content/uploads/2025/03/c
 over-7-13.jpg
CATEGORIES:Razstave
LOCATION:Enota Ivana Matičiča Rakek\, Partizanska cesta 8a\, Rakek\, Slov
 enia
GEO:45.8127;14.319238
X-APPLE-STRUCTURED-LOCATION;VALUE=URI;X-ADDRESS=Partizanska cesta 8a\, Rake
 k\, Slovenia;X-APPLE-RADIUS=100;X-TITLE=Enota Ivana Matičiča Rakek:geo:4
 5.8127,14.319238
END:VEVENT
BEGIN:VTIMEZONE
TZID:Europe/Ljubljana
X-LIC-LOCATION:Europe/Ljubljana
BEGIN:DAYLIGHT
DTSTART:20190331T030000
TZOFFSETFROM:+0100
TZOFFSETTO:+0200
TZNAME:CEST
END:DAYLIGHT
END:VTIMEZONE
END:VCALENDAR