BEGIN:VCALENDAR
VERSION:2.0
PRODID:-//wp-events-plugin.com//7.2.3.1//EN
TZID:Europe/Ljubljana
X-WR-TIMEZONE:Europe/Ljubljana
BEGIN:VEVENT
UID:831@kjuc.si
DTSTART;TZID=Europe/Ljubljana;VALUE=DATE:20190319
DTEND;TZID=Europe/Ljubljana;VALUE=DATE:20190420
DTSTAMP:20250331T103302Z
URL:https://www.kjuc.si/dogodki/razstava-eve-mazi-unikatni-tekstilni-izdel
 ki-ma-za-otroke-in-odrasle/
SUMMARY:Razstava Eve Mazi - Unikatni tekstilni izdelki Má za otroke in odr
 asle
DESCRIPTION:\n\nVabilo\n\n[gallery link="file" columns="4" size="medium" id
 s="eyJ1cmwiOiJodHRwczpcL1wvd3d3LmtqdWMuc2lcL3dwLWNvbnRlbnRcL3VwbG9hZHNcLzI
 wMTlcLzAzXC8yMDE5MDQxOV8xNTAzMTYuanBnIiwidGl0bGUiOiIyMDE5MDQxOV8xNTAzMTYiL
 CJjYXB0aW9uIjoiIiwiYWx0IjoiIiwiZGVzY3JpcHRpb24iOiIifQ==\,eyJ1cmwiOiJodHRwc
 zpcL1wvd3d3LmtqdWMuc2lcL3dwLWNvbnRlbnRcL3VwbG9hZHNcLzIwMTlcLzAzXC8yMDE5MDQ
 xOV8xNTAzNTAuanBnIiwidGl0bGUiOiIyMDE5MDQxOV8xNTAzNTAiLCJjYXB0aW9uIjoiIiwiY
 Wx0IjoiIiwiZGVzY3JpcHRpb24iOiIifQ==\,eyJ1cmwiOiJodHRwczpcL1wvd3d3LmtqdWMuc
 2lcL3dwLWNvbnRlbnRcL3VwbG9hZHNcLzIwMTlcLzAzXC8yMDE5MDQxOV8xNTAzNTkuanBnIiw
 idGl0bGUiOiIyMDE5MDQxOV8xNTAzNTkiLCJjYXB0aW9uIjoiIiwiYWx0IjoiIiwiZGVzY3Jpc
 HRpb24iOiIifQ==\,eyJ1cmwiOiJodHRwczpcL1wvd3d3LmtqdWMuc2lcL3dwLWNvbnRlbnRcL
 3VwbG9hZHNcLzIwMTlcLzAzXC8yMDE5MDQxOV8xNTA0MDguanBnIiwidGl0bGUiOiIyMDE5MDQ
 xOV8xNTA0MDgiLCJjYXB0aW9uIjoiIiwiYWx0IjoiIiwiZGVzY3JpcHRpb24iOiIifQ==\,eyJ
 1cmwiOiJodHRwczpcL1wvd3d3LmtqdWMuc2lcL3dwLWNvbnRlbnRcL3VwbG9hZHNcLzIwMTlcL
 zAzXC8yMDE5MDQxOV8xNTA0NDkuanBnIiwidGl0bGUiOiIyMDE5MDQxOV8xNTA0NDkiLCJjYXB
 0aW9uIjoiIiwiYWx0IjoiIiwiZGVzY3JpcHRpb24iOiIifQ==\,eyJ1cmwiOiJodHRwczpcL1w
 vd3d3LmtqdWMuc2lcL3dwLWNvbnRlbnRcL3VwbG9hZHNcLzIwMTlcLzAzXC8yMDE5MDQxOV8xN
 TA2MTIuanBnIiwidGl0bGUiOiIyMDE5MDQxOV8xNTA2MTIiLCJjYXB0aW9uIjoiIiwiYWx0Ijo
 iIiwiZGVzY3JpcHRpb24iOiIifQ==\,eyJ1cmwiOiJodHRwczpcL1wvd3d3LmtqdWMuc2lcL3d
 wLWNvbnRlbnRcL3VwbG9hZHNcLzIwMTlcLzAzXC8yMDE5MDQxOV8xNTA4MTguanBnIiwidGl0b
 GUiOiIyMDE5MDQxOV8xNTA4MTgiLCJjYXB0aW9uIjoiIiwiYWx0IjoiIiwiZGVzY3JpcHRpb24
 iOiIifQ==\,eyJ1cmwiOiJodHRwczpcL1wvd3d3LmtqdWMuc2lcL3dwLWNvbnRlbnRcL3VwbG9
 hZHNcLzIwMTlcLzAzXC8yMDE5MDQxOV8xNTA4MzkuanBnIiwidGl0bGUiOiIyMDE5MDQxOV8xN
 TA4MzkiLCJjYXB0aW9uIjoiIiwiYWx0IjoiIiwiZGVzY3JpcHRpb24iOiIifQ=="]\n\nRazst
 ava 
ATTACH;FMTTYPE=image/jpeg:https://www.kjuc.si/wp-content/uploads/2025/03/v
 abilo-3-1.jpg
CATEGORIES:Razstave
LOCATION:Knjižnica Jožeta Udoviča Cerknica\, Partizanska cesta 22\, Cerk
 nica\, Slovenia
GEO:45.795484;14.362483
X-APPLE-STRUCTURED-LOCATION;VALUE=URI;X-ADDRESS=Partizanska cesta 22\, Cerk
 nica\, Slovenia;X-APPLE-RADIUS=100;X-TITLE=Knjižnica Jožeta Udoviča Cer
 knica:geo:45.795484,14.362483
END:VEVENT
BEGIN:VTIMEZONE
TZID:Europe/Ljubljana
X-LIC-LOCATION:Europe/Ljubljana
BEGIN:STANDARD
DTSTART:20181028T020000
TZOFFSETFROM:+0200
TZOFFSETTO:+0100
TZNAME:CET
END:STANDARD
BEGIN:DAYLIGHT
DTSTART:20190331T030000
TZOFFSETFROM:+0100
TZOFFSETTO:+0200
TZNAME:CEST
END:DAYLIGHT
END:VTIMEZONE
END:VCALENDAR