BEGIN:VCALENDAR
VERSION:2.0
PRODID:-//wp-events-plugin.com//7.2.3.1//EN
TZID:Europe/Ljubljana
X-WR-TIMEZONE:Europe/Ljubljana
BEGIN:VEVENT
UID:1186@kjuc.si
DTSTART;TZID=Europe/Ljubljana;VALUE=DATE:20211206
DTEND;TZID=Europe/Ljubljana;VALUE=DATE:20220108
DTSTAMP:20250331T103729Z
URL:https://www.kjuc.si/dogodki/razstava-jaslic-drustvo-zena-in-deklet-na-
 podezelju-klasje-cerknica-2/
SUMMARY:Razstava jaslic – Društvo žena in deklet na podeželju Klasje C
 erknica
DESCRIPTION:[gallery link="none" columns="2" size="full" ids="eyJ1cmwiOiJod
 HRwczpcL1wvd3d3LmtqdWMuc2lcL3dwLWNvbnRlbnRcL3VwbG9hZHNcLzIwMjFcLzEyXC8yMDI
 xMTIxM18wOTQyMzEuanBnIiwidGl0bGUiOiIyMDIxMTIxM18wOTQyMzEiLCJjYXB0aW9uIjoiI
 iwiYWx0IjoiIiwiZGVzY3JpcHRpb24iOiIifQ==\,eyJ1cmwiOiJodHRwczpcL1wvd3d3Lmtqd
 WMuc2lcL3dwLWNvbnRlbnRcL3VwbG9hZHNcLzIwMjFcLzEyXC8yMDIxMTIxM18wOTQyMzYuanB
 nIiwidGl0bGUiOiIyMDIxMTIxM18wOTQyMzYiLCJjYXB0aW9uIjoiIiwiYWx0IjoiIiwiZGVzY
 3JpcHRpb24iOiIifQ==\,eyJ1cmwiOiJodHRwczpcL1wvd3d3LmtqdWMuc2lcL3dwLWNvbnRlb
 nRcL3VwbG9hZHNcLzIwMjFcLzEyXC8yMDIxMTIxM18wOTQyNDMuanBnIiwidGl0bGUiOiIyMDI
 xMTIxM18wOTQyNDMiLCJjYXB0aW9uIjoiIiwiYWx0IjoiIiwiZGVzY3JpcHRpb24iOiIifQ==\
 ,eyJ1cmwiOiJodHRwczpcL1wvd3d3LmtqdWMuc2lcL3dwLWNvbnRlbnRcL3VwbG9hZHNcLzIwM
 jFcLzEyXC8yMDIxMTIxM18wOTQzMDMuanBnIiwidGl0bGUiOiIyMDIxMTIxM18wOTQzMDMiLCJ
 jYXB0aW9uIjoiIiwiYWx0IjoiIiwiZGVzY3JpcHRpb24iOiIifQ==\,eyJ1cmwiOiJodHRwczp
 cL1wvd3d3LmtqdWMuc2lcL3dwLWNvbnRlbnRcL3VwbG9hZHNcLzIwMjFcLzEyXC8yMDIxMTIxM
 18wOTQ0MDkuanBnIiwidGl0bGUiOiIyMDIxMTIxM18wOTQ0MDkiLCJjYXB0aW9uIjoiIiwiYWx
 0IjoiIiwiZGVzY3JpcHRpb24iOiIifQ==\,eyJ1cmwiOiJodHRwczpcL1wvd3d3LmtqdWMuc2l
 cL3dwLWNvbnRlbnRcL3VwbG9hZHNcLzIwMjFcLzEyXC8yMDIxMTIxM18wOTQ0MzIxLmpwZyIsI
 nRpdGxlIjoiMjAyMTEyMTNfMDk0NDMyKDEpIiwiY2FwdGlvbiI6IiIsImFsdCI6IiIsImRlc2N
 yaXB0aW9uIjoiIn0="]
ATTACH;FMTTYPE=image/jpeg:https://www.kjuc.si/wp-content/uploads/2025/03/2
 0211213_094432.jpg
CATEGORIES:Razstave
LOCATION:Enota Ivana Matičiča Rakek\, Partizanska cesta 8a\, Rakek\, Slov
 enia
GEO:45.8127;14.319238
X-APPLE-STRUCTURED-LOCATION;VALUE=URI;X-ADDRESS=Partizanska cesta 8a\, Rake
 k\, Slovenia;X-APPLE-RADIUS=100;X-TITLE=Enota Ivana Matičiča Rakek:geo:4
 5.8127,14.319238
END:VEVENT
BEGIN:VTIMEZONE
TZID:Europe/Ljubljana
X-LIC-LOCATION:Europe/Ljubljana
BEGIN:STANDARD
DTSTART:20211031T020000
TZOFFSETFROM:+0200
TZOFFSETTO:+0100
TZNAME:CET
END:STANDARD
END:VTIMEZONE
END:VCALENDAR