BEGIN:VCALENDAR
VERSION:2.0
PRODID:-//wp-events-plugin.com//7.2.3.1//EN
TZID:Europe/Ljubljana
X-WR-TIMEZONE:Europe/Ljubljana
BEGIN:VEVENT
UID:320@kjuc.si
DTSTART;TZID=Europe/Ljubljana;VALUE=DATE:20161020
DTEND;TZID=Europe/Ljubljana;VALUE=DATE:20161202
DTSTAMP:20250331T100230Z
URL:https://www.kjuc.si/dogodki/razstava-klekljanega-nakita-in-cipk/
SUMMARY:Razstava klekljanega nakita in čipk
DESCRIPTION:\n\n[gallery link="file" columns="2" size="full" ids="eyJ1cmwiO
 iJodHRwczpcL1wvd3d3LmtqdWMuc2lcL3dwLWNvbnRlbnRcL3VwbG9hZHNcLzIwMTZcLzEwXC8
 yMDE2MTAyMV8xNjUyNTQuanBnIiwidGl0bGUiOiIyMDE2MTAyMV8xNjUyNTQiLCJjYXB0aW9uI
 joiIiwiYWx0IjoiIiwiZGVzY3JpcHRpb24iOiIifQ==\,eyJ1cmwiOiJodHRwczpcL1wvd3d3L
 mtqdWMuc2lcL3dwLWNvbnRlbnRcL3VwbG9hZHNcLzIwMTZcLzEwXC8yMDE2MTAyMV8xNjUzMDc
 uanBnIiwidGl0bGUiOiIyMDE2MTAyMV8xNjUzMDciLCJjYXB0aW9uIjoiIiwiYWx0IjoiIiwiZ
 GVzY3JpcHRpb24iOiIifQ==\,eyJ1cmwiOiJodHRwczpcL1wvd3d3LmtqdWMuc2lcL3dwLWNvb
 nRlbnRcL3VwbG9hZHNcLzIwMTZcLzEwXC8yMDE2MTAyMV8xNjUzMjQuanBnIiwidGl0bGUiOiI
 yMDE2MTAyMV8xNjUzMjQiLCJjYXB0aW9uIjoiIiwiYWx0IjoiIiwiZGVzY3JpcHRpb24iOiIif
 Q==\,eyJ1cmwiOiJodHRwczpcL1wvd3d3LmtqdWMuc2lcL3dwLWNvbnRlbnRcL3VwbG9hZHNcL
 zIwMTZcLzEwXC8yMDE2MTAyMV8xNjUzMzUuanBnIiwidGl0bGUiOiIyMDE2MTAyMV8xNjUzMzU
 iLCJjYXB0aW9uIjoiIiwiYWx0IjoiIiwiZGVzY3JpcHRpb24iOiIifQ==\,eyJ1cmwiOiJodHR
 wczpcL1wvd3d3LmtqdWMuc2lcL3dwLWNvbnRlbnRcL3VwbG9hZHNcLzIwMTZcLzEwXC8yMDE2M
 TAyMV8xNjUzNTAuanBnIiwidGl0bGUiOiIyMDE2MTAyMV8xNjUzNTAiLCJjYXB0aW9uIjoiIiw
 iYWx0IjoiIiwiZGVzY3JpcHRpb24iOiIifQ=="]
ATTACH;FMTTYPE=image/jpeg:https://www.kjuc.si/wp-content/uploads/2025/03/s
 lika-1-2.jpg
CATEGORIES:Razstave
LOCATION:Enota Ivana Matičiča Rakek\, Partizanska cesta 8a\, Rakek\, Slov
 enia
GEO:45.8127;14.319238
X-APPLE-STRUCTURED-LOCATION;VALUE=URI;X-ADDRESS=Partizanska cesta 8a\, Rake
 k\, Slovenia;X-APPLE-RADIUS=100;X-TITLE=Enota Ivana Matičiča Rakek:geo:4
 5.8127,14.319238
END:VEVENT
BEGIN:VTIMEZONE
TZID:Europe/Ljubljana
X-LIC-LOCATION:Europe/Ljubljana
BEGIN:DAYLIGHT
DTSTART:20160327T030000
TZOFFSETFROM:+0100
TZOFFSETTO:+0200
TZNAME:CEST
END:DAYLIGHT
BEGIN:STANDARD
DTSTART:20161030T020000
TZOFFSETFROM:+0200
TZOFFSETTO:+0100
TZNAME:CET
END:STANDARD
END:VTIMEZONE
END:VCALENDAR