BEGIN:VCALENDAR
VERSION:2.0
PRODID:-//wp-events-plugin.com//7.2.3.1//EN
TZID:Europe/Ljubljana
X-WR-TIMEZONE:Europe/Ljubljana
BEGIN:VEVENT
UID:439@kjuc.si
DTSTART;TZID=Europe/Ljubljana:20170418T000000
DTEND;TZID=Europe/Ljubljana:20170429T000000
DTSTAMP:20250331T100827Z
URL:https://www.kjuc.si/dogodki/razstava-knjiznih-izdaj-ob-100-letnici-izi
 da-slikanice-martin-krpan-z-vrha-s-podobami-hinka-smrekarja/
SUMMARY:Razstava knjižnih izdaj ob 100-letnici izida slikanice Martin Krpa
 n z Vrha s podobami Hinka Smrekarja
DESCRIPTION:&nbsp\;&nbsp\;Ilustracija Hinka Smrekarja za naslovnico knjige 
 Martin Krpan iz leta 1917\n\nPripovedka Martin Krpan z Vrha je prvič izš
 la leta 1858. Že ob koncu 19. stoletja so jo prevedli v ruski ter nemški
  jezik ter kasneje tudi v številne druge jezike. Levstikova pripovedka je
  doživela zaradi priljubljenosti številne ponatise. Leta 1917 je izšel 
 prvič Martin Krpan z dvanajstimi ilustracijami Hinka Smrekarja. Danes je 
 najbolj znan tisti iz leta 1954\, ki je opremljen s tridesetimi barvnimi i
 lustracijami Toneta Kralja. Pripovedko Martin Krpan so ilustrirali tudi Lo
 jze Perko\, Klavdij Palčič\, Anton Repnik in drugi. Levstik pa je z nadv
 se močnim in samozavestnim slovenskim junakom pritegnil tudi številne ka
 snejše ustvarjalce. Tako zasledimo Martina Krpana na gledališčih odrih\
 , v zvočni obliki\, v obliki stripa in podobno.\n\nMartin Krpan z Vrha - 
 DEDI Enciklopedija naravne in kulturne dediščine na Slovenskem\n\nZaradi
  uvrstitve&nbsp\;Martina Krpana&nbsp\;v mladinsko književnost je bilo del
 o deležno številnih izdaj. Navedene so prva izdaja zbranega dela in ilus
 trirane izdaje.\n\n 	Frana Levstika zbrano delo&nbsp\;\; Popotovanje iz Li
 tije do Čateža&nbsp\;\; Krpan z Vrha&nbsp\;\; Martin Krpan z Vrha&nbsp\;
 \; Deseti brat. Jugoslovanska knjigarna\, Ljubljana 1931.\n 	Martin Krpan 
 z Vrha. Nova Založba\, Ljubljana 1917. Podobe naslikal Henrik Smrekar. (C
 OBISS)\n 	Martin Krpan z Vrha pri sveti Trojici. Ljudska Tiskarna\, Ljublj
 ana 1943. Ilustriral Lojze Perko. (COBISS)\n 	Martin Krpan z Vrha. Mladins
 ka knjiga\, Ljubljana 1954. Ilustriral Tone Kralj (COBISS)\n 	Martin Krpan
 . Ciciban\, Ljubljana 1964. Narisal Ive Šubic. (COBISS)\n 	Martin Krpan. 
 Mladinska knjiga\, Ljubljana 1977. Ilustriral Marjan Amalietti. (COBISS)\n
  	Martin Kerpàn z Verha. Mladinska knjiga\, Ljubljana 1981. Upodobil Bori
 s Kobe. (COBISS)\n 	Martin Krpan z Vrha. Založništvo tržaškega tiska\,
  Trst 1981. Risal Bard Iucundus [Leobard Oblak]. (COBISS)\n 	Martin Krpan.
  Založništvo tržaškega tiska\, Trst 1983. Originalne ilustracije Klavd
 ij Palčič. (COBISS)\n 	Martin Krpan. Littera\, Ljubljana 1996. Ilustrira
 l Iztok Križan. (COBISS)\n 	Martin Krpan. Taj\, Ljubljana 1996. Narisal A
 nton Repnik. (COBISS)\n 	Martin Krpan. Dan\, Ljubljana 1997. Strip po pove
 sti Frana Levstika narisal Miki Muster. (COBISS)\n 	Martin Krpan z Vrha. D
 elo\, Ljubljana 1999. Ilustracije in oblikovanje Suzana Bricelj. (COBISS)\
 n 	Martin Krpan z Vrha: I. in II. del. Prešernova družba\, Kranj 2009. I
 lustrirala Igor Ribič in Andrej Potrč. (COBISS)\n\nNoč knjige 2017\n\nV
 abilo\n\n[gallery link="file" size="large" ids="eyJ1cmwiOiJodHRwczpcL1wvd3
 d3LmtqdWMuc2lcL3dwLWNvbnRlbnRcL3VwbG9hZHNcLzIwMTdcLzAzXC8yMDE3MDUwOF8xMzEx
 MjQuanBnIiwidGl0bGUiOiIyMDE3MDUwOF8xMzExMjQiLCJjYXB0aW9uIjoiIiwiYWx0IjoiIi
 wiZGVzY3JpcHRpb24iOiIifQ==\,eyJ1cmwiOiJodHRwczpcL1wvd3d3LmtqdWMuc2lcL3dwLW
 NvbnRlbnRcL3VwbG9hZHNcLzIwMTdcLzAzXC8yMDE3MDUwOF8xMzExNTUuanBnIiwidGl0bGUi
 OiIyMDE3MDUwOF8xMzExNTUiLCJjYXB0aW9uIjoiIiwiYWx0IjoiIiwiZGVzY3JpcHRpb24iOi
 IifQ==\,eyJ1cmwiOiJodHRwczpcL1wvd3d3LmtqdWMuc2lcL3dwLWNvbnRlbnRcL3VwbG9hZH
 NcLzIwMTdcLzAzXC8yMDE3MDUwOF8xMzEyMjkuanBnIiwidGl0bGUiOiIyMDE3MDUwOF8xMzEy
 MjkiLCJjYXB0aW9uIjoiIiwiYWx0IjoiIiwiZGVzY3JpcHRpb24iOiIifQ==\,eyJ1cmwiOiJo
 dHRwczpcL1wvd3d3LmtqdWMuc2lcL3dwLWNvbnRlbnRcL3VwbG9hZHNcLzIwMTdcLzAzXC8yMD
 E3MDUwOF8xMzEyNTIuanBnIiwidGl0bGUiOiIyMDE3MDUwOF8xMzEyNTIiLCJjYXB0aW9uIjoi
 IiwiYWx0IjoiIiwiZGVzY3JpcHRpb24iOiIifQ==\,eyJ1cmwiOiJodHRwczpcL1wvd3d3Lmtq
 dWMuc2lcL3dwLWNvbnRlbnRcL3VwbG9hZHNcLzIwMTdcLzAzXC8yMDE3MDUwOF8xMzEzMzguan
 BnIiwidGl0bGUiOiIyMDE3MDUwOF8xMzEzMzgiLCJjYXB0aW9uIjoiIiwiYWx0IjoiIiwiZGVz
 Y3JpcHRpb24iOiIifQ==\,eyJ1cmwiOiJodHRwczpcL1wvd3d3LmtqdWMuc2lcL3dwLWNvbnRl
 bnRcL3VwbG9hZHNcLzIwMTdcLzAzXC8yMDE3MDUwOF8xMzEzNDguanBnIiwidGl0bGUiOiIyMD
 E3MDUwOF8xMzEzNDgiLCJjYXB0aW9uIjoiIiwiYWx0IjoiIiwiZGVzY3JpcHRpb24iOiIifQ==
 \,eyJ1cmwiOiJodHRwczpcL1wvd3d3LmtqdWMuc2lcL3dwLWNvbnRlbnRcL3VwbG9hZHNcLzIw
 MTdcLzAzXC8yMDE3MDUwOF8xMzE0MTcuanBnIiwidGl0bGUiOiIyMDE3MDUwOF8xMzE0MTciLC
 JjYXB0aW9uIjoiIiwiYWx0IjoiIiwiZGVzY3JpcHRpb24iOiIifQ==\,eyJ1cmwiOiJodHRwcz
 pcL1wvd3d3LmtqdWMuc2lcL3dwLWNvbnRlbnRcL3VwbG9hZHNcLzIwMTdcLzAzXC8yMDE3MDUw
 OF8xMzE0MzMuanBnIiwidGl0bGUiOiIyMDE3MDUwOF8xMzE0MzMiLCJjYXB0aW9uIjoiIiwiYW
 x0IjoiIiwiZGVzY3JpcHRpb24iOiIifQ==\,eyJ1cmwiOiJodHRwczpcL1wvd3d3LmtqdWMuc2
 lcL3dwLWNvbnRlbnRcL3VwbG9hZHNcLzIwMTdcLzAzXC8yMDE3MDUwOF8xMzE3MDguanBnIiwi
 dGl0bGUiOiIyMDE3MDUwOF8xMzE3MDgiLCJjYXB0aW9uIjoiIiwiYWx0IjoiIiwiZGVzY3JpcH
 Rpb24iOiIifQ==\,eyJ1cmwiOiJodHRwczpcL1wvd3d3LmtqdWMuc2lcL3dwLWNvbnRlbnRcL3
 VwbG9hZHNcLzIwMTdcLzAzXC8yMDE3MDUwOF8xMzE3MTYuanBnIiwidGl0bGUiOiIyMDE3MDUw
 OF8xMzE3MTYiLCJjYXB0aW9uIjoiIiwiYWx0IjoiIiwiZGVzY3JpcHRpb24iOiIifQ=="]
ATTACH;FMTTYPE=image/jpeg:https://www.kjuc.si/wp-content/uploads/2025/03/k
 onjusnica.jpg
CATEGORIES:Razstave,Za otroke
LOCATION:Knjižnica Jožeta Udoviča Cerknica\, Partizanska cesta 22\, Cerk
 nica\, Slovenia
GEO:45.795484;14.362483
X-APPLE-STRUCTURED-LOCATION;VALUE=URI;X-ADDRESS=Partizanska cesta 22\, Cerk
 nica\, Slovenia;X-APPLE-RADIUS=100;X-TITLE=Knjižnica Jožeta Udoviča Cer
 knica:geo:45.795484,14.362483
END:VEVENT
BEGIN:VTIMEZONE
TZID:Europe/Ljubljana
X-LIC-LOCATION:Europe/Ljubljana
BEGIN:DAYLIGHT
DTSTART:20170326T030000
TZOFFSETFROM:+0100
TZOFFSETTO:+0200
TZNAME:CEST
END:DAYLIGHT
END:VTIMEZONE
END:VCALENDAR