BEGIN:VCALENDAR
VERSION:2.0
PRODID:-//wp-events-plugin.com//7.2.3.1//EN
TZID:Europe/Ljubljana
X-WR-TIMEZONE:Europe/Ljubljana
BEGIN:VEVENT
UID:672@kjuc.si
DTSTART;TZID=Europe/Ljubljana;VALUE=DATE:20180604
DTEND;TZID=Europe/Ljubljana;VALUE=DATE:20180628
DTSTAMP:20250331T102946Z
URL:https://www.kjuc.si/dogodki/razstava-lutk-ob-zakljucenem-projektu-palc
 ek-bralcek/
SUMMARY:Razstava lutk ob zaključenem projektu Palček Bralček
DESCRIPTION:\n\n[gallery link="file" columns="2" size="full" ids="eyJ1cmwiO
 iJodHRwczpcL1wvd3d3LmtqdWMuc2lcL3dwLWNvbnRlbnRcL3VwbG9hZHNcLzIwMThcLzA1XC8
 yMDE4MDUzMV8xMDIxMjAuanBnIiwidGl0bGUiOiIyMDE4MDUzMV8xMDIxMjAiLCJjYXB0aW9uI
 joiIiwiYWx0IjoiIiwiZGVzY3JpcHRpb24iOiIifQ==\,eyJ1cmwiOiJodHRwczpcL1wvd3d3L
 mtqdWMuc2lcL3dwLWNvbnRlbnRcL3VwbG9hZHNcLzIwMThcLzA1XC8yMDE4MDUzMV8xMDIxMzI
 uanBnIiwidGl0bGUiOiIyMDE4MDUzMV8xMDIxMzIiLCJjYXB0aW9uIjoiIiwiYWx0IjoiIiwiZ
 GVzY3JpcHRpb24iOiIifQ==\,eyJ1cmwiOiJodHRwczpcL1wvd3d3LmtqdWMuc2lcL3dwLWNvb
 nRlbnRcL3VwbG9hZHNcLzIwMThcLzA1XC8yMDE4MDUzMV8xMDIxNDQuanBnIiwidGl0bGUiOiI
 yMDE4MDUzMV8xMDIxNDQiLCJjYXB0aW9uIjoiIiwiYWx0IjoiIiwiZGVzY3JpcHRpb24iOiIif
 Q==\,eyJ1cmwiOiJodHRwczpcL1wvd3d3LmtqdWMuc2lcL3dwLWNvbnRlbnRcL3VwbG9hZHNcL
 zIwMThcLzA1XC8yMDE4MDUzMV8xMDIxNTEuanBnIiwidGl0bGUiOiIyMDE4MDUzMV8xMDIxNTE
 iLCJjYXB0aW9uIjoiIiwiYWx0IjoiIiwiZGVzY3JpcHRpb24iOiIifQ==\,eyJ1cmwiOiJodHR
 wczpcL1wvd3d3LmtqdWMuc2lcL3dwLWNvbnRlbnRcL3VwbG9hZHNcLzIwMThcLzA1XC8yMDE4M
 DUzMV8xMDIyMDIuanBnIiwidGl0bGUiOiIyMDE4MDUzMV8xMDIyMDIiLCJjYXB0aW9uIjoiIiw
 iYWx0IjoiIiwiZGVzY3JpcHRpb24iOiIifQ==\,eyJ1cmwiOiJodHRwczpcL1wvd3d3LmtqdWM
 uc2lcL3dwLWNvbnRlbnRcL3VwbG9hZHNcLzIwMThcLzA1XC8yMDE4MDUzMV8xMDIyMDcuanBnI
 iwidGl0bGUiOiIyMDE4MDUzMV8xMDIyMDciLCJjYXB0aW9uIjoiIiwiYWx0IjoiIiwiZGVzY3J
 pcHRpb24iOiIifQ==\,eyJ1cmwiOiJodHRwczpcL1wvd3d3LmtqdWMuc2lcL3dwLWNvbnRlbnR
 cL3VwbG9hZHNcLzIwMThcLzA1XC8yMDE4MDUzMV8xMDIyMTEuanBnIiwidGl0bGUiOiIyMDE4M
 DUzMV8xMDIyMTEiLCJjYXB0aW9uIjoiIiwiYWx0IjoiIiwiZGVzY3JpcHRpb24iOiIifQ=="]
ATTACH;FMTTYPE=image/jpeg:https://www.kjuc.si/wp-content/uploads/2025/03/c
 over-9-5.jpg
CATEGORIES:Razstave
LOCATION:Enota Ivana Matičiča Rakek\, Partizanska cesta 8a\, Rakek\, Slov
 enia
GEO:45.8127;14.319238
X-APPLE-STRUCTURED-LOCATION;VALUE=URI;X-ADDRESS=Partizanska cesta 8a\, Rake
 k\, Slovenia;X-APPLE-RADIUS=100;X-TITLE=Enota Ivana Matičiča Rakek:geo:4
 5.8127,14.319238
END:VEVENT
BEGIN:VTIMEZONE
TZID:Europe/Ljubljana
X-LIC-LOCATION:Europe/Ljubljana
BEGIN:DAYLIGHT
DTSTART:20180325T030000
TZOFFSETFROM:+0100
TZOFFSETTO:+0200
TZNAME:CEST
END:DAYLIGHT
END:VTIMEZONE
END:VCALENDAR