BEGIN:VCALENDAR
VERSION:2.0
PRODID:-//wp-events-plugin.com//7.2.3.1//EN
TZID:Europe/Ljubljana
X-WR-TIMEZONE:Europe/Ljubljana
BEGIN:VEVENT
UID:451@kjuc.si
DTSTART;TZID=Europe/Ljubljana:20170408T000000
DTEND;TZID=Europe/Ljubljana:20170531T000000
DTSTAMP:20250331T100853Z
URL:https://www.kjuc.si/dogodki/razstava-malih-plastik-valvasor-steinberg-
 udovic-izdelki-sestosolcev-os-cerknica-pod-mentorstvom-prof-jerneja-dolnic
 arja/
SUMMARY:Razstava malih plastik: Valvasor\, Steinberg\, Udovič - izdelki š
 estošolcev OŠ Cerknica pod mentorstvom prof. Jerneja Dolničarja
DESCRIPTION:\n\nVabilo\n\n[gallery link="file" columns="4" size="medium" id
 s="eyJ1cmwiOiJodHRwczpcL1wvd3d3LmtqdWMuc2lcL3dwLWNvbnRlbnRcL3VwbG9hZHNcLzI
 wMTdcLzA0XC8yMDE3MDQwN18xMjExNTcuanBnIiwidGl0bGUiOiIyMDE3MDQwN18xMjExNTciL
 CJjYXB0aW9uIjoiIiwiYWx0IjoiIiwiZGVzY3JpcHRpb24iOiIifQ==\,eyJ1cmwiOiJodHRwc
 zpcL1wvd3d3LmtqdWMuc2lcL3dwLWNvbnRlbnRcL3VwbG9hZHNcLzIwMTdcLzA0XC8yMDE3MDQ
 wN18xMjE0MDIuanBnIiwidGl0bGUiOiIyMDE3MDQwN18xMjE0MDIiLCJjYXB0aW9uIjoiIiwiY
 Wx0IjoiIiwiZGVzY3JpcHRpb24iOiIifQ==\,eyJ1cmwiOiJodHRwczpcL1wvd3d3LmtqdWMuc
 2lcL3dwLWNvbnRlbnRcL3VwbG9hZHNcLzIwMTdcLzA0XC8yMDE3MDQwN18xMjE0MTAuanBnIiw
 idGl0bGUiOiIyMDE3MDQwN18xMjE0MTAiLCJjYXB0aW9uIjoiIiwiYWx0IjoiIiwiZGVzY3Jpc
 HRpb24iOiIifQ==\,eyJ1cmwiOiJodHRwczpcL1wvd3d3LmtqdWMuc2lcL3dwLWNvbnRlbnRcL
 3VwbG9hZHNcLzIwMTdcLzA0XC8yMDE3MDQwN18xMjE0MzMuanBnIiwidGl0bGUiOiIyMDE3MDQ
 wN18xMjE0MzMiLCJjYXB0aW9uIjoiIiwiYWx0IjoiIiwiZGVzY3JpcHRpb24iOiIifQ==\,eyJ
 1cmwiOiJodHRwczpcL1wvd3d3LmtqdWMuc2lcL3dwLWNvbnRlbnRcL3VwbG9hZHNcLzIwMTdcL
 zA0XC8yMDE3MDQwN18xMjM2NThfMS5qcGciLCJ0aXRsZSI6IjIwMTcwNDA3XzEyMzY1OF8xIiw
 iY2FwdGlvbiI6IiIsImFsdCI6IiIsImRlc2NyaXB0aW9uIjoiIn0=\,eyJ1cmwiOiJodHRwczp
 cL1wvd3d3LmtqdWMuc2lcL3dwLWNvbnRlbnRcL3VwbG9hZHNcLzIwMTdcLzA0XC8yMDE3MDQxM
 F8xMzU3NTcuanBnIiwidGl0bGUiOiIyMDE3MDQxMF8xMzU3NTciLCJjYXB0aW9uIjoiIiwiYWx
 0IjoiIiwiZGVzY3JpcHRpb24iOiIifQ==\,eyJ1cmwiOiJodHRwczpcL1wvd3d3LmtqdWMuc2l
 cL3dwLWNvbnRlbnRcL3VwbG9hZHNcLzIwMTdcLzA0XC8yMDE3MDQxMF8xNTE4NTQuanBnIiwid
 Gl0bGUiOiIyMDE3MDQxMF8xNTE4NTQiLCJjYXB0aW9uIjoiIiwiYWx0IjoiIiwiZGVzY3JpcHR
 pb24iOiIifQ==\,eyJ1cmwiOiJodHRwczpcL1wvd3d3LmtqdWMuc2lcL3dwLWNvbnRlbnRcL3V
 wbG9hZHNcLzIwMTdcLzA0XC8yMDE3MDQxMF8xMzU4MTguanBnIiwidGl0bGUiOiIyMDE3MDQxM
 F8xMzU4MTgiLCJjYXB0aW9uIjoiIiwiYWx0IjoiIiwiZGVzY3JpcHRpb24iOiIifQ==\,eyJ1c
 mwiOiJodHRwczpcL1wvd3d3LmtqdWMuc2lcL3dwLWNvbnRlbnRcL3VwbG9hZHNcLzIwMTdcLzA
 0XC8yMDE3MDQwN18xMjU2NTQuanBnIiwidGl0bGUiOiIyMDE3MDQwN18xMjU2NTQiLCJjYXB0a
 W9uIjoiIiwiYWx0IjoiIiwiZGVzY3JpcHRpb24iOiIifQ==\,eyJ1cmwiOiJodHRwczpcL1wvd
 3d3LmtqdWMuc2lcL3dwLWNvbnRlbnRcL3VwbG9hZHNcLzIwMTdcLzA0XC8yMDE3MDQwN18xMjU
 2NTcuanBnIiwidGl0bGUiOiIyMDE3MDQwN18xMjU2NTciLCJjYXB0aW9uIjoiIiwiYWx0IjoiI
 iwiZGVzY3JpcHRpb24iOiIifQ==\,eyJ1cmwiOiJodHRwczpcL1wvd3d3LmtqdWMuc2lcL3dwL
 WNvbnRlbnRcL3VwbG9hZHNcLzIwMTdcLzA0XC8yMDE3MDQwN18xMjU3MDEuanBnIiwidGl0bGU
 iOiIyMDE3MDQwN18xMjU3MDEiLCJjYXB0aW9uIjoiIiwiYWx0IjoiIiwiZGVzY3JpcHRpb24iO
 iIifQ==\,eyJ1cmwiOiJodHRwczpcL1wvd3d3LmtqdWMuc2lcL3dwLWNvbnRlbnRcL3VwbG9hZ
 HNcLzIwMTdcLzA0XC8yMDE3MDQwN18xMjU2NTRfMS5qcGciLCJ0aXRsZSI6IjIwMTcwNDA3XzE
 yNTY1NF8xIiwiY2FwdGlvbiI6IiIsImFsdCI6IiIsImRlc2NyaXB0aW9uIjoiIn0="]\n\n&nb
 sp\;
ATTACH;FMTTYPE=image/jpeg:https://www.kjuc.si/wp-content/uploads/2025/03/m
 ale-plastike.jpg
CATEGORIES:Razno,Razstave,Za otroke
LOCATION:Knjižnica Jožeta Udoviča Cerknica\, Partizanska cesta 22\, Cerk
 nica\, Slovenia
GEO:45.795484;14.362483
X-APPLE-STRUCTURED-LOCATION;VALUE=URI;X-ADDRESS=Partizanska cesta 22\, Cerk
 nica\, Slovenia;X-APPLE-RADIUS=100;X-TITLE=Knjižnica Jožeta Udoviča Cer
 knica:geo:45.795484,14.362483
END:VEVENT
BEGIN:VTIMEZONE
TZID:Europe/Ljubljana
X-LIC-LOCATION:Europe/Ljubljana
BEGIN:DAYLIGHT
DTSTART:20170326T030000
TZOFFSETFROM:+0100
TZOFFSETTO:+0200
TZNAME:CEST
END:DAYLIGHT
END:VTIMEZONE
END:VCALENDAR