BEGIN:VCALENDAR
VERSION:2.0
PRODID:-//wp-events-plugin.com//7.2.3.1//EN
TZID:Europe/Ljubljana
X-WR-TIMEZONE:Europe/Ljubljana
BEGIN:VEVENT
UID:1370@kjuc.si
DTSTART;TZID=Europe/Ljubljana;VALUE=DATE:20221108
DTEND;TZID=Europe/Ljubljana;VALUE=DATE:20221229
DTSTAMP:20250331T104047Z
URL:https://www.kjuc.si/dogodki/razstava-unikatnih-voscilnic-veronika-modi
 c-clanice-drustva-klasje-cerknica/
SUMMARY:Razstava unikatnih voščilnic Veronika Modic\, članice društva K
 lasje Cerknica
DESCRIPTION:\n\nVeronikaModic.Klasje
ATTACH;FMTTYPE=image/jpeg:https://www.kjuc.si/wp-content/uploads/2025/03/V
 eronikaModic.Klasje-page-0012.jpg
CATEGORIES:Razno,Razstave
LOCATION:Enota Ivana Čampa Nova vas\, Nova vas 4a\, Nova vas\, Slovenia
GEO:45.363149;13.640599
X-APPLE-STRUCTURED-LOCATION;VALUE=URI;X-ADDRESS=Nova vas 4a\, Nova vas\, Sl
 ovenia;X-APPLE-RADIUS=100;X-TITLE=Enota Ivana Čampa Nova vas:geo:45.36314
 9,13.640599
END:VEVENT
BEGIN:VTIMEZONE
TZID:Europe/Ljubljana
X-LIC-LOCATION:Europe/Ljubljana
BEGIN:STANDARD
DTSTART:20221030T020000
TZOFFSETFROM:+0200
TZOFFSETTO:+0100
TZNAME:CET
END:STANDARD
END:VTIMEZONE
END:VCALENDAR