BEGIN:VCALENDAR
VERSION:2.0
PRODID:-//wp-events-plugin.com//7.2.3.1//EN
TZID:Europe/Ljubljana
X-WR-TIMEZONE:Europe/Ljubljana
BEGIN:VEVENT
UID:472@kjuc.si
DTSTART;TZID=Europe/Ljubljana:20170525T170000
DTEND;TZID=Europe/Ljubljana:20170525T180000
DTSTAMP:20250331T100935Z
URL:https://www.kjuc.si/dogodki/roznata-pravljicna-urica-z-ustvarjalno-del
 avnico-za-otroke-od-4-leta-dalje/
SUMMARY:Rožnata pravljična urica z ustvarjalno delavnico za otroke od 4. 
 leta dalje
DESCRIPTION:\n\n&nbsp\;\n\n[gallery link="none" size="full" ids="eyJ1cmwiOi
 JodHRwczpcL1wvd3d3LmtqdWMuc2lcL3dwLWNvbnRlbnRcL3VwbG9hZHNcLzIwMTdcLzA1XC9Q
 NTI1MDAwMS5qcGciLCJ0aXRsZSI6IlA1MjUwMDAxIiwiY2FwdGlvbiI6IiIsImFsdCI6IiIsIm
 Rlc2NyaXB0aW9uIjoiIn0=\,eyJ1cmwiOiJodHRwczpcL1wvd3d3LmtqdWMuc2lcL3dwLWNvbn
 RlbnRcL3VwbG9hZHNcLzIwMTdcLzA1XC9QNTI1MDAwNi5qcGciLCJ0aXRsZSI6IlA1MjUwMDA2
 IiwiY2FwdGlvbiI6IiIsImFsdCI6IiIsImRlc2NyaXB0aW9uIjoiIn0=\,eyJ1cmwiOiJodHRw
 czpcL1wvd3d3LmtqdWMuc2lcL3dwLWNvbnRlbnRcL3VwbG9hZHNcLzIwMTdcLzA1XC9QNTI1MD
 AwOC5qcGciLCJ0aXRsZSI6IlA1MjUwMDA4IiwiY2FwdGlvbiI6IiIsImFsdCI6IiIsImRlc2Ny
 aXB0aW9uIjoiIn0=\,eyJ1cmwiOiJodHRwczpcL1wvd3d3LmtqdWMuc2lcL3dwLWNvbnRlbnRc
 L3VwbG9hZHNcLzIwMTdcLzA1XC9QNTI1MDAwOS5qcGciLCJ0aXRsZSI6IlA1MjUwMDA5IiwiY2
 FwdGlvbiI6IiIsImFsdCI6IiIsImRlc2NyaXB0aW9uIjoiIn0=\,eyJ1cmwiOiJodHRwczpcL1
 wvd3d3LmtqdWMuc2lcL3dwLWNvbnRlbnRcL3VwbG9hZHNcLzIwMTdcLzA1XC9QNTI1MDAxMC5q
 cGciLCJ0aXRsZSI6IlA1MjUwMDEwIiwiY2FwdGlvbiI6IiIsImFsdCI6IiIsImRlc2NyaXB0aW
 9uIjoiIn0=\,eyJ1cmwiOiJodHRwczpcL1wvd3d3LmtqdWMuc2lcL3dwLWNvbnRlbnRcL3VwbG
 9hZHNcLzIwMTdcLzA1XC9QNTI1MDAxMS5qcGciLCJ0aXRsZSI6IlA1MjUwMDExIiwiY2FwdGlv
 biI6IiIsImFsdCI6IiIsImRlc2NyaXB0aW9uIjoiIn0=\,eyJ1cmwiOiJodHRwczpcL1wvd3d3
 LmtqdWMuc2lcL3dwLWNvbnRlbnRcL3VwbG9hZHNcLzIwMTdcLzA1XC9QNTI1MDAxMi5qcGciLC
 J0aXRsZSI6IlA1MjUwMDEyIiwiY2FwdGlvbiI6IiIsImFsdCI6IiIsImRlc2NyaXB0aW9uIjoi
 In0=\,eyJ1cmwiOiJodHRwczpcL1wvd3d3LmtqdWMuc2lcL3dwLWNvbnRlbnRcL3VwbG9hZHNc
 LzIwMTdcLzA1XC9QNTI1MDAxNC5qcGciLCJ0aXRsZSI6IlA1MjUwMDE0IiwiY2FwdGlvbiI6Ii
 IsImFsdCI6IiIsImRlc2NyaXB0aW9uIjoiIn0=\,eyJ1cmwiOiJodHRwczpcL1wvd3d3LmtqdW
 Muc2lcL3dwLWNvbnRlbnRcL3VwbG9hZHNcLzIwMTdcLzA1XC9QNTI1MDAxNy5qcGciLCJ0aXRs
 ZSI6IlA1MjUwMDE3IiwiY2FwdGlvbiI6IiIsImFsdCI6IiIsImRlc2NyaXB0aW9uIjoiIn0=\,
 eyJ1cmwiOiJodHRwczpcL1wvd3d3LmtqdWMuc2lcL3dwLWNvbnRlbnRcL3VwbG9hZHNcLzIwMT
 dcLzA1XC9QNTI1MDAxOC5qcGciLCJ0aXRsZSI6IlA1MjUwMDE4IiwiY2FwdGlvbiI6IiIsImFs
 dCI6IiIsImRlc2NyaXB0aW9uIjoiIn0=\,eyJ1cmwiOiJodHRwczpcL1wvd3d3LmtqdWMuc2lc
 L3dwLWNvbnRlbnRcL3VwbG9hZHNcLzIwMTdcLzA1XC9QNTI1MDAyMi5qcGciLCJ0aXRsZSI6Il
 A1MjUwMDIyIiwiY2FwdGlvbiI6IiIsImFsdCI6IiIsImRlc2NyaXB0aW9uIjoiIn0=\,eyJ1cm
 wiOiJodHRwczpcL1wvd3d3LmtqdWMuc2lcL3dwLWNvbnRlbnRcL3VwbG9hZHNcLzIwMTdcLzA1
 XC9QNTI1MDAyMy5qcGciLCJ0aXRsZSI6IlA1MjUwMDIzIiwiY2FwdGlvbiI6IiIsImFsdCI6Ii
 IsImRlc2NyaXB0aW9uIjoiIn0=\,eyJ1cmwiOiJodHRwczpcL1wvd3d3LmtqdWMuc2lcL3dwLW
 NvbnRlbnRcL3VwbG9hZHNcLzIwMTdcLzA1XC9QNTI1MDAyNS5qcGciLCJ0aXRsZSI6IlA1MjUw
 MDI1IiwiY2FwdGlvbiI6IiIsImFsdCI6IiIsImRlc2NyaXB0aW9uIjoiIn0=\,eyJ1cmwiOiJo
 dHRwczpcL1wvd3d3LmtqdWMuc2lcL3dwLWNvbnRlbnRcL3VwbG9hZHNcLzIwMTdcLzA1XC9QNT
 I1MDAyNi5qcGciLCJ0aXRsZSI6IlA1MjUwMDI2IiwiY2FwdGlvbiI6IiIsImFsdCI6IiIsImRl
 c2NyaXB0aW9uIjoiIn0=\,eyJ1cmwiOiJodHRwczpcL1wvd3d3LmtqdWMuc2lcL3dwLWNvbnRl
 bnRcL3VwbG9hZHNcLzIwMTdcLzA1XC9QNTI1MDAyNy5qcGciLCJ0aXRsZSI6IlA1MjUwMDI3Ii
 wiY2FwdGlvbiI6IiIsImFsdCI6IiIsImRlc2NyaXB0aW9uIjoiIn0=\,eyJ1cmwiOiJodHRwcz
 pcL1wvd3d3LmtqdWMuc2lcL3dwLWNvbnRlbnRcL3VwbG9hZHNcLzIwMTdcLzA1XC9QNTI1MDAy
 OS5qcGciLCJ0aXRsZSI6IlA1MjUwMDI5IiwiY2FwdGlvbiI6IiIsImFsdCI6IiIsImRlc2NyaX
 B0aW9uIjoiIn0=\,eyJ1cmwiOiJodHRwczpcL1wvd3d3LmtqdWMuc2lcL3dwLWNvbnRlbnRcL3
 VwbG9hZHNcLzIwMTdcLzA1XC9QNTI1MDAzMi5qcGciLCJ0aXRsZSI6IlA1MjUwMDMyIiwiY2Fw
 dGlvbiI6IiIsImFsdCI6IiIsImRlc2NyaXB0aW9uIjoiIn0=\,eyJ1cmwiOiJodHRwczpcL1wv
 d3d3LmtqdWMuc2lcL3dwLWNvbnRlbnRcL3VwbG9hZHNcLzIwMTdcLzA1XC9QNTI1MDAzNS5qcG
 ciLCJ0aXRsZSI6IlA1MjUwMDM1IiwiY2FwdGlvbiI6IiIsImFsdCI6IiIsImRlc2NyaXB0aW9u
 IjoiIn0=\,eyJ1cmwiOiJodHRwczpcL1wvd3d3LmtqdWMuc2lcL3dwLWNvbnRlbnRcL3VwbG9h
 ZHNcLzIwMTdcLzA1XC9QNTI1MDAzNi5qcGciLCJ0aXRsZSI6IlA1MjUwMDM2IiwiY2FwdGlvbi
 I6IiIsImFsdCI6IiIsImRlc2NyaXB0aW9uIjoiIn0=\,eyJ1cmwiOiJodHRwczpcL1wvd3d3Lm
 tqdWMuc2lcL3dwLWNvbnRlbnRcL3VwbG9hZHNcLzIwMTdcLzA1XC9QNTI1MDA0NS5qcGciLCJ0
 aXRsZSI6IlA1MjUwMDQ1IiwiY2FwdGlvbiI6IiIsImFsdCI6IiIsImRlc2NyaXB0aW9uIjoiIn
 0="]
ATTACH;FMTTYPE=image/jpeg:https://www.kjuc.si/wp-content/uploads/2025/03/i
 mages-1-1.jpg
CATEGORIES:Za otroke
LOCATION:Knjižnica Jožeta Udoviča Cerknica\, Partizanska cesta 22\, Cerk
 nica\, Slovenia
GEO:45.795484;14.362483
X-APPLE-STRUCTURED-LOCATION;VALUE=URI;X-ADDRESS=Partizanska cesta 22\, Cerk
 nica\, Slovenia;X-APPLE-RADIUS=100;X-TITLE=Knjižnica Jožeta Udoviča Cer
 knica:geo:45.795484,14.362483
END:VEVENT
BEGIN:VTIMEZONE
TZID:Europe/Ljubljana
X-LIC-LOCATION:Europe/Ljubljana
BEGIN:DAYLIGHT
DTSTART:20170326T030000
TZOFFSETFROM:+0100
TZOFFSETTO:+0200
TZNAME:CEST
END:DAYLIGHT
END:VTIMEZONE
END:VCALENDAR