BEGIN:VCALENDAR
VERSION:2.0
PRODID:-//wp-events-plugin.com//7.2.3.1//EN
TZID:Europe/Ljubljana
X-WR-TIMEZONE:Europe/Ljubljana
BEGIN:VEVENT
UID:909@kjuc.si
DTSTART;TZID=Europe/Ljubljana:20190927T170000
DTEND;TZID=Europe/Ljubljana:20190927T180000
DTSTAMP:20250331T103418Z
URL:https://www.kjuc.si/dogodki/septembrsko-pravljicno-druzenje-z-ustvarja
 lno-delavnico-za-otroke-od-4-leta-dalje-2/
SUMMARY:Septembrsko pravljično druženje z ustvarjalno delavnico za otroke
  od 4. leta dalje
DESCRIPTION:\n\n[gallery link="file" columns="2" size="full" ids="eyJ1cmwiO
 iJodHRwczpcL1wvd3d3LmtqdWMuc2lcL3dwLWNvbnRlbnRcL3VwbG9hZHNcLzIwMTlcLzA5XC9
 JTUdfMjAxOTA5MjdfMTc1MDE1LmpwZyIsInRpdGxlIjoiZGF2IiwiY2FwdGlvbiI6IiIsImFsd
 CI6IiIsImRlc2NyaXB0aW9uIjoiIn0=\,eyJ1cmwiOiJodHRwczpcL1wvd3d3LmtqdWMuc2lcL
 3dwLWNvbnRlbnRcL3VwbG9hZHNcLzIwMTlcLzA5XC9JTUdfMjAxOTA5MjdfMTgwMzEzLmpwZyI
 sInRpdGxlIjoiZGF2IiwiY2FwdGlvbiI6IiIsImFsdCI6IiIsImRlc2NyaXB0aW9uIjoiIn0=\
 ,eyJ1cmwiOiJodHRwczpcL1wvd3d3LmtqdWMuc2lcL3dwLWNvbnRlbnRcL3VwbG9hZHNcLzIwM
 TlcLzA5XC9JTUdfMjAxOTA5MjdfMTgwMzI1LmpwZyIsInRpdGxlIjoiZGF2IiwiY2FwdGlvbiI
 6IiIsImFsdCI6IiIsImRlc2NyaXB0aW9uIjoiIn0=\,eyJ1cmwiOiJodHRwczpcL1wvd3d3Lmt
 qdWMuc2lcL3dwLWNvbnRlbnRcL3VwbG9hZHNcLzIwMTlcLzA5XC9JTUdfMjAxOTA5MjdfMTgwN
 TA2LmpwZyIsInRpdGxlIjoiZGF2IiwiY2FwdGlvbiI6IiIsImFsdCI6IiIsImRlc2NyaXB0aW9
 uIjoiIn0=\,eyJ1cmwiOiJodHRwczpcL1wvd3d3LmtqdWMuc2lcL3dwLWNvbnRlbnRcL3VwbG9
 hZHNcLzIwMTlcLzA5XC9JTUdfMjAxOTA5MjdfMTgwNTI2LmpwZyIsInRpdGxlIjoiZGF2IiwiY
 2FwdGlvbiI6IiIsImFsdCI6IiIsImRlc2NyaXB0aW9uIjoiIn0="]
ATTACH;FMTTYPE=image/jpeg:https://www.kjuc.si/wp-content/uploads/2025/03/c
 over-6-15.jpg
CATEGORIES:Za otroke
LOCATION:Knjižnica Jožeta Udoviča Cerknica\, Partizanska cesta 22\, Cerk
 nica\, Slovenia
GEO:45.795484;14.362483
X-APPLE-STRUCTURED-LOCATION;VALUE=URI;X-ADDRESS=Partizanska cesta 22\, Cerk
 nica\, Slovenia;X-APPLE-RADIUS=100;X-TITLE=Knjižnica Jožeta Udoviča Cer
 knica:geo:45.795484,14.362483
END:VEVENT
BEGIN:VTIMEZONE
TZID:Europe/Ljubljana
X-LIC-LOCATION:Europe/Ljubljana
BEGIN:DAYLIGHT
DTSTART:20190331T030000
TZOFFSETFROM:+0100
TZOFFSETTO:+0200
TZNAME:CEST
END:DAYLIGHT
END:VTIMEZONE
END:VCALENDAR