BEGIN:VCALENDAR
VERSION:2.0
PRODID:-//wp-events-plugin.com//7.2.3.1//EN
TZID:Europe/Ljubljana
X-WR-TIMEZONE:Europe/Ljubljana
BEGIN:VEVENT
UID:479@kjuc.si
DTSTART;TZID=Europe/Ljubljana:20170607T170000
DTEND;TZID=Europe/Ljubljana:20170607T180000
DTSTAMP:20250331T100955Z
URL:https://www.kjuc.si/dogodki/sinjemodra-pravljicna-urica-z-ustvarjalno-
 delavnico-za-otroke-od-4-leta-dalje/
SUMMARY:Sinjemodra pravljična urica z ustvarjalno delavnico za otroke od 4
 . leta dalje
DESCRIPTION:\n\n[gallery link="file" columns="4" size="medium" ids="eyJ1cmw
 iOiJodHRwczpcL1wvd3d3LmtqdWMuc2lcL3dwLWNvbnRlbnRcL3VwbG9hZHNcLzIwMTdcLzA1X
 C9QNjA3MDAxOC5qcGciLCJ0aXRsZSI6IlA2MDcwMDE4IiwiY2FwdGlvbiI6IiIsImFsdCI6IiI
 sImRlc2NyaXB0aW9uIjoiIn0=\,eyJ1cmwiOiJodHRwczpcL1wvd3d3LmtqdWMuc2lcL3dwLWN
 vbnRlbnRcL3VwbG9hZHNcLzIwMTdcLzA1XC9QNjA3MDAxOS5qcGciLCJ0aXRsZSI6IlA2MDcwM
 DE5IiwiY2FwdGlvbiI6IiIsImFsdCI6IiIsImRlc2NyaXB0aW9uIjoiIn0=\,eyJ1cmwiOiJod
 HRwczpcL1wvd3d3LmtqdWMuc2lcL3dwLWNvbnRlbnRcL3VwbG9hZHNcLzIwMTdcLzA1XC9QNjA
 3MDAyMS5qcGciLCJ0aXRsZSI6IlA2MDcwMDIxIiwiY2FwdGlvbiI6IiIsImFsdCI6IiIsImRlc
 2NyaXB0aW9uIjoiIn0=\,eyJ1cmwiOiJodHRwczpcL1wvd3d3LmtqdWMuc2lcL3dwLWNvbnRlb
 nRcL3VwbG9hZHNcLzIwMTdcLzA1XC9QNjA3MDAyMy5qcGciLCJ0aXRsZSI6IlA2MDcwMDIzIiw
 iY2FwdGlvbiI6IiIsImFsdCI6IiIsImRlc2NyaXB0aW9uIjoiIn0=\,eyJ1cmwiOiJodHRwczp
 cL1wvd3d3LmtqdWMuc2lcL3dwLWNvbnRlbnRcL3VwbG9hZHNcLzIwMTdcLzA1XC9QNjA3MDAyN
 C5qcGciLCJ0aXRsZSI6IlA2MDcwMDI0IiwiY2FwdGlvbiI6IiIsImFsdCI6IiIsImRlc2NyaXB
 0aW9uIjoiIn0=\,eyJ1cmwiOiJodHRwczpcL1wvd3d3LmtqdWMuc2lcL3dwLWNvbnRlbnRcL3V
 wbG9hZHNcLzIwMTdcLzA1XC9QNjA3MDAyNS5qcGciLCJ0aXRsZSI6IlA2MDcwMDI1IiwiY2Fwd
 GlvbiI6IiIsImFsdCI6IiIsImRlc2NyaXB0aW9uIjoiIn0=\,eyJ1cmwiOiJodHRwczpcL1wvd
 3d3LmtqdWMuc2lcL3dwLWNvbnRlbnRcL3VwbG9hZHNcLzIwMTdcLzA1XC9QNjA3MDAyNi5qcGc
 iLCJ0aXRsZSI6IlA2MDcwMDI2IiwiY2FwdGlvbiI6IiIsImFsdCI6IiIsImRlc2NyaXB0aW9uI
 joiIn0=\,eyJ1cmwiOiJodHRwczpcL1wvd3d3LmtqdWMuc2lcL3dwLWNvbnRlbnRcL3VwbG9hZ
 HNcLzIwMTdcLzA1XC9QNjA3MDAyNy5qcGciLCJ0aXRsZSI6IlA2MDcwMDI3IiwiY2FwdGlvbiI
 6IiIsImFsdCI6IiIsImRlc2NyaXB0aW9uIjoiIn0=\,eyJ1cmwiOiJodHRwczpcL1wvd3d3Lmt
 qdWMuc2lcL3dwLWNvbnRlbnRcL3VwbG9hZHNcLzIwMTdcLzA1XC9QNjA3MDAyOC5qcGciLCJ0a
 XRsZSI6IlA2MDcwMDI4IiwiY2FwdGlvbiI6IiIsImFsdCI6IiIsImRlc2NyaXB0aW9uIjoiIn0
 =\,eyJ1cmwiOiJodHRwczpcL1wvd3d3LmtqdWMuc2lcL3dwLWNvbnRlbnRcL3VwbG9hZHNcLzI
 wMTdcLzA1XC9QNjA3MDAyOS5qcGciLCJ0aXRsZSI6IlA2MDcwMDI5IiwiY2FwdGlvbiI6IiIsI
 mFsdCI6IiIsImRlc2NyaXB0aW9uIjoiIn0=\,eyJ1cmwiOiJodHRwczpcL1wvd3d3LmtqdWMuc
 2lcL3dwLWNvbnRlbnRcL3VwbG9hZHNcLzIwMTdcLzA1XC9QNjA3MDAzMC5qcGciLCJ0aXRsZSI
 6IlA2MDcwMDMwIiwiY2FwdGlvbiI6IiIsImFsdCI6IiIsImRlc2NyaXB0aW9uIjoiIn0=\,eyJ
 1cmwiOiJodHRwczpcL1wvd3d3LmtqdWMuc2lcL3dwLWNvbnRlbnRcL3VwbG9hZHNcLzIwMTdcL
 zA1XC9QNjA3MDAzMi5qcGciLCJ0aXRsZSI6IlA2MDcwMDMyIiwiY2FwdGlvbiI6IiIsImFsdCI
 6IiIsImRlc2NyaXB0aW9uIjoiIn0=\,eyJ1cmwiOiJodHRwczpcL1wvd3d3LmtqdWMuc2lcL3d
 wLWNvbnRlbnRcL3VwbG9hZHNcLzIwMTdcLzA1XC9QNjA3MDAzNC5qcGciLCJ0aXRsZSI6IlA2M
 DcwMDM0IiwiY2FwdGlvbiI6IiIsImFsdCI6IiIsImRlc2NyaXB0aW9uIjoiIn0=\,eyJ1cmwiO
 iJodHRwczpcL1wvd3d3LmtqdWMuc2lcL3dwLWNvbnRlbnRcL3VwbG9hZHNcLzIwMTdcLzA1XC9
 QNjA3MDAzNy5qcGciLCJ0aXRsZSI6IlA2MDcwMDM3IiwiY2FwdGlvbiI6IiIsImFsdCI6IiIsI
 mRlc2NyaXB0aW9uIjoiIn0="]
ATTACH;FMTTYPE=image/jpeg:https://www.kjuc.si/wp-content/uploads/2025/03/4
 972517651_e0092751d6_b.jpg
CATEGORIES:Za otroke
LOCATION:Knjižnica Jožeta Udoviča Cerknica\, Partizanska cesta 22\, Cerk
 nica\, Slovenia
GEO:45.795484;14.362483
X-APPLE-STRUCTURED-LOCATION;VALUE=URI;X-ADDRESS=Partizanska cesta 22\, Cerk
 nica\, Slovenia;X-APPLE-RADIUS=100;X-TITLE=Knjižnica Jožeta Udoviča Cer
 knica:geo:45.795484,14.362483
END:VEVENT
BEGIN:VTIMEZONE
TZID:Europe/Ljubljana
X-LIC-LOCATION:Europe/Ljubljana
BEGIN:DAYLIGHT
DTSTART:20170326T030000
TZOFFSETFROM:+0100
TZOFFSETTO:+0200
TZNAME:CEST
END:DAYLIGHT
END:VTIMEZONE
END:VCALENDAR