BEGIN:VCALENDAR
VERSION:2.0
PRODID:-//wp-events-plugin.com//7.2.3.1//EN
TZID:Europe/Ljubljana
X-WR-TIMEZONE:Europe/Ljubljana
BEGIN:VEVENT
UID:1873@kjuc.si
DTSTART;TZID=Europe/Ljubljana:20250108T180000
DTEND;TZID=Europe/Ljubljana:20250108T190000
DTSTAMP:20250331T104728Z
URL:https://www.kjuc.si/dogodki/slavka-repolusk-rocno-izdelane-svece-in-sv
 ecniki/
SUMMARY:Slavka Repolusk - Ročno izdelane sveče in svečniki
DESCRIPTION: Ročno izdelane sveče\n\nRakovčanka Slavka Repolusk je že c
 elo življenje ljubiteljica in občudovalka ročnih in unikatnih predmetov
 . S spoštovanjem do kulturne dediščine hrani številna dragocena ročna
  dela in rokodelske izdelke. Med njimi je tudi bogata zbirka sveč in sve
 čnikov. Nekateri kosi so del dediščine po mami in babici.\n\nSveče so 
 v sodobnem času\, predvsem s prihodom električne energije\, izgubile svo
 jo pomembno vlogo razsvetljevanja domov. Gospa Slavka pripada generaciji\,
  ki je kar nekaj domačih nalog še napisala ob sveči. Z njimi so varčev
 ali\, tako kot pozneje z elektriko\, saj so bile drage.\n\nTo je le eden i
 zmed spominov\, ki jih je 8. januarja delila z obiskovalci knjižnice na R
 akeku.\n\nS knjižničarko Neveno Savić sta pripravili tudi krajši etnol
 oški in zgodovinski pregled svečarstva - obrti\, ki &nbsp\;sta jo pogost
 o v isti delavnici spremljala tudi medičarstvo in lectarstvo. Te tri obrt
 i\, tesno povezane s čebelarstvom\, žal izumirajo. V Sloveniji je le še
  sedem aktivnih delavnic.\n\nPridobivanje voska na Slovenskem je v urbarji
 h zapisano že v 13. stoletju. Tako kot drugod po Evropi so tudi pri nas n
 ajprej sveče izdelovali v samostanih. Sčasoma se je razvijalo svečarstv
 o.\n\nCerkev je bila velik porabnik sveč\, saj voščene sveče niso le r
 azsvetljevale prostora\, temveč so simbolizirale božjo prisotnost pri bo
 goslužnih obredih. V novem veku so v cerkvah predpisali obvezno uporabo s
 več iz čebeljega voska\, saj gorijo »čisto«\, kar pomeni\, da ne odda
 jajo črnih saj in pri topljenju ne puščajo skoraj nič voska.\n\nIzdelo
 vali so različne vrste sveč (dolge oblivane sveče\, gnetene\, zvitke). 
 Voščene zvitke so uporabljali predvsem revnejši sloji prebivalcev\, ki 
 si pravih sveč niso mogli privoščiti. Vosek so belili na velikih lesah\
 , ki so jih ob sončnem vremenu potegnili izpod podstrehe. Postopek je bil
  zamuden in dolgotrajen\, z njim pa so pridobili bel vosek brez vsakih pri
 mesi\, predvsem cvetnega prahu\, ki vosek značilno rumeno obarva.\n\nDolg
 e sveče so izdelovali s pomočjo »ringa«\, okrogle plošče s kavlji za
  stenj\, nameščene na drog. Večkrat so oblili svečo\, debelejša je bi
 la. Na koncu so jih sneli in stehtali\, saj je bila cena določena glede n
 a težo in ne na velikost. Izdelovali so tudi t. i. votivne kipce\, ki so 
 jih romarji prinašali v cerkve. Oblikovali so jih najprej ročno\, nato p
 a tudi s tehniko vlivanja voska v kalupe\, ki so imeli razne simbolne podo
 be.\n\nŽivalski liki so predstavljali zdravje živine v hlevu\, kipi doje
 nčkov so bili priprošnja za srečen porod in zdravje novorojenčka\, del
 i telesa\, kot so roka ali noga\, so pomenili njihovo zdravje\, dvoje oči
  zdrav vid ipd.\n\nSvoje izdelke so lectarji in svečarji prodajali v prod
 ajalnah ob delavnicah\, več so zaslužili na raznih sejmih\, tržnih dneh
  in cerkvenih žegnanjih\, kjer so izdelke prodajali na stojnicah. Za prod
 ajo so potrebovali dovoljenje\, saj je država od tega pobirala davek. Pre
 lomnica v svečarstvu je bila v obdobju med 1819 in 1830\, ko so iznašli 
 najprej stearin in kasneje parafin. Začela se je tovarniška proizvodnja 
 sveč\, na Slovenskem je prednjačila tovarna Ilirija. Nove surovine so za
 čeli uporabljati tudi svečarji.\n\nVabljeni k ogledu razstave do konca f
 ebruarja 2025.\n\nNevena Savić\n\n&nbsp\;\n\nViri:\n\nBole\, Petra: Žive
 ti skupaj: o čebeli in človeku. Radovljica : Muzeji radovljiške občine
 \, 2021\n\nEsenko\, Ivan: Svet čebel: o čebelah in čebelarstvu v Sloven
 iji. Ljubljana : Družina\, 2018\n\n[gallery link="none" size="full" ids="
 eyJ1cmwiOiJodHRwczpcL1wvd3d3LmtqdWMuc2lcL3dwLWNvbnRlbnRcL3VwbG9hZHNcLzIwMj
 RcLzEyXC8yMDI1MDEwOF8xODU0MjIuanBnIiwidGl0bGUiOiIyMDI1MDEwOF8xODU0MjIiLCJj
 YXB0aW9uIjoiIiwiYWx0IjoiIiwiZGVzY3JpcHRpb24iOiIifQ==\,eyJ1cmwiOiJodHRwczpc
 L1wvd3d3LmtqdWMuc2lcL3dwLWNvbnRlbnRcL3VwbG9hZHNcLzIwMjRcLzEyXC8yMDI1MDEwOF
 8xODE5NTYuanBnIiwidGl0bGUiOiIyMDI1MDEwOF8xODE5NTYiLCJjYXB0aW9uIjoiIiwiYWx0
 IjoiIiwiZGVzY3JpcHRpb24iOiIifQ==\,eyJ1cmwiOiJodHRwczpcL1wvd3d3LmtqdWMuc2lc
 L3dwLWNvbnRlbnRcL3VwbG9hZHNcLzIwMjRcLzEyXC8yMDI1MDEwOF8xODA5MzYuanBnIiwidG
 l0bGUiOiIyMDI1MDEwOF8xODA5MzYiLCJjYXB0aW9uIjoiIiwiYWx0IjoiIiwiZGVzY3JpcHRp
 b24iOiIifQ==\,eyJ1cmwiOiJodHRwczpcL1wvd3d3LmtqdWMuc2lcL3dwLWNvbnRlbnRcL3Vw
 bG9hZHNcLzIwMjRcLzEyXC8yMDI1MDEwOF8xODA5MjQuanBnIiwidGl0bGUiOiIyMDI1MDEwOF
 8xODA5MjQiLCJjYXB0aW9uIjoiIiwiYWx0IjoiIiwiZGVzY3JpcHRpb24iOiIifQ=="]
ATTACH;FMTTYPE=image/jpeg:https://www.kjuc.si/wp-content/uploads/2025/03/R
 ocno-izdelane-svece.jpg
CATEGORIES:Predstavitve,Prireditev
LOCATION:Enota Ivana Matičiča Rakek\, Partizanska cesta 8a\, Rakek\, Slov
 enia
GEO:45.8127;14.319238
X-APPLE-STRUCTURED-LOCATION;VALUE=URI;X-ADDRESS=Partizanska cesta 8a\, Rake
 k\, Slovenia;X-APPLE-RADIUS=100;X-TITLE=Enota Ivana Matičiča Rakek:geo:4
 5.8127,14.319238
END:VEVENT
BEGIN:VTIMEZONE
TZID:Europe/Ljubljana
X-LIC-LOCATION:Europe/Ljubljana
BEGIN:STANDARD
DTSTART:20241027T020000
TZOFFSETFROM:+0200
TZOFFSETTO:+0100
TZNAME:CET
END:STANDARD
END:VTIMEZONE
END:VCALENDAR