BEGIN:VCALENDAR
VERSION:2.0
PRODID:-//wp-events-plugin.com//7.2.3.1//EN
TZID:Europe/Ljubljana
X-WR-TIMEZONE:Europe/Ljubljana
BEGIN:VEVENT
UID:1846@kjuc.si
DTSTART;TZID=Europe/Ljubljana:20241203T180000
DTEND;TZID=Europe/Ljubljana:20241203T190000
DTSTAMP:20250331T104712Z
URL:https://www.kjuc.si/dogodki/sosolki-nekoc-sosolki-danes-odprtje-razsta
 ve-likovnih-del-majde-palcic-marc-in-martine-telic/
SUMMARY:Sošolki nekoč\, sošolki danes - odprtje razstave likovnih del Ma
 jde Palčič Marc in Martine Telič
DESCRIPTION:\n\nsošolki_vabilo
ATTACH;FMTTYPE=image/jpeg:https://www.kjuc.si/wp-content/uploads/2025/03/s
 osolki_vabilo-page-001.jpg
CATEGORIES:Prireditev
LOCATION:Enota Ivana Matičiča Rakek\, Partizanska cesta 8a\, Rakek\, Slov
 enia
GEO:45.8127;14.319238
X-APPLE-STRUCTURED-LOCATION;VALUE=URI;X-ADDRESS=Partizanska cesta 8a\, Rake
 k\, Slovenia;X-APPLE-RADIUS=100;X-TITLE=Enota Ivana Matičiča Rakek:geo:4
 5.8127,14.319238
END:VEVENT
BEGIN:VTIMEZONE
TZID:Europe/Ljubljana
X-LIC-LOCATION:Europe/Ljubljana
BEGIN:STANDARD
DTSTART:20241027T020000
TZOFFSETFROM:+0200
TZOFFSETTO:+0100
TZNAME:CET
END:STANDARD
END:VTIMEZONE
END:VCALENDAR