BEGIN:VCALENDAR
VERSION:2.0
PRODID:-//wp-events-plugin.com//7.2.3.1//EN
TZID:Europe/Ljubljana
X-WR-TIMEZONE:Europe/Ljubljana
BEGIN:VEVENT
UID:1320@kjuc.si
DTSTART;TZID=Europe/Ljubljana:20220907T000000
DTEND;TZID=Europe/Ljubljana:20221029T000000
DTSTAMP:20250331T103955Z
URL:https://www.kjuc.si/dogodki/spoznajmo-slovenske-pokrajine-razstava-izd
 elkov-otrok-skupine-mlincki/
SUMMARY:Spoznajmo slovenske pokrajine - razstava izdelkov otrok skupine Mli
 nčki
DESCRIPTION:\n\nMlinčki sept okt 2022
ATTACH;FMTTYPE=image/jpeg:https://www.kjuc.si/wp-content/uploads/2025/03/M
 lincki-sept-okt-2022-1024x698-1.jpg
CATEGORIES:Razstave
LOCATION:Knjižnica Jožeta Udoviča Cerknica\, Partizanska cesta 22\, Cerk
 nica\, Slovenia
GEO:45.795484;14.362483
X-APPLE-STRUCTURED-LOCATION;VALUE=URI;X-ADDRESS=Partizanska cesta 22\, Cerk
 nica\, Slovenia;X-APPLE-RADIUS=100;X-TITLE=Knjižnica Jožeta Udoviča Cer
 knica:geo:45.795484,14.362483
END:VEVENT
BEGIN:VTIMEZONE
TZID:Europe/Ljubljana
X-LIC-LOCATION:Europe/Ljubljana
BEGIN:DAYLIGHT
DTSTART:20220327T030000
TZOFFSETFROM:+0100
TZOFFSETTO:+0200
TZNAME:CEST
END:DAYLIGHT
END:VTIMEZONE
END:VCALENDAR