BEGIN:VCALENDAR
VERSION:2.0
PRODID:-//wp-events-plugin.com//7.2.3.1//EN
TZID:Europe/Ljubljana
X-WR-TIMEZONE:Europe/Ljubljana
BEGIN:VEVENT
UID:1010@kjuc.si
DTSTART;TZID=Europe/Ljubljana;VALUE=DATE:20200127
DTEND;TZID=Europe/Ljubljana;VALUE=DATE:20200215
DTSTAMP:20250331T103520Z
URL:https://www.kjuc.si/dogodki/teden-pisanja-z-roko-2020-razstava-izdelko
 v-ucencev-os-heroja-janeza-hribarja-stari-trg-pri-lozu/
SUMMARY:Teden pisanja z roko 2020 - Razstava izdelkov učencev OŠ heroja J
 aneza Hribarja Stari trg pri Ložu
DESCRIPTION:\nTeden pisanja z roko 2020\nV letošnjem letu so se na OŠ her
 oja Janeza Hribarja pridružili akciji Teden pisanja z roko\, ki je poteka
 la od 20. do 24. januarja 2020. Akcijo že peto leto organizira društvo R
 adi pišemo z roko\, ki nas želi na različne načine vzpodbuditi k pisan
 ju z roko\, ki žal vedno bolj izginja\, še sploh med mladimi\, in se umi
 ka elektronskim zapisom. Pri pisanju z roko se nam utrne več idej\, ohran
 ja se tudi dolgotrajnejša pozornost in zagotavlja boljši spomin. Tega si
  prav gotovo želijo tudi v šoli\, zato skušajo učence na različne na
 čine motivirati\, da bi čim pogosteje pisali z roko. Prav zato so se ome
 njeni akciji pridružili tudi v Starem trgu. Osrednja tema letošnje akcij
 e je bila »V naši družini radi pišemo z roko«. Pri tem so nastali zan
 imivi zapisi o družinah\, ki so jih učenci razstavili v avli knjižnice.
 \nAnđelka Pogorilić\n\n\n[caption id="attachment_16770" align="aligncent
 er" width="1440"] dav[/caption]\n\n[caption id="attachment_16771" align="a
 ligncenter" width="1440"] dav[/caption]
ATTACH;FMTTYPE=image/jpeg:https://www.kjuc.si/wp-content/uploads/2025/03/t
 eden-pisanja-z-roko-1024x690-1.jpg
CATEGORIES:Razstave
LOCATION:Enota Maričke Žnidaršič Stari trg\, Cesta Notranjskega odreda 
 32\, Stari trg pri Ložu\, Slovenia
GEO:45.712702;14.472784
X-APPLE-STRUCTURED-LOCATION;VALUE=URI;X-ADDRESS=Cesta Notranjskega odreda 3
 2\, Stari trg pri Ložu\, Slovenia;X-APPLE-RADIUS=100;X-TITLE=Enota Marič
 ke Žnidaršič Stari trg:geo:45.712702,14.472784
END:VEVENT
BEGIN:VTIMEZONE
TZID:Europe/Ljubljana
X-LIC-LOCATION:Europe/Ljubljana
BEGIN:STANDARD
DTSTART:20191027T020000
TZOFFSETFROM:+0200
TZOFFSETTO:+0100
TZNAME:CET
END:STANDARD
END:VTIMEZONE
END:VCALENDAR