BEGIN:VCALENDAR
VERSION:2.0
PRODID:-//wp-events-plugin.com//7.2.3.1//EN
TZID:Europe/Ljubljana
X-WR-TIMEZONE:Europe/Ljubljana
BEGIN:VEVENT
UID:1812@kjuc.si
DTSTART;TZID=Europe/Ljubljana:20241010T180000
DTEND;TZID=Europe/Ljubljana:20241010T200000
DTSTAMP:20250331T104643Z
URL:https://www.kjuc.si/dogodki/tihotapka-melhiorca-na-obisku-pri-steinber
 gu-razstava-ilustracij-irene-gubanc-in-predstavitev-slikanice/
SUMMARY:Tihotapka Melhiorca na obisku pri Steinbergu - razstava ilustracij 
 Irene Gubanc in predstavitev slikanice
DESCRIPTION:\nIdrijo in Cerknico tokrat povezujemo s pomočjo preteklosti. 
 Vez temelji na primeru raziskovalca\, kartografa\, rudniškega upravitelja
  in publicista Franca Antona pl. Steinberga. Letos praznujemo 340-letnico 
 njegovega rojstva in 300-letnico nastopa mesta upravitelja. Ob tej prilož
 nosti predstavljamo resnično zgodbo: proces proti tolpi tihotapcev\, ki g
 a je na idrijskem gradu Gewerkenegg vodil prav Steinberg. Osrednji lik pro
 cesa je bila ženska – prebrisana tihotapka Marina Melhiorca. Njena živ
 ljenjska zgodba in srečanje s Steinbergom se prepletata z osrednjima kult
 urnima elementoma idrijskega prostora: dediščino živega srebra in idrij
 sko čipko.\nZgodbo smo zapisali v obliki slikanice. Njeno vsebino in resn
 ično ozadje zgodbe bo predstavila kustosinja Marija Terpin Mlinar\, osred
 nji poudarek pa namenjamo odprtju razstave ilustracij Irene Gubanc\, ki je
  oblikovala podobo likov tihotapke in Steinberga. &nbsp\;\nRazstava bo po 
 knjižničnem urniku na ogled do 10. decembra 2024.\nZ dogodkom se pridru
 žujemo Dnevom evropske kulturne dediščine 2024\, ki letos potekajo pod 
 geslom Dediščina kulturnih poti\, mreženja in povezav.\n \nIdejna zasno
 va in besedilo: Marija Terpin Mlinar\nIlustracije: Irena Gubanc\nOrganizac
 ija: Marija Terpin Mlinar\, Mestni muzej Idrija in Marija Hribar\, Knjižn
 ica Jožeta Udoviča Cerknica\nOblikovanje: Irena Gubanc\nRačunalniško p
 rogramiranje obogatene resničnosti: Bor Hojs\, Studio Tibor/Interaktivne 
 rešitve\, Ozadja d. o. o.\nGradivo v obogateni resničnosti: Irena Gubanc
 \, Stana Frelih\, Matjaž Mrak\, Marko Škerlavaj\, Bojan Tavčar\nTisk: M
 ipos\, d.o.o.\nTehnična izvedba: Stane Mavri\, Marija Terpin Mlinar\, Mes
 tni muzej Idrija\n&nbsp\;\nMuzejski list št. 80\nIzdal in založil: Mestn
 i muzej Idrija\, zanj dr. Miha Kosmač\nOblikovanje: PADALCI\, Irena Guban
 c\nTisk: Mipos\, d.o.o.\nNaklada: 150\nCerknica\, oktober 2024\n&nbsp\;\n&
 nbsp\;
ATTACH;FMTTYPE=image/jpeg:https://www.kjuc.si/wp-content/uploads/2025/03/M
 MI-in-KJU-Cerknica_vabilo-splet.jpg
CATEGORIES:Predstavitve,Prireditev
LOCATION:Knjižnica Jožeta Udoviča Cerknica\, Partizanska cesta 22\, Cerk
 nica\, Slovenia
GEO:45.795484;14.362483
X-APPLE-STRUCTURED-LOCATION;VALUE=URI;X-ADDRESS=Partizanska cesta 22\, Cerk
 nica\, Slovenia;X-APPLE-RADIUS=100;X-TITLE=Knjižnica Jožeta Udoviča Cer
 knica:geo:45.795484,14.362483
END:VEVENT
BEGIN:VTIMEZONE
TZID:Europe/Ljubljana
X-LIC-LOCATION:Europe/Ljubljana
BEGIN:DAYLIGHT
DTSTART:20240331T030000
TZOFFSETFROM:+0100
TZOFFSETTO:+0200
TZNAME:CEST
END:DAYLIGHT
END:VTIMEZONE
END:VCALENDAR