BEGIN:VCALENDAR
VERSION:2.0
PRODID:-//wp-events-plugin.com//7.2.3.1//EN
TZID:Europe/Ljubljana
X-WR-TIMEZONE:Europe/Ljubljana
BEGIN:VEVENT
UID:2106@kjuc.si
DTSTART;TZID=Europe/Ljubljana;VALUE=DATE:20251125
DTEND;TZID=Europe/Ljubljana;VALUE=DATE:20260116
DTSTAMP:20260109T073554Z
URL:https://www.kjuc.si/dogodki/tine-subic-naravne-lepote-notranjske-peta-
 avtorska-razstava-fotografij/
SUMMARY:Tine Šubic: Naravne lepote Notranjske – peta avtorska razstava f
 otografij
DESCRIPTION:[caption id="attachment_26695" align="alignnone" width="1810"] 
 Tine Šubic Naravne lepote Notranjske[/caption]
ATTACH;FMTTYPE=image/jpeg:https://www.kjuc.si/wp-content/uploads/2025/10/D
 N-1570-2025_vabilo_razstava_Naravne_lepote_Notranjske-web-page-001.jpg
CATEGORIES:Razstave
LOCATION:Knjižnica Jožeta Udoviča Cerknica\, Partizanska cesta 22\, Cerk
 nica\, Slovenia
GEO:45.795484;14.362483
X-APPLE-STRUCTURED-LOCATION;VALUE=URI;X-ADDRESS=Partizanska cesta 22\, Cerk
 nica\, Slovenia;X-APPLE-RADIUS=100;X-TITLE=Knjižnica Jožeta Udoviča Cer
 knica:geo:45.795484,14.362483
END:VEVENT
BEGIN:VTIMEZONE
TZID:Europe/Ljubljana
X-LIC-LOCATION:Europe/Ljubljana
BEGIN:STANDARD
DTSTART:20251026T020000
TZOFFSETFROM:+0200
TZOFFSETTO:+0100
TZNAME:CET
END:STANDARD
END:VTIMEZONE
END:VCALENDAR