BEGIN:VCALENDAR
VERSION:2.0
PRODID:-//wp-events-plugin.com//7.2.3.1//EN
TZID:Europe/Ljubljana
X-WR-TIMEZONE:Europe/Ljubljana
BEGIN:VEVENT
UID:1101@kjuc.si
DTSTART;TZID=Europe/Ljubljana;VALUE=DATE:20210414
DTEND;TZID=Europe/Ljubljana;VALUE=DATE:20210527
DTSTAMP:20250331T103635Z
URL:https://www.kjuc.si/dogodki/tomaz-cucek-razstava-pirografskih-izdelkov
 -3/
SUMMARY:Tomaž Čuček - razstava pirografskih izdelkov
DESCRIPTION:\n\nOgled razstave ob sredah od 11.00 do 18.00 v knjižnici na 
 Rakeku.\n\n[gallery link="none" columns="2" size="full" ids="eyJ1cmwiOiJod
 HRwczpcL1wvd3d3LmtqdWMuc2lcL3dwLWNvbnRlbnRcL3VwbG9hZHNcLzIwMjFcLzA0XC8yMDI
 xMDMzMV8xODQ0NTUuanBnIiwidGl0bGUiOiIyMDIxMDMzMV8xODQ0NTUiLCJjYXB0aW9uIjoiI
 iwiYWx0IjoiIiwiZGVzY3JpcHRpb24iOiIifQ==\,eyJ1cmwiOiJodHRwczpcL1wvd3d3Lmtqd
 WMuc2lcL3dwLWNvbnRlbnRcL3VwbG9hZHNcLzIwMjFcLzA0XC8yMDIxMDMzMV8xODQ1MDEuanB
 nIiwidGl0bGUiOiIyMDIxMDMzMV8xODQ1MDEiLCJjYXB0aW9uIjoiIiwiYWx0IjoiIiwiZGVzY
 3JpcHRpb24iOiIifQ==\,eyJ1cmwiOiJodHRwczpcL1wvd3d3LmtqdWMuc2lcL3dwLWNvbnRlb
 nRcL3VwbG9hZHNcLzIwMjFcLzA0XC8yMDIxMDMzMV8xODQ1MTIuanBnIiwidGl0bGUiOiIyMDI
 xMDMzMV8xODQ1MTIiLCJjYXB0aW9uIjoiIiwiYWx0IjoiIiwiZGVzY3JpcHRpb24iOiIifQ==\
 ,eyJ1cmwiOiJodHRwczpcL1wvd3d3LmtqdWMuc2lcL3dwLWNvbnRlbnRcL3VwbG9hZHNcLzIwM
 jFcLzA0XC8yMDIxMDMzMV8xODQ1MTYuanBnIiwidGl0bGUiOiIyMDIxMDMzMV8xODQ1MTYiLCJ
 jYXB0aW9uIjoiIiwiYWx0IjoiIiwiZGVzY3JpcHRpb24iOiIifQ==\,eyJ1cmwiOiJodHRwczp
 cL1wvd3d3LmtqdWMuc2lcL3dwLWNvbnRlbnRcL3VwbG9hZHNcLzIwMjFcLzA0XC8yMDIxMDMzM
 V8xODQ1MjcuanBnIiwidGl0bGUiOiIyMDIxMDMzMV8xODQ1MjciLCJjYXB0aW9uIjoiIiwiYWx
 0IjoiIiwiZGVzY3JpcHRpb24iOiIifQ==\,eyJ1cmwiOiJodHRwczpcL1wvd3d3LmtqdWMuc2l
 cL3dwLWNvbnRlbnRcL3VwbG9hZHNcLzIwMjFcLzA0XC8yMDIxMDMzMV8xODQ2MDMuanBnIiwid
 Gl0bGUiOiIyMDIxMDMzMV8xODQ2MDMiLCJjYXB0aW9uIjoiIiwiYWx0IjoiIiwiZGVzY3JpcHR
 pb24iOiIifQ==\,eyJ1cmwiOiJodHRwczpcL1wvd3d3LmtqdWMuc2lcL3dwLWNvbnRlbnRcL3V
 wbG9hZHNcLzIwMjFcLzA0XC8yMDIxMDMzMV8xODQ2MzYuanBnIiwidGl0bGUiOiIyMDIxMDMzM
 V8xODQ2MzYiLCJjYXB0aW9uIjoiIiwiYWx0IjoiIiwiZGVzY3JpcHRpb24iOiIifQ==\,eyJ1c
 mwiOiJodHRwczpcL1wvd3d3LmtqdWMuc2lcL3dwLWNvbnRlbnRcL3VwbG9hZHNcLzIwMjFcLzA
 0XC8yMDIxMDMzMV8xODQ3MTMuanBnIiwidGl0bGUiOiIyMDIxMDMzMV8xODQ3MTMiLCJjYXB0a
 W9uIjoiIiwiYWx0IjoiIiwiZGVzY3JpcHRpb24iOiIifQ==\,eyJ1cmwiOiJodHRwczpcL1wvd
 3d3LmtqdWMuc2lcL3dwLWNvbnRlbnRcL3VwbG9hZHNcLzIwMjFcLzA0XC8yMDIxMDMzMV8xODQ
 3MzUuanBnIiwidGl0bGUiOiIyMDIxMDMzMV8xODQ3MzUiLCJjYXB0aW9uIjoiIiwiYWx0IjoiI
 iwiZGVzY3JpcHRpb24iOiIifQ==\,eyJ1cmwiOiJodHRwczpcL1wvd3d3LmtqdWMuc2lcL3dwL
 WNvbnRlbnRcL3VwbG9hZHNcLzIwMjFcLzA0XC8yMDIxMDMzMV8xODQ5NTQuanBnIiwidGl0bGU
 iOiIyMDIxMDMzMV8xODQ5NTQiLCJjYXB0aW9uIjoiIiwiYWx0IjoiIiwiZGVzY3JpcHRpb24iO
 iIifQ=="]\n\nVabilo Tomaž Čuček
ATTACH;FMTTYPE=image/jpeg:https://www.kjuc.si/wp-content/uploads/2025/03/c
 over-821x1024-1.jpg
CATEGORIES:Razstave
LOCATION:Enota Ivana Matičiča Rakek\, Partizanska cesta 8a\, Rakek\, Slov
 enia
GEO:45.8127;14.319238
X-APPLE-STRUCTURED-LOCATION;VALUE=URI;X-ADDRESS=Partizanska cesta 8a\, Rake
 k\, Slovenia;X-APPLE-RADIUS=100;X-TITLE=Enota Ivana Matičiča Rakek:geo:4
 5.8127,14.319238
END:VEVENT
BEGIN:VTIMEZONE
TZID:Europe/Ljubljana
X-LIC-LOCATION:Europe/Ljubljana
BEGIN:DAYLIGHT
DTSTART:20210328T030000
TZOFFSETFROM:+0100
TZOFFSETTO:+0200
TZNAME:CEST
END:DAYLIGHT
END:VTIMEZONE
END:VCALENDAR