BEGIN:VCALENDAR
VERSION:2.0
PRODID:-//wp-events-plugin.com//7.2.3.1//EN
TZID:Europe/Ljubljana
X-WR-TIMEZONE:Europe/Ljubljana
BEGIN:VEVENT
UID:1506@kjuc.si
DTSTART;TZID=Europe/Ljubljana;VALUE=DATE:20230508
DTEND;TZID=Europe/Ljubljana;VALUE=DATE:20230603
DTSTAMP:20250331T104245Z
URL:https://www.kjuc.si/dogodki/tone-intihar-razstava-unikatnih-lesenih-iz
 delkov-2/
SUMMARY:Tone Intihar – razstava unikatnih lesenih izdelkov
DESCRIPTION:\n\n[gallery link="none" size="full" ids="eyJ1cmwiOiJodHRwczpcL
 1wvd3d3LmtqdWMuc2lcL3dwLWNvbnRlbnRcL3VwbG9hZHNcLzIwMjNcLzA1XC8yMDIzMDUxMF8
 xODUwMjIuanBnIiwidGl0bGUiOiIyMDIzMDUxMF8xODUwMjIiLCJjYXB0aW9uIjoiIiwiYWx0I
 joiIiwiZGVzY3JpcHRpb24iOiIifQ==\,eyJ1cmwiOiJodHRwczpcL1wvd3d3LmtqdWMuc2lcL
 3dwLWNvbnRlbnRcL3VwbG9hZHNcLzIwMjNcLzA1XC8yMDIzMDUxMF8xODUwMzEuanBnIiwidGl
 0bGUiOiIyMDIzMDUxMF8xODUwMzEiLCJjYXB0aW9uIjoiIiwiYWx0IjoiIiwiZGVzY3JpcHRpb
 24iOiIifQ==\,eyJ1cmwiOiJodHRwczpcL1wvd3d3LmtqdWMuc2lcL3dwLWNvbnRlbnRcL3Vwb
 G9hZHNcLzIwMjNcLzA1XC8yMDIzMDUxMF8xODUwNDAuanBnIiwidGl0bGUiOiIyMDIzMDUxMF8
 xODUwNDAiLCJjYXB0aW9uIjoiIiwiYWx0IjoiIiwiZGVzY3JpcHRpb24iOiIifQ==\,eyJ1cmw
 iOiJodHRwczpcL1wvd3d3LmtqdWMuc2lcL3dwLWNvbnRlbnRcL3VwbG9hZHNcLzIwMjNcLzA1X
 C8yMDIzMDUxMF8xODUwNDYuanBnIiwidGl0bGUiOiIyMDIzMDUxMF8xODUwNDYiLCJjYXB0aW9
 uIjoiIiwiYWx0IjoiIiwiZGVzY3JpcHRpb24iOiIifQ==\,eyJ1cmwiOiJodHRwczpcL1wvd3d
 3LmtqdWMuc2lcL3dwLWNvbnRlbnRcL3VwbG9hZHNcLzIwMjNcLzA1XC8yMDIzMDUxMF8xODUxM
 TcuanBnIiwidGl0bGUiOiIyMDIzMDUxMF8xODUxMTciLCJjYXB0aW9uIjoiIiwiYWx0IjoiIiw
 iZGVzY3JpcHRpb24iOiIifQ==\,eyJ1cmwiOiJodHRwczpcL1wvd3d3LmtqdWMuc2lcL3dwLWN
 vbnRlbnRcL3VwbG9hZHNcLzIwMjNcLzA1XC8yMDIzMDUxMF8xODUwMDcuanBnIiwidGl0bGUiO
 iIyMDIzMDUxMF8xODUwMDciLCJjYXB0aW9uIjoiIiwiYWx0IjoiIiwiZGVzY3JpcHRpb24iOiI
 ifQ=="]
ATTACH;FMTTYPE=image/jpeg:https://www.kjuc.si/wp-content/uploads/2025/03/I
 ntihar_raz-page-001.jpg
CATEGORIES:Razstave
LOCATION:Enota Ivana Matičiča Rakek\, Partizanska cesta 8a\, Rakek\, Slov
 enia
GEO:45.8127;14.319238
X-APPLE-STRUCTURED-LOCATION;VALUE=URI;X-ADDRESS=Partizanska cesta 8a\, Rake
 k\, Slovenia;X-APPLE-RADIUS=100;X-TITLE=Enota Ivana Matičiča Rakek:geo:4
 5.8127,14.319238
END:VEVENT
BEGIN:VTIMEZONE
TZID:Europe/Ljubljana
X-LIC-LOCATION:Europe/Ljubljana
BEGIN:DAYLIGHT
DTSTART:20230326T030000
TZOFFSETFROM:+0100
TZOFFSETTO:+0200
TZNAME:CEST
END:DAYLIGHT
END:VTIMEZONE
END:VCALENDAR