BEGIN:VCALENDAR
VERSION:2.0
PRODID:-//wp-events-plugin.com//7.2.3.1//EN
TZID:Europe/Ljubljana
X-WR-TIMEZONE:Europe/Ljubljana
BEGIN:VEVENT
UID:2216@kjuc.si
DTSTART;TZID=Europe/Ljubljana:20260525T143000
DTEND;TZID=Europe/Ljubljana:20260525T160000
DTSTAMP:20260421T095957Z
URL:https://www.kjuc.si/dogodki/uporaba-e-bralnika-in-poslusanje-zvocnih-k
 njig/
SUMMARY:Uporaba e-bralnika in poslušanje zvočnih knjig
DESCRIPTION:[gallery link="file" columns="2" size="full" ids="27605\,27606"
 ]\n\nPraktičen uvod v svet digitalnega branja za vsakogar – uporaba e-b
 ralnika in poslušanje zvočnih knjig.
ATTACH;FMTTYPE=image/jpeg:https://www.kjuc.si/wp-content/uploads/2026/04/1
 .jpg
CATEGORIES:Razno,Tečaj
LOCATION:Knjižnica Jožeta Udoviča Cerknica\, Partizanska cesta 22\, Cerk
 nica\, Slovenia
GEO:45.795484;14.362483
X-APPLE-STRUCTURED-LOCATION;VALUE=URI;X-ADDRESS=Partizanska cesta 22\, Cerk
 nica\, Slovenia;X-APPLE-RADIUS=100;X-TITLE=Knjižnica Jožeta Udoviča Cer
 knica:geo:45.795484,14.362483
END:VEVENT
BEGIN:VTIMEZONE
TZID:Europe/Ljubljana
X-LIC-LOCATION:Europe/Ljubljana
BEGIN:DAYLIGHT
DTSTART:20260329T030000
TZOFFSETFROM:+0100
TZOFFSETTO:+0200
TZNAME:CEST
END:DAYLIGHT
END:VTIMEZONE
END:VCALENDAR