BEGIN:VCALENDAR
VERSION:2.0
PRODID:-//wp-events-plugin.com//7.2.3.1//EN
TZID:Europe/Ljubljana
X-WR-TIMEZONE:Europe/Ljubljana
BEGIN:VEVENT
UID:2067@kjuc.si
DTSTART;TZID=Europe/Ljubljana;VALUE=DATE:20251001
DTEND;TZID=Europe/Ljubljana;VALUE=DATE:20251130
DTSTAMP:20251006T062322Z
URL:https://www.kjuc.si/dogodki/v-objemu-zvoka-in-slike-razstava-likovnih-
 del-z-natecaja-za-osnovnosolce/
SUMMARY:V objemu zvoka in slike - razstava likovnih del z natečaja za osno
 vnošolce
DESCRIPTION:\n\nV sodelovanju z JSKD OI Cerknica je na ogled razstava mladi
 h umetnic in umetnikov\, ki so jih navdihnile radijske igre.\n\n\n\nPrva t
 riada OŠ – razpisana upodobitev radijske igre Deček Jarbol po predlogi
  Bena Zupančiča.\nhttps://365.rtvslo.si/.../rio-radijska-igra-za.../1751
 07434\n\n\n\nDruga triada OŠ – razpisana upodobitev radijske nadaljevan
 ke Gospa s klobukom (1–12) po predlogi Maše Ogrizek.\nhttps://ziv-zav.r
 tvslo.si/oddaja/gospa-s-klobukom/173251832\n\n\n\nTretja triada OŠ – ra
 zpisana upodobitev radijske igre Raj je tukaj in zdaj po predlogi nizozems
 kega avtorja Guusa Kuijerja.\nhttps://365.rtvslo.si/.../rio-radijska-igra-
 za.../175107436\n
ATTACH;FMTTYPE=image/jpeg:https://www.kjuc.si/wp-content/uploads/2025/10/V
 -objemu-zvoka-in-slike-2025-scaled.jpg
CATEGORIES:Razstave
LOCATION:Knjižnica Jožeta Udoviča Cerknica\, Partizanska cesta 22\, Cerk
 nica\, Slovenia
GEO:45.795484;14.362483
X-APPLE-STRUCTURED-LOCATION;VALUE=URI;X-ADDRESS=Partizanska cesta 22\, Cerk
 nica\, Slovenia;X-APPLE-RADIUS=100;X-TITLE=Knjižnica Jožeta Udoviča Cer
 knica:geo:45.795484,14.362483
END:VEVENT
BEGIN:VTIMEZONE
TZID:Europe/Ljubljana
X-LIC-LOCATION:Europe/Ljubljana
BEGIN:DAYLIGHT
DTSTART:20250330T030000
TZOFFSETFROM:+0100
TZOFFSETTO:+0200
TZNAME:CEST
END:DAYLIGHT
BEGIN:STANDARD
DTSTART:20251026T020000
TZOFFSETFROM:+0200
TZOFFSETTO:+0100
TZNAME:CET
END:STANDARD
END:VTIMEZONE
END:VCALENDAR