BEGIN:VCALENDAR
VERSION:2.0
PRODID:-//wp-events-plugin.com//7.2.3.1//EN
TZID:Europe/Ljubljana
X-WR-TIMEZONE:Europe/Ljubljana
BEGIN:VEVENT
UID:680@kjuc.si
DTSTART;TZID=Europe/Ljubljana:20180619T190000
DTEND;TZID=Europe/Ljubljana:20180619T210000
DTSTAMP:20250331T102957Z
URL:https://www.kjuc.si/dogodki/vecer-druzine-ivana-maticica-v-pocastitev-
 poimenovanja-knjiznice-na-rakeku/
SUMMARY:Večer družine Ivana Matičiča v počastitev poimenovanja knjižn
 ice na Rakeku
DESCRIPTION:\n\nVabilo&nbsp\;&nbsp\;&nbsp\;&nbsp\;&nbsp\;\n\n[gallery link=
 "file" columns="4" size="medium" ids="eyJ1cmwiOiJodHRwczpcL1wvd3d3LmtqdWMu
 c2lcL3dwLWNvbnRlbnRcL3VwbG9hZHNcLzIwMThcLzA2XC8yMDE4MDYxOV8xOTA0MjItMS5qcG
 ciLCJ0aXRsZSI6IjIwMTgwNjE5XzE5MDQyMiIsImNhcHRpb24iOiIiLCJhbHQiOiIiLCJkZXNj
 cmlwdGlvbiI6IiJ9\,eyJ1cmwiOiJodHRwczpcL1wvd3d3LmtqdWMuc2lcL3dwLWNvbnRlbnRc
 L3VwbG9hZHNcLzIwMThcLzA2XC8yMDE4MDYxOV8yMDIzMzAuanBnIiwidGl0bGUiOiIyMDE4MD
 YxOV8yMDIzMzAiLCJjYXB0aW9uIjoiIiwiYWx0IjoiIiwiZGVzY3JpcHRpb24iOiIifQ==\,ey
 J1cmwiOiJodHRwczpcL1wvd3d3LmtqdWMuc2lcL3dwLWNvbnRlbnRcL3VwbG9hZHNcLzIwMThc
 LzA2XC8yMDE4MDYxOV8yMDE4NDkuanBnIiwidGl0bGUiOiIyMDE4MDYxOV8yMDE4NDkiLCJjYX
 B0aW9uIjoiIiwiYWx0IjoiIiwiZGVzY3JpcHRpb24iOiIifQ==\,eyJ1cmwiOiJodHRwczpcL1
 wvd3d3LmtqdWMuc2lcL3dwLWNvbnRlbnRcL3VwbG9hZHNcLzIwMThcLzA2XC8yMDE4MDYxOV8y
 MDE4MzYuanBnIiwidGl0bGUiOiIyMDE4MDYxOV8yMDE4MzYiLCJjYXB0aW9uIjoiIiwiYWx0Ij
 oiIiwiZGVzY3JpcHRpb24iOiIifQ==\,eyJ1cmwiOiJodHRwczpcL1wvd3d3LmtqdWMuc2lcL3
 dwLWNvbnRlbnRcL3VwbG9hZHNcLzIwMThcLzA2XC8yMDE4MDYxOV8yMDEzMDcuanBnIiwidGl0
 bGUiOiIyMDE4MDYxOV8yMDEzMDciLCJjYXB0aW9uIjoiIiwiYWx0IjoiIiwiZGVzY3JpcHRpb2
 4iOiIifQ==\,eyJ1cmwiOiJodHRwczpcL1wvd3d3LmtqdWMuc2lcL3dwLWNvbnRlbnRcL3VwbG
 9hZHNcLzIwMThcLzA2XC8yMDE4MDYxOV8yMDEyMzEuanBnIiwidGl0bGUiOiIyMDE4MDYxOV8y
 MDEyMzEiLCJjYXB0aW9uIjoiIiwiYWx0IjoiIiwiZGVzY3JpcHRpb24iOiIifQ==\,eyJ1cmwi
 OiJodHRwczpcL1wvd3d3LmtqdWMuc2lcL3dwLWNvbnRlbnRcL3VwbG9hZHNcLzIwMThcLzA2XC
 8yMDE4MDYxOV8yMDEyMjkuanBnIiwidGl0bGUiOiIyMDE4MDYxOV8yMDEyMjkiLCJjYXB0aW9u
 IjoiIiwiYWx0IjoiIiwiZGVzY3JpcHRpb24iOiIifQ==\,eyJ1cmwiOiJodHRwczpcL1wvd3d3
 LmtqdWMuc2lcL3dwLWNvbnRlbnRcL3VwbG9hZHNcLzIwMThcLzA2XC8yMDE4MDYxOV8yMDEyMj
 MuanBnIiwidGl0bGUiOiIyMDE4MDYxOV8yMDEyMjMiLCJjYXB0aW9uIjoiIiwiYWx0IjoiIiwi
 ZGVzY3JpcHRpb24iOiIifQ==\,eyJ1cmwiOiJodHRwczpcL1wvd3d3LmtqdWMuc2lcL3dwLWNv
 bnRlbnRcL3VwbG9hZHNcLzIwMThcLzA2XC8yMDE4MDYxOV8xOTM4MDcuanBnIiwidGl0bGUiOi
 IyMDE4MDYxOV8xOTM4MDciLCJjYXB0aW9uIjoiIiwiYWx0IjoiIiwiZGVzY3JpcHRpb24iOiIi
 fQ==\,eyJ1cmwiOiJodHRwczpcL1wvd3d3LmtqdWMuc2lcL3dwLWNvbnRlbnRcL3VwbG9hZHNc
 LzIwMThcLzA2XC8yMDE4MDYxOV8xOTI0NDguanBnIiwidGl0bGUiOiIyMDE4MDYxOV8xOTI0ND
 giLCJjYXB0aW9uIjoiIiwiYWx0IjoiIiwiZGVzY3JpcHRpb24iOiIifQ==\,eyJ1cmwiOiJodH
 RwczpcL1wvd3d3LmtqdWMuc2lcL3dwLWNvbnRlbnRcL3VwbG9hZHNcLzIwMThcLzA2XC8yMDE4
 MDYxOV8xOTI0MjUuanBnIiwidGl0bGUiOiIyMDE4MDYxOV8xOTI0MjUiLCJjYXB0aW9uIjoiIi
 wiYWx0IjoiIiwiZGVzY3JpcHRpb24iOiIifQ==\,eyJ1cmwiOiJodHRwczpcL1wvd3d3LmtqdW
 Muc2lcL3dwLWNvbnRlbnRcL3VwbG9hZHNcLzIwMThcLzA2XC8yMDE4MDYxOV8xOTIzNTcuanBn
 IiwidGl0bGUiOiIyMDE4MDYxOV8xOTIzNTciLCJjYXB0aW9uIjoiIiwiYWx0IjoiIiwiZGVzY3
 JpcHRpb24iOiIifQ==\,eyJ1cmwiOiJodHRwczpcL1wvd3d3LmtqdWMuc2lcL3dwLWNvbnRlbn
 RcL3VwbG9hZHNcLzIwMThcLzA2XC8yMDE4MDYxOV8xOTIzNDAuanBnIiwidGl0bGUiOiIyMDE4
 MDYxOV8xOTIzNDAiLCJjYXB0aW9uIjoiIiwiYWx0IjoiIiwiZGVzY3JpcHRpb24iOiIifQ==\,
 eyJ1cmwiOiJodHRwczpcL1wvd3d3LmtqdWMuc2lcL3dwLWNvbnRlbnRcL3VwbG9hZHNcLzIwMT
 hcLzA2XC8yMDE4MDYxOV8xOTE0MzUuanBnIiwidGl0bGUiOiIyMDE4MDYxOV8xOTE0MzUiLCJj
 YXB0aW9uIjoiIiwiYWx0IjoiIiwiZGVzY3JpcHRpb24iOiIifQ==\,eyJ1cmwiOiJodHRwczpc
 L1wvd3d3LmtqdWMuc2lcL3dwLWNvbnRlbnRcL3VwbG9hZHNcLzIwMThcLzA2XC8yMDE4MDYxOV
 8xOTA4NDYuanBnIiwidGl0bGUiOiIyMDE4MDYxOV8xOTA4NDYiLCJjYXB0aW9uIjoiIiwiYWx0
 IjoiIiwiZGVzY3JpcHRpb24iOiIifQ==\,eyJ1cmwiOiJodHRwczpcL1wvd3d3LmtqdWMuc2lc
 L3dwLWNvbnRlbnRcL3VwbG9hZHNcLzIwMThcLzA2XC8yMDE4MDYxOV8xOTA3MDMuanBnIiwidG
 l0bGUiOiIyMDE4MDYxOV8xOTA3MDMiLCJjYXB0aW9uIjoiIiwiYWx0IjoiIiwiZGVzY3JpcHRp
 b24iOiIifQ=="]\n\n[video width="640" height="480" mp4="https://www.kjuc.si
 /wp-content/uploads/2018/06/posnetek.mp4"][/video]\n\nVečer družine Ivan
 a Matičiča\n\nOb poimenovanju enote cerkniške knjižnice smo v sklopu p
 rireditev ob občinskem prazniku\, 19. junija 2018 organizirali Večer dru
 žine Matičič.\n\nVeliko število obiskovalcev je v Enoti Ivana Matiči
 ča Rakek pozdravilo osrednja gosta\, njegovo hčerko\, profesorico Polonc
 o Matičič Štefanac in sina\, akademika in skladatelja Janeza Matičiča
 \, tudi Prešernovega nagrajenca za življenjsko delo.\n\nV pogovoru z Bog
 danom Urbarjem sta razkrila spomine na otroštvo v Ljubljani\, svojo živl
 jenjsko pot ter nekaj družinskih anekdot. Marsikaj smo izvedeli tudi o nj
 uni pokojni sestri\, pisateljici Nadi Matičič.\n\nDogodek sta pospremili
  dve povezani razstavi. Do 10. avgusta je na ogled del bogate pisateljeve 
 zapuščine\, ki so jo svojci poklonili domoznanskemu oddelku knjižnice. 
 Janez Matičič\, tudi ljubiteljski fotograf\, pa je razstavil serijo foto
 grafij\, na katerih je v objektiv ujel svojega očeta.\n\nIvan Matičič j
 e prvo svetovno vojno preživel kot vojak telefonist\, bil je dober prijat
 elj Rudolfa Maistra\, zato so nas na tisti čas s pesmijo spomnili Dragona
 rji generala Maistra. Kulturni program je povezovala Nevena Savić.
ATTACH;FMTTYPE=image/jpeg:https://www.kjuc.si/wp-content/uploads/2025/03/v
 abilo-2-1024x720-1.jpg
CATEGORIES:Predstavitve,Prireditev
LOCATION:Enota Ivana Matičiča Rakek\, Partizanska cesta 8a\, Rakek\, Slov
 enia
GEO:45.8127;14.319238
X-APPLE-STRUCTURED-LOCATION;VALUE=URI;X-ADDRESS=Partizanska cesta 8a\, Rake
 k\, Slovenia;X-APPLE-RADIUS=100;X-TITLE=Enota Ivana Matičiča Rakek:geo:4
 5.8127,14.319238
END:VEVENT
BEGIN:VTIMEZONE
TZID:Europe/Ljubljana
X-LIC-LOCATION:Europe/Ljubljana
BEGIN:DAYLIGHT
DTSTART:20180325T030000
TZOFFSETFROM:+0100
TZOFFSETTO:+0200
TZNAME:CEST
END:DAYLIGHT
END:VTIMEZONE
END:VCALENDAR