BEGIN:VCALENDAR
VERSION:2.0
PRODID:-//wp-events-plugin.com//7.2.3.1//EN
TZID:Europe/Ljubljana
X-WR-TIMEZONE:Europe/Ljubljana
BEGIN:VEVENT
UID:915@kjuc.si
DTSTART;TZID=Europe/Ljubljana:20191015T180000
DTEND;TZID=Europe/Ljubljana:20191015T200000
DTSTAMP:20250331T103419Z
URL:https://www.kjuc.si/dogodki/vecer-s-krajanom-francem-stefancicem-od-ro
 cnega-stavca-do-ucitelja-in-ravnatelja/
SUMMARY:Večer s krajanom Francem Štefančičem - Od ročnega stavca do u
 čitelja in ravnatelja
DESCRIPTION: \n\nOd ročnega stavca do učitelja in ravnatelja\n\nRakovška
  knjižnica je v sodelovanju z Društvom upokojencev Rakek 15. oktobra 201
 9 organizirala že 16. večer s krajani. Gostili smo Franca Štefančiča\
 , ki je svoje spomine obujal v pogovoru s Francem Perkom.\n\nOdraščal je
  na Rakeku in v Ivanjem selu. Radijski oglas na radiu ga je pripeljal na g
 rafično šolo v Ljubljano\, kjer se je izučil za ročnega stavca. Zbrani
 m poslušalcem je predstavil ta poklic in tedanji način dela v tiskarnah.
  Ljubezen do materinščine in pisane besede ter spodbuda profesorja slove
 nskega jezika\, sta ga pripeljala na Pedagoško akademijo\, smer slovenski
  jezik in likovna vzgoja\, študiral je ob delu v tiskarni.\n\nŽe pred di
 plomo se je zaposlil na rakovški šoli\, čez kako leto odšel k vojakom\
 , diplomiral in se vrnil. Kot učitelj in devet let tudi kot ravnatelj je 
 na poklicno in življenjsko pot pospremil številne generacije otrok.\n\nN
 ekateri\, ki smo sedeli v njegovih klopeh\, smo tokrat sedeli med številn
 imi obiskovalci večera in obujali spomine na osnovnošolska leta. Takrat 
 se nismo zavedali\, koliko nam lahko da dober in predan učitelj\, kot to 
 vemo zdaj\, v zrelih letih. Od nas je zahteval veliko in veliko nam je tud
 i dal\, bil je učitelj\, kakršnega si želimo tudi za svoje otroke in vn
 uke.\n\nNevena Savić\n\n[gallery link="file" columns="2" size="full" ids=
 "eyJ1cmwiOiJodHRwczpcL1wvd3d3LmtqdWMuc2lcL3dwLWNvbnRlbnRcL3VwbG9hZHNcLzIwM
 TlcLzA5XC8yMDE5MTAxNV8xNzUzNTIuanBnIiwidGl0bGUiOiIyMDE5MTAxNV8xNzUzNTIiLCJ
 jYXB0aW9uIjoiIiwiYWx0IjoiIiwiZGVzY3JpcHRpb24iOiIifQ==\,eyJ1cmwiOiJodHRwczp
 cL1wvd3d3LmtqdWMuc2lcL3dwLWNvbnRlbnRcL3VwbG9hZHNcLzIwMTlcLzA5XC8yMDE5MTAxN
 V8xNzU2NTkuanBnIiwidGl0bGUiOiIyMDE5MTAxNV8xNzU2NTkiLCJjYXB0aW9uIjoiIiwiYWx
 0IjoiIiwiZGVzY3JpcHRpb24iOiIifQ==\,eyJ1cmwiOiJodHRwczpcL1wvd3d3LmtqdWMuc2l
 cL3dwLWNvbnRlbnRcL3VwbG9hZHNcLzIwMTlcLzA5XC8yMDE5MTAxNV8xODAwNTQuanBnIiwid
 Gl0bGUiOiIyMDE5MTAxNV8xODAwNTQiLCJjYXB0aW9uIjoiIiwiYWx0IjoiIiwiZGVzY3JpcHR
 pb24iOiIifQ==\,eyJ1cmwiOiJodHRwczpcL1wvd3d3LmtqdWMuc2lcL3dwLWNvbnRlbnRcL3V
 wbG9hZHNcLzIwMTlcLzA5XC8yMDE5MTAxNV8xODEyMDguanBnIiwidGl0bGUiOiIyMDE5MTAxN
 V8xODEyMDgiLCJjYXB0aW9uIjoiIiwiYWx0IjoiIiwiZGVzY3JpcHRpb24iOiIifQ==\,eyJ1c
 mwiOiJodHRwczpcL1wvd3d3LmtqdWMuc2lcL3dwLWNvbnRlbnRcL3VwbG9hZHNcLzIwMTlcLzA
 5XC8yMDE5MTAxNV8xODEyMjIuanBnIiwidGl0bGUiOiIyMDE5MTAxNV8xODEyMjIiLCJjYXB0a
 W9uIjoiIiwiYWx0IjoiIiwiZGVzY3JpcHRpb24iOiIifQ==\,eyJ1cmwiOiJodHRwczpcL1wvd
 3d3LmtqdWMuc2lcL3dwLWNvbnRlbnRcL3VwbG9hZHNcLzIwMTlcLzA5XC8yMDE5MTAxNV8xODE
 yNTAuanBnIiwidGl0bGUiOiIyMDE5MTAxNV8xODEyNTAiLCJjYXB0aW9uIjoiIiwiYWx0IjoiI
 iwiZGVzY3JpcHRpb24iOiIifQ=="]
ATTACH;FMTTYPE=image/jpeg:https://www.kjuc.si/wp-content/uploads/2025/03/v
 abilo_stefancic-1-1024x683-1.jpg
CATEGORIES:Prireditev,Razno
LOCATION:Enota Ivana Matičiča Rakek\, Partizanska cesta 8a\, Rakek\, Slov
 enia
GEO:45.8127;14.319238
X-APPLE-STRUCTURED-LOCATION;VALUE=URI;X-ADDRESS=Partizanska cesta 8a\, Rake
 k\, Slovenia;X-APPLE-RADIUS=100;X-TITLE=Enota Ivana Matičiča Rakek:geo:4
 5.8127,14.319238
END:VEVENT
BEGIN:VTIMEZONE
TZID:Europe/Ljubljana
X-LIC-LOCATION:Europe/Ljubljana
BEGIN:DAYLIGHT
DTSTART:20190331T030000
TZOFFSETFROM:+0100
TZOFFSETTO:+0200
TZNAME:CEST
END:DAYLIGHT
END:VTIMEZONE
END:VCALENDAR