BEGIN:VCALENDAR
VERSION:2.0
PRODID:-//wp-events-plugin.com//7.2.3.1//EN
TZID:Europe/Ljubljana
X-WR-TIMEZONE:Europe/Ljubljana
BEGIN:VEVENT
UID:1351@kjuc.si
DTSTART;TZID=Europe/Ljubljana;VALUE=DATE:20221012
DTEND;TZID=Europe/Ljubljana;VALUE=DATE:20221110
DTSTAMP:20250331T104033Z
URL:https://www.kjuc.si/dogodki/vida-ferfila-samostojna-razstava-cipk-clan
 ice-klekljarske-sekcije-kd-rak-rakek/
SUMMARY:Vida Ferfila - samostojna razstava čipk članice klekljarske sekci
 je KD Rak Rakek
DESCRIPTION:\n\n[gallery link="none" size="full" ids="eyJ1cmwiOiJodHRwczpcL
 1wvd3d3LmtqdWMuc2lcL3dwLWNvbnRlbnRcL3VwbG9hZHNcLzIwMjJcLzEwXC8yMDIyMTEwN18
 xMTI0NDIuanBnIiwidGl0bGUiOiIyMDIyMTEwN18xMTI0NDIiLCJjYXB0aW9uIjoiIiwiYWx0I
 joiIiwiZGVzY3JpcHRpb24iOiIifQ==\,eyJ1cmwiOiJodHRwczpcL1wvd3d3LmtqdWMuc2lcL
 3dwLWNvbnRlbnRcL3VwbG9hZHNcLzIwMjJcLzEwXC8yMDIyMTEwN18xMTI3MDEuanBnIiwidGl
 0bGUiOiIyMDIyMTEwN18xMTI3MDEiLCJjYXB0aW9uIjoiIiwiYWx0IjoiIiwiZGVzY3JpcHRpb
 24iOiIifQ==\,eyJ1cmwiOiJodHRwczpcL1wvd3d3LmtqdWMuc2lcL3dwLWNvbnRlbnRcL3Vwb
 G9hZHNcLzIwMjJcLzEwXC8yMDIyMTEwN18xMTI0NDguanBnIiwidGl0bGUiOiIyMDIyMTEwN18
 xMTI0NDgiLCJjYXB0aW9uIjoiIiwiYWx0IjoiIiwiZGVzY3JpcHRpb24iOiIifQ==\,eyJ1cmw
 iOiJodHRwczpcL1wvd3d3LmtqdWMuc2lcL3dwLWNvbnRlbnRcL3VwbG9hZHNcLzIwMjJcLzEwX
 C8yMDIyMTEwN18xMTI0NTQuanBnIiwidGl0bGUiOiIyMDIyMTEwN18xMTI0NTQiLCJjYXB0aW9
 uIjoiIiwiYWx0IjoiIiwiZGVzY3JpcHRpb24iOiIifQ==\,eyJ1cmwiOiJodHRwczpcL1wvd3d
 3LmtqdWMuc2lcL3dwLWNvbnRlbnRcL3VwbG9hZHNcLzIwMjJcLzEwXC8yMDIyMTEwN18xMTI1M
 DMuanBnIiwidGl0bGUiOiIyMDIyMTEwN18xMTI1MDMiLCJjYXB0aW9uIjoiIiwiYWx0IjoiIiw
 iZGVzY3JpcHRpb24iOiIifQ==\,eyJ1cmwiOiJodHRwczpcL1wvd3d3LmtqdWMuc2lcL3dwLWN
 vbnRlbnRcL3VwbG9hZHNcLzIwMjJcLzEwXC8yMDIyMTEwN18xMTI1MDcuanBnIiwidGl0bGUiO
 iIyMDIyMTEwN18xMTI1MDciLCJjYXB0aW9uIjoiIiwiYWx0IjoiIiwiZGVzY3JpcHRpb24iOiI
 ifQ==\,eyJ1cmwiOiJodHRwczpcL1wvd3d3LmtqdWMuc2lcL3dwLWNvbnRlbnRcL3VwbG9hZHN
 cLzIwMjJcLzEwXC8yMDIyMTEwN18xMTI2MTAuanBnIiwidGl0bGUiOiIyMDIyMTEwN18xMTI2M
 TAiLCJjYXB0aW9uIjoiIiwiYWx0IjoiIiwiZGVzY3JpcHRpb24iOiIifQ==\,eyJ1cmwiOiJod
 HRwczpcL1wvd3d3LmtqdWMuc2lcL3dwLWNvbnRlbnRcL3VwbG9hZHNcLzIwMjJcLzEwXC8yMDI
 yMTEwN18xMTI0MzYuanBnIiwidGl0bGUiOiIyMDIyMTEwN18xMTI0MzYiLCJjYXB0aW9uIjoiI
 iwiYWx0IjoiIiwiZGVzY3JpcHRpb24iOiIifQ==\,eyJ1cmwiOiJodHRwczpcL1wvd3d3Lmtqd
 WMuc2lcL3dwLWNvbnRlbnRcL3VwbG9hZHNcLzIwMjJcLzEwXC8yMDIyMTEwN18xMTI2NDAuanB
 nIiwidGl0bGUiOiIyMDIyMTEwN18xMTI2NDAiLCJjYXB0aW9uIjoiIiwiYWx0IjoiIiwiZGVzY
 3JpcHRpb24iOiIifQ=="]
ATTACH;FMTTYPE=image/jpeg:https://www.kjuc.si/wp-content/uploads/2025/03/v
 ida_vabilo-page-001.jpg
CATEGORIES:Razstave
LOCATION:Enota Ivana Matičiča Rakek\, Partizanska cesta 8a\, Rakek\, Slov
 enia
GEO:45.8127;14.319238
X-APPLE-STRUCTURED-LOCATION;VALUE=URI;X-ADDRESS=Partizanska cesta 8a\, Rake
 k\, Slovenia;X-APPLE-RADIUS=100;X-TITLE=Enota Ivana Matičiča Rakek:geo:4
 5.8127,14.319238
END:VEVENT
BEGIN:VTIMEZONE
TZID:Europe/Ljubljana
X-LIC-LOCATION:Europe/Ljubljana
BEGIN:DAYLIGHT
DTSTART:20220327T030000
TZOFFSETFROM:+0100
TZOFFSETTO:+0200
TZNAME:CEST
END:DAYLIGHT
BEGIN:STANDARD
DTSTART:20221030T020000
TZOFFSETFROM:+0200
TZOFFSETTO:+0100
TZNAME:CET
END:STANDARD
END:VTIMEZONE
END:VCALENDAR