BEGIN:VCALENDAR
VERSION:2.0
PRODID:-//wp-events-plugin.com//7.2.3.1//EN
TZID:Europe/Ljubljana
X-WR-TIMEZONE:Europe/Ljubljana
BEGIN:VEVENT
UID:90@kjuc.si
DTSTART;TZID=Europe/Ljubljana:20150603T190000
DTEND;TZID=Europe/Ljubljana:20150603T210000
DTSTAMP:20250331T094808Z
URL:https://www.kjuc.si/dogodki/vida-mokrin-pauer-poezija-magija/
SUMMARY:Vida Mokrin Pauer: !!! POEZIJA = MAGIJA !!!
DESCRIPTION: \n\n&nbsp\;\n\nvabilo: vidamp_jun2015
ATTACH;FMTTYPE=image/jpeg:https://www.kjuc.si/wp-content/uploads/2025/03/8
 84_1.jpg
CATEGORIES:Predstavitve
LOCATION:Knjižnica Jožeta Udoviča Cerknica\, Partizanska cesta 22\, Cerk
 nica\, Slovenia
GEO:45.795484;14.362483
X-APPLE-STRUCTURED-LOCATION;VALUE=URI;X-ADDRESS=Partizanska cesta 22\, Cerk
 nica\, Slovenia;X-APPLE-RADIUS=100;X-TITLE=Knjižnica Jožeta Udoviča Cer
 knica:geo:45.795484,14.362483
END:VEVENT
BEGIN:VTIMEZONE
TZID:Europe/Ljubljana
X-LIC-LOCATION:Europe/Ljubljana
BEGIN:DAYLIGHT
DTSTART:20150329T030000
TZOFFSETFROM:+0100
TZOFFSETTO:+0200
TZNAME:CEST
END:DAYLIGHT
END:VTIMEZONE
END:VCALENDAR