BEGIN:VCALENDAR
VERSION:2.0
PRODID:-//wp-events-plugin.com//7.2.3.1//EN
TZID:Europe/Ljubljana
X-WR-TIMEZONE:Europe/Ljubljana
BEGIN:VEVENT
UID:1352@kjuc.si
DTSTART;TZID=Europe/Ljubljana:20221108T180000
DTEND;TZID=Europe/Ljubljana:20221108T190000
DTSTAMP:20250331T104033Z
URL:https://www.kjuc.si/dogodki/viljem-gogala-potopis-duhovno-potopisni-ve
 cer/
SUMMARY:Viljem Gogala: POTopis - duhovno-potopisni večer
DESCRIPTION:\n\nVabilo\n\nO POTopisu\n\nRakovška knjižnica je 8. novembra
  2022 gostila Viljema Gogalo\, ki je z obiskovalci delil svojo popotniško
  in življenjsko izkušnjo duhovne narave.\n\nPo izobrazbi pravnik in magi
 ster sociologije\, tudi nekdanji novinar Sobotne priloge\, je pred več ko
 t petnajstimi leti sprejel odločitev\, da postane popotnik. Odpravil se j
 e na pot brez denarja\, prenočeval večinoma zunaj\, se umival v rekah te
 r se prehranjeval z ostanki. Prehodil je večino romarskih poti\, od Kompo
 stele in Rima\, vse do Jeruzalema.\n\nNjegovo potovanje\, ki ni bilo le fi
 zično\, ampak tudi duhovno\, je rodilo knjigo z naslovom POTopis. Ni nač
 rtoval vrnitve med ljudi\, a ga je prav knjiga vrnila mednje. Zadnja leta 
 tako hodi po Sloveniji in na druženjih predstavlja svojo pot. Knjigo je i
 lustriral slikar Nikolaj Mašukov in je ni moč dobiti v redni prodaji\, n
 a voljo je le na predstavitvah. Naši bralci si jo boste lahko izposodili 
 v knjižnici.\n\nViljem je vsekakor zelo zanimiv sogovornik\, ki s svojim 
 delovanjem želi spodbuditi ljudi\, da si prisluhnejo\, najdejo svojo pot\
 , kot pravi. Ni nujno\, da na enak način\, kot jo je on. Nas je pa vsekak
 or opomnil na našo čudovito pokrajino in navdihnil za sprehod\, ki nam b
 o morda dal misliti.\n\n&nbsp\;\n\nNevena Savić\n\n[gallery link="none" s
 ize="full" ids="eyJ1cmwiOiJodHRwczpcL1wvd3d3LmtqdWMuc2lcL3dwLWNvbnRlbnRcL3
 VwbG9hZHNcLzIwMjJcLzExXC8yMDIyMTEwOF8xODMwMjcuanBnIiwidGl0bGUiOiIyMDIyMTEw
 OF8xODMwMjciLCJjYXB0aW9uIjoiIiwiYWx0IjoiIiwiZGVzY3JpcHRpb24iOiIifQ==\,eyJ1
 cmwiOiJodHRwczpcL1wvd3d3LmtqdWMuc2lcL3dwLWNvbnRlbnRcL3VwbG9hZHNcLzIwMjJcLz
 ExXC9nb2dhbGEuanBnIiwidGl0bGUiOiJnb2dhbGEiLCJjYXB0aW9uIjoiIiwiYWx0IjoiIiwi
 ZGVzY3JpcHRpb24iOiIifQ==\,eyJ1cmwiOiJodHRwczpcL1wvd3d3LmtqdWMuc2lcL3dwLWNv
 bnRlbnRcL3VwbG9hZHNcLzIwMjJcLzEwXC8yMDIyMTEwOF8xODMwMTYuanBnIiwidGl0bGUiOi
 IyMDIyMTEwOF8xODMwMTYiLCJjYXB0aW9uIjoiIiwiYWx0IjoiIiwiZGVzY3JpcHRpb24iOiIi
 fQ=="]
ATTACH;FMTTYPE=image/jpeg:https://www.kjuc.si/wp-content/uploads/2025/03/v
 abilo_gogala-page-001.jpg
CATEGORIES:Predstavitve,Prireditev,Razno
LOCATION:Enota Ivana Matičiča Rakek\, Partizanska cesta 8a\, Rakek\, Slov
 enia
GEO:45.8127;14.319238
X-APPLE-STRUCTURED-LOCATION;VALUE=URI;X-ADDRESS=Partizanska cesta 8a\, Rake
 k\, Slovenia;X-APPLE-RADIUS=100;X-TITLE=Enota Ivana Matičiča Rakek:geo:4
 5.8127,14.319238
END:VEVENT
BEGIN:VTIMEZONE
TZID:Europe/Ljubljana
X-LIC-LOCATION:Europe/Ljubljana
BEGIN:STANDARD
DTSTART:20221030T020000
TZOFFSETFROM:+0200
TZOFFSETTO:+0100
TZNAME:CET
END:STANDARD
END:VTIMEZONE
END:VCALENDAR