BEGIN:VCALENDAR
VERSION:2.0
PRODID:-//wp-events-plugin.com//7.2.3.1//EN
TZID:Europe/Ljubljana
X-WR-TIMEZONE:Europe/Ljubljana
BEGIN:VEVENT
UID:2223@kjuc.si
DTSTART;TZID=Europe/Ljubljana:20260513T190000
DTEND;TZID=Europe/Ljubljana:20260513T210000
DTSTAMP:20260424T163626Z
URL:https://www.kjuc.si/dogodki/violeta-tomic-ubogaj-mamo-in-ne-pozabi-oce
 ta-predstavitev-knjige/
SUMMARY:Violeta Tomić: Ubogaj mamo in ne pozabi očeta - predstavitev knji
 ge
DESCRIPTION:\n\nVioleta Tomić\, igralka\, režiserka\, TV voditeljica in n
 ekaj časa celo poslanka v DZ\, je javna oseba\, o kateri vsi mislimo\, da
  jo poznamo. Ko pa preberemo njen prvenec\, avtobiografijo Ubogaj mamo in 
 ne pozabi na očeta\, nam postane jasno\, da nič ne bi moglo biti dlje od
  resnice.\n\n\n\nKarel Gržan:\n»Ta knjiga je morala biti napisana zaradi
  tolikih\, ki s(m)o (bili) tako ali drugače zlorabljani. Nastati je moral
 a zato\, ker budi v življenje\, ker je v njej vzgib za vstajenje iz posle
 dic zlorab. Violetina izpoved – njena zgodba nagovarja našo: »Če je u
 spelo preživeti meni\, bi moralo vsakemu\,« nam sporoča. Ta knjiga nosi
  v sebi terapevtski impulz: Violetin dvig iz notranje potlačenosti nas sp
 odbuja\, da se tudi sami dvignemo v dostojanstvo\; njen upor proti zloraba
 m budi našega\, da brezkompromisno ustavljamo zlohotne pohotneže. Njena 
 knjiga rojeva bojevnike zoper smrtni greh\, storjen nemočnim\, nedolžnim
 .«\n\nVioleta Tomić Ubogaj mamo in ne pozabi očeta 
ATTACH;FMTTYPE=image/jpeg:https://www.kjuc.si/wp-content/uploads/2026/04/u
 bogaj-mamo-in-ne-pozabi-oceta.jpg
CATEGORIES:Predstavitve,Prireditev
LOCATION:Knjižnica Jožeta Udoviča Cerknica\, Partizanska cesta 22\, Cerk
 nica\, Slovenia
GEO:45.795484;14.362483
X-APPLE-STRUCTURED-LOCATION;VALUE=URI;X-ADDRESS=Partizanska cesta 22\, Cerk
 nica\, Slovenia;X-APPLE-RADIUS=100;X-TITLE=Knjižnica Jožeta Udoviča Cer
 knica:geo:45.795484,14.362483
END:VEVENT
BEGIN:VTIMEZONE
TZID:Europe/Ljubljana
X-LIC-LOCATION:Europe/Ljubljana
BEGIN:DAYLIGHT
DTSTART:20260329T030000
TZOFFSETFROM:+0100
TZOFFSETTO:+0200
TZNAME:CEST
END:DAYLIGHT
END:VTIMEZONE
END:VCALENDAR