BEGIN:VCALENDAR
VERSION:2.0
PRODID:-//wp-events-plugin.com//7.2.3.1//EN
TZID:Europe/Ljubljana
X-WR-TIMEZONE:Europe/Ljubljana
BEGIN:VEVENT
UID:1235@kjuc.si
DTSTART;TZID=Europe/Ljubljana:20220420T180000
DTEND;TZID=Europe/Ljubljana:20220420T200000
DTSTAMP:20250331T103814Z
URL:https://www.kjuc.si/dogodki/vlasta-mlakar-rastlina-je-sveta-od-korenin
 -do-cveta-2/
SUMMARY:Vlasta Mlakar: Rastlina je sveta\, od korenin do cveta
DESCRIPTION:\n\nLjudsko zdravilstvo kot del tradicionalne kulture Slovencev
  je v marsičem zelo samosvoje\, nadvse pa preseneča izredna pestrost lju
 dskih imen za zdravilne rastline. Naši predniki so približno 500 zdravil
 nih rastlin poimenovali s kar 6000 domačimi imeni. Tradicionalno znanje o
  uporabi rastlin razkriva tudi vso njihovo iznajdljivost\, duhovni razvoj\
 , pogled na svet in naravne pojave – skratka modrost življenja\, ki je 
 izhajala iz tesne povezanosti z naravo. Ljudsko zdravilstvo je slonelo na 
 prastarih izkušnjah in se je z ustnim izročilom prenašalo iz roda v rod
 . Z zdravilnimi rastlinami so se ukvarjale ženske\, ki so skrbele za kuha
 nje in dom\, a je bilo poznavanje zdravilnih rastlin vselej tudi dejavnost
  posebej izurjenih posameznikov\, v najstarejših časih vračev in vračk
 \, pozneje raznih ljudskih zdravilcev\, padarjev in zeliščarjev. Valvaso
 r navaja\, da so bile na Kranjskem še v 17. stoletju znane ženske\, ki s
 o poznale zdravilna in čarovna sredstva za mnoge bolezni\, ljudstvo pa ji
 m je pripisovalo nadnaravno moč\, zato so jih imenovali boginje. S kršč
 anstvom so vrače in vračke označili za čarovnike in čarovnice ter jih
  preganjali. Od 19. stoletja sta bili vse pomembnejši medicina in kemija\
 , ljudske zdravilske pripravke pa so izpodrivali lekarniški. Ljudsko zdra
 vilstvo je ves čas sobivalo s cerkvenimi prepovedmi\, ki so ljudsko praks
 o označile za vraževerje\, uradna medicina pa je ljudske zdravilce imeno
 vala mazači\, šarlatani. Vendar so bili preprosti kmečki ljudje zaradi 
 slabega gmotnega stanja in oddaljenosti od zdravnikov še dolgo prepušče
 ni lastni iznajdljivosti in pomoči ljudskih zdravilcev.\n\nwww.etnobotani
 ka.si\n\nVLASTA MLAKAR
ATTACH;FMTTYPE=image/jpeg:https://www.kjuc.si/wp-content/uploads/2025/03/V
 LASTA-MLAKAR-1024x838-1.jpg
CATEGORIES:Predavanja,Predstavitve,Prireditev
LOCATION:Knjižnica Jožeta Udoviča Cerknica\, Partizanska cesta 22\, Cerk
 nica\, Slovenia
GEO:45.795484;14.362483
X-APPLE-STRUCTURED-LOCATION;VALUE=URI;X-ADDRESS=Partizanska cesta 22\, Cerk
 nica\, Slovenia;X-APPLE-RADIUS=100;X-TITLE=Knjižnica Jožeta Udoviča Cer
 knica:geo:45.795484,14.362483
END:VEVENT
BEGIN:VTIMEZONE
TZID:Europe/Ljubljana
X-LIC-LOCATION:Europe/Ljubljana
BEGIN:DAYLIGHT
DTSTART:20220327T030000
TZOFFSETFROM:+0100
TZOFFSETTO:+0200
TZNAME:CEST
END:DAYLIGHT
END:VTIMEZONE
END:VCALENDAR