BEGIN:VCALENDAR
VERSION:2.0
PRODID:-//wp-events-plugin.com//7.2.3.1//EN
TZID:Europe/Ljubljana
X-WR-TIMEZONE:Europe/Ljubljana
BEGIN:VEVENT
UID:352@kjuc.si
DTSTART;TZID=Europe/Ljubljana;VALUE=DATE:20161205
DTEND;TZID=Europe/Ljubljana;VALUE=DATE:20170107
DTSTAMP:20250331T100502Z
URL:https://www.kjuc.si/dogodki/volna-razstava-izdelkov-nastalih-v-studijs
 kem-krozku-3/
SUMMARY:Volna – razstava izdelkov\, nastalih v študijskem krožku
DESCRIPTION:\n\n[gallery link="file" columns="2" size="full" ids="eyJ1cmwiO
 iJodHRwczpcL1wvd3d3LmtqdWMuc2lcL3dwLWNvbnRlbnRcL3VwbG9hZHNcLzIwMTZcLzEyXC8
 yMDE2MTIwM18wODU3MDQuanBnIiwidGl0bGUiOiIyMDE2MTIwM18wODU3MDQiLCJjYXB0aW9uI
 joiIiwiYWx0IjoiIiwiZGVzY3JpcHRpb24iOiIifQ==\,eyJ1cmwiOiJodHRwczpcL1wvd3d3L
 mtqdWMuc2lcL3dwLWNvbnRlbnRcL3VwbG9hZHNcLzIwMTZcLzEyXC8yMDE2MTIwM18wODU3MDg
 uanBnIiwidGl0bGUiOiIyMDE2MTIwM18wODU3MDgiLCJjYXB0aW9uIjoiIiwiYWx0IjoiIiwiZ
 GVzY3JpcHRpb24iOiIifQ==\,eyJ1cmwiOiJodHRwczpcL1wvd3d3LmtqdWMuc2lcL3dwLWNvb
 nRlbnRcL3VwbG9hZHNcLzIwMTZcLzEyXC8yMDE2MTIwM18wODU3MjAuanBnIiwidGl0bGUiOiI
 yMDE2MTIwM18wODU3MjAiLCJjYXB0aW9uIjoiIiwiYWx0IjoiIiwiZGVzY3JpcHRpb24iOiIif
 Q==\,eyJ1cmwiOiJodHRwczpcL1wvd3d3LmtqdWMuc2lcL3dwLWNvbnRlbnRcL3VwbG9hZHNcL
 zIwMTZcLzEyXC8yMDE2MTIwM18wODU3MjkuanBnIiwidGl0bGUiOiIyMDE2MTIwM18wODU3Mjk
 iLCJjYXB0aW9uIjoiIiwiYWx0IjoiIiwiZGVzY3JpcHRpb24iOiIifQ=="]
ATTACH;FMTTYPE=image/jpeg:https://www.kjuc.si/wp-content/uploads/2025/03/c
 overpredstavna.jpg
CATEGORIES:Razstave
LOCATION:Enota Ivana Matičiča Rakek\, Partizanska cesta 8a\, Rakek\, Slov
 enia
GEO:45.8127;14.319238
X-APPLE-STRUCTURED-LOCATION;VALUE=URI;X-ADDRESS=Partizanska cesta 8a\, Rake
 k\, Slovenia;X-APPLE-RADIUS=100;X-TITLE=Enota Ivana Matičiča Rakek:geo:4
 5.8127,14.319238
END:VEVENT
BEGIN:VTIMEZONE
TZID:Europe/Ljubljana
X-LIC-LOCATION:Europe/Ljubljana
BEGIN:STANDARD
DTSTART:20161030T020000
TZOFFSETFROM:+0200
TZOFFSETTO:+0100
TZNAME:CET
END:STANDARD
END:VTIMEZONE
END:VCALENDAR