BEGIN:VCALENDAR
VERSION:2.0
PRODID:-//wp-events-plugin.com//7.2.3.1//EN
TZID:Europe/Ljubljana
X-WR-TIMEZONE:Europe/Ljubljana
BEGIN:VEVENT
UID:1689@kjuc.si
DTSTART;TZID=Europe/Ljubljana:20240321T120000
DTEND;TZID=Europe/Ljubljana:20240321T190000
DTSTAMP:20250331T104509Z
URL:https://www.kjuc.si/dogodki/vzemi-pesem-21-marec-svetovni-dan-poezije-
 izbor-pesmi-iz-pesniskih-zbirk-duhovnika-in-pesnika-franceta-lokarja/
SUMMARY:Vzemi pesem 21. marec – svetovni dan poezije - izbor pesmi iz pes
 niških zbirk duhovnika in pesnika Franceta Lokarja
DESCRIPTION:
ATTACH;FMTTYPE=image/jpeg:https://www.kjuc.si/wp-content/uploads/2025/03/L
 okar-21.3.jpg
CATEGORIES:Prireditev,Razno
LOCATION:Enota Maričke Žnidaršič Stari trg\, Cesta Notranjskega odreda 
 32\, Stari trg pri Ložu\, Slovenia
GEO:45.712702;14.472784
X-APPLE-STRUCTURED-LOCATION;VALUE=URI;X-ADDRESS=Cesta Notranjskega odreda 3
 2\, Stari trg pri Ložu\, Slovenia;X-APPLE-RADIUS=100;X-TITLE=Enota Marič
 ke Žnidaršič Stari trg:geo:45.712702,14.472784
END:VEVENT
BEGIN:VTIMEZONE
TZID:Europe/Ljubljana
X-LIC-LOCATION:Europe/Ljubljana
BEGIN:STANDARD
DTSTART:20231029T020000
TZOFFSETFROM:+0200
TZOFFSETTO:+0100
TZNAME:CET
END:STANDARD
END:VTIMEZONE
END:VCALENDAR