BEGIN:VCALENDAR
VERSION:2.0
PRODID:-//wp-events-plugin.com//7.2.3.1//EN
TZID:Europe/Ljubljana
X-WR-TIMEZONE:Europe/Ljubljana
BEGIN:VEVENT
UID:426@kjuc.si
DTSTART;TZID=Europe/Ljubljana:20170321T090000
DTEND;TZID=Europe/Ljubljana:20170324T110000
DTSTAMP:20250331T100759Z
URL:https://www.kjuc.si/dogodki/z-racunalnikom-v-svet-8-urni-brezplacni-ra
 cunalniski-tecaj-za-vse-clane-knjiznice/
SUMMARY:Z računalnikom v svet - 8-urni brezplačni računalniški tečaj z
 a vse člane knjižnice
DESCRIPTION:
ATTACH;FMTTYPE=image/jpeg:https://www.kjuc.si/wp-content/uploads/2025/03/s
 lika-12.jpg
CATEGORIES:Tečaj
LOCATION:Enota Ivana Matičiča Rakek\, Partizanska cesta 8a\, Rakek\, Slov
 enia
GEO:45.8127;14.319238
X-APPLE-STRUCTURED-LOCATION;VALUE=URI;X-ADDRESS=Partizanska cesta 8a\, Rake
 k\, Slovenia;X-APPLE-RADIUS=100;X-TITLE=Enota Ivana Matičiča Rakek:geo:4
 5.8127,14.319238
END:VEVENT
BEGIN:VTIMEZONE
TZID:Europe/Ljubljana
X-LIC-LOCATION:Europe/Ljubljana
BEGIN:STANDARD
DTSTART:20161030T020000
TZOFFSETFROM:+0200
TZOFFSETTO:+0100
TZNAME:CET
END:STANDARD
END:VTIMEZONE
END:VCALENDAR