BEGIN:VCALENDAR
VERSION:2.0
PRODID:-//wp-events-plugin.com//7.2.3.1//EN
TZID:Europe/Ljubljana
X-WR-TIMEZONE:Europe/Ljubljana
BEGIN:VEVENT
UID:346@kjuc.si
DTSTART;TZID=Europe/Ljubljana:20161209T170000
DTEND;TZID=Europe/Ljubljana:20161209T180000
DTSTAMP:20250331T100444Z
URL:https://www.kjuc.si/dogodki/zasnezena-pravljicna-urica-z-ustvarjalno-d
 elavnico-za-otroke-od-4-leta-dalje-2/
SUMMARY:Zasnežena pravljična urica z ustvarjalno delavnico za otroke od 4
 . leta dalje
DESCRIPTION:\n\nVabilo\n\n[gallery link="file" columns="4" size="medium" id
 s="eyJ1cmwiOiJodHRwczpcL1wvd3d3LmtqdWMuc2lcL3dwLWNvbnRlbnRcL3VwbG9hZHNcLzI
 wMTZcLzExXC9QQzA5MDAwMS5qcGciLCJ0aXRsZSI6InBjMDkwMDAxIiwiY2FwdGlvbiI6IiIsI
 mFsdCI6IiIsImRlc2NyaXB0aW9uIjoiIn0=\,eyJ1cmwiOiJodHRwczpcL1wvd3d3LmtqdWMuc
 2lcL3dwLWNvbnRlbnRcL3VwbG9hZHNcLzIwMTZcLzExXC9QQzA5MDAxNS5qcGciLCJ0aXRsZSI
 6InBjMDkwMDE1IiwiY2FwdGlvbiI6IiIsImFsdCI6IiIsImRlc2NyaXB0aW9uIjoiIn0=\,eyJ
 1cmwiOiJodHRwczpcL1wvd3d3LmtqdWMuc2lcL3dwLWNvbnRlbnRcL3VwbG9hZHNcLzIwMTZcL
 zExXC9QQzA5MDAxNC5qcGciLCJ0aXRsZSI6InBjMDkwMDE0IiwiY2FwdGlvbiI6IiIsImFsdCI
 6IiIsImRlc2NyaXB0aW9uIjoiIn0=\,eyJ1cmwiOiJodHRwczpcL1wvd3d3LmtqdWMuc2lcL3d
 wLWNvbnRlbnRcL3VwbG9hZHNcLzIwMTZcLzExXC9QQzA5MDAxMy5qcGciLCJ0aXRsZSI6InBjM
 DkwMDEzIiwiY2FwdGlvbiI6IiIsImFsdCI6IiIsImRlc2NyaXB0aW9uIjoiIn0=\,eyJ1cmwiO
 iJodHRwczpcL1wvd3d3LmtqdWMuc2lcL3dwLWNvbnRlbnRcL3VwbG9hZHNcLzIwMTZcLzExXC9
 QQzA5MDAxMi5qcGciLCJ0aXRsZSI6InBjMDkwMDEyIiwiY2FwdGlvbiI6IiIsImFsdCI6IiIsI
 mRlc2NyaXB0aW9uIjoiIn0=\,eyJ1cmwiOiJodHRwczpcL1wvd3d3LmtqdWMuc2lcL3dwLWNvb
 nRlbnRcL3VwbG9hZHNcLzIwMTZcLzExXC9QQzA5MDAxMS5qcGciLCJ0aXRsZSI6InBjMDkwMDE
 xIiwiY2FwdGlvbiI6IiIsImFsdCI6IiIsImRlc2NyaXB0aW9uIjoiIn0=\,eyJ1cmwiOiJodHR
 wczpcL1wvd3d3LmtqdWMuc2lcL3dwLWNvbnRlbnRcL3VwbG9hZHNcLzIwMTZcLzExXC9QQzA5M
 DAxMC5qcGciLCJ0aXRsZSI6InBjMDkwMDEwIiwiY2FwdGlvbiI6IiIsImFsdCI6IiIsImRlc2N
 yaXB0aW9uIjoiIn0=\,eyJ1cmwiOiJodHRwczpcL1wvd3d3LmtqdWMuc2lcL3dwLWNvbnRlbnR
 cL3VwbG9hZHNcLzIwMTZcLzExXC9QQzA5MDAwOC5qcGciLCJ0aXRsZSI6InBjMDkwMDA4IiwiY
 2FwdGlvbiI6IiIsImFsdCI6IiIsImRlc2NyaXB0aW9uIjoiIn0=\,eyJ1cmwiOiJodHRwczpcL
 1wvd3d3LmtqdWMuc2lcL3dwLWNvbnRlbnRcL3VwbG9hZHNcLzIwMTZcLzExXC9QQzA5MDAwNy5
 qcGciLCJ0aXRsZSI6InBjMDkwMDA3IiwiY2FwdGlvbiI6IiIsImFsdCI6IiIsImRlc2NyaXB0a
 W9uIjoiIn0=\,eyJ1cmwiOiJodHRwczpcL1wvd3d3LmtqdWMuc2lcL3dwLWNvbnRlbnRcL3Vwb
 G9hZHNcLzIwMTZcLzExXC9QQzA5MDAwNS5qcGciLCJ0aXRsZSI6InBjMDkwMDA1IiwiY2FwdGl
 vbiI6IiIsImFsdCI6IiIsImRlc2NyaXB0aW9uIjoiIn0=\,eyJ1cmwiOiJodHRwczpcL1wvd3d
 3LmtqdWMuc2lcL3dwLWNvbnRlbnRcL3VwbG9hZHNcLzIwMTZcLzExXC9QQzA5MDAwMy5qcGciL
 CJ0aXRsZSI6InBjMDkwMDAzIiwiY2FwdGlvbiI6IiIsImFsdCI6IiIsImRlc2NyaXB0aW9uIjo
 iIn0=\,eyJ1cmwiOiJodHRwczpcL1wvd3d3LmtqdWMuc2lcL3dwLWNvbnRlbnRcL3VwbG9hZHN
 cLzIwMTZcLzExXC9QQzA5MDAwMi5qcGciLCJ0aXRsZSI6InBjMDkwMDAyIiwiY2FwdGlvbiI6I
 iIsImFsdCI6IiIsImRlc2NyaXB0aW9uIjoiIn0="]
ATTACH;FMTTYPE=image/jpeg:https://www.kjuc.si/wp-content/uploads/2025/03/a
 e1fd75628411103d318fd7ceb3232e5.jpg
CATEGORIES:Prireditev,Za otroke
LOCATION:Knjižnica Jožeta Udoviča Cerknica\, Partizanska cesta 22\, Cerk
 nica\, Slovenia
GEO:45.795484;14.362483
X-APPLE-STRUCTURED-LOCATION;VALUE=URI;X-ADDRESS=Partizanska cesta 22\, Cerk
 nica\, Slovenia;X-APPLE-RADIUS=100;X-TITLE=Knjižnica Jožeta Udoviča Cer
 knica:geo:45.795484,14.362483
END:VEVENT
BEGIN:VTIMEZONE
TZID:Europe/Ljubljana
X-LIC-LOCATION:Europe/Ljubljana
BEGIN:STANDARD
DTSTART:20161030T020000
TZOFFSETFROM:+0200
TZOFFSETTO:+0100
TZNAME:CET
END:STANDARD
END:VTIMEZONE
END:VCALENDAR