BEGIN:VCALENDAR
VERSION:2.0
PRODID:-//wp-events-plugin.com//7.2.3.1//EN
TZID:Europe/Ljubljana
X-WR-TIMEZONE:Europe/Ljubljana
BEGIN:VEVENT
UID:345@kjuc.si
DTSTART;TZID=Europe/Ljubljana:20161208T170000
DTEND;TZID=Europe/Ljubljana:20161208T180000
DTSTAMP:20250331T100441Z
URL:https://www.kjuc.si/dogodki/zasnezena-pravljicna-urica-z-ustvarjalno-d
 elavnico-za-otroke-od-4-leta-dalje/
SUMMARY:Zasnežena pravljična urica z ustvarjalno delavnico za otroke od 4
 . leta dalje
DESCRIPTION:\n\nVabilo\n\n[gallery link="file" columns="4" size="medium" id
 s="eyJ1cmwiOiJodHRwczpcL1wvd3d3LmtqdWMuc2lcL3dwLWNvbnRlbnRcL3VwbG9hZHNcLzI
 wMTZcLzExXC8yMDE2MTIwOF8xNzA4NDguanBnIiwidGl0bGUiOiIyMDE2MTIwOF8xNzA4NDgiL
 CJjYXB0aW9uIjoiIiwiYWx0IjoiIiwiZGVzY3JpcHRpb24iOiIifQ==\,eyJ1cmwiOiJodHRwc
 zpcL1wvd3d3LmtqdWMuc2lcL3dwLWNvbnRlbnRcL3VwbG9hZHNcLzIwMTZcLzExXC8yMDE2MTI
 wOF8xNzA5MDMuanBnIiwidGl0bGUiOiIyMDE2MTIwOF8xNzA5MDMiLCJjYXB0aW9uIjoiIiwiY
 Wx0IjoiIiwiZGVzY3JpcHRpb24iOiIifQ==\,eyJ1cmwiOiJodHRwczpcL1wvd3d3LmtqdWMuc
 2lcL3dwLWNvbnRlbnRcL3VwbG9hZHNcLzIwMTZcLzExXC8yMDE2MTIwOF8xNzA5MDkuanBnIiw
 idGl0bGUiOiIyMDE2MTIwOF8xNzA5MDkiLCJjYXB0aW9uIjoiIiwiYWx0IjoiIiwiZGVzY3Jpc
 HRpb24iOiIifQ==\,eyJ1cmwiOiJodHRwczpcL1wvd3d3LmtqdWMuc2lcL3dwLWNvbnRlbnRcL
 3VwbG9hZHNcLzIwMTZcLzExXC8yMDE2MTIwOF8xNzEwMDguanBnIiwidGl0bGUiOiIyMDE2MTI
 wOF8xNzEwMDgiLCJjYXB0aW9uIjoiIiwiYWx0IjoiIiwiZGVzY3JpcHRpb24iOiIifQ==\,eyJ
 1cmwiOiJodHRwczpcL1wvd3d3LmtqdWMuc2lcL3dwLWNvbnRlbnRcL3VwbG9hZHNcLzIwMTZcL
 zExXC8yMDE2MTIwOF8xNzEwMTUuanBnIiwidGl0bGUiOiIyMDE2MTIwOF8xNzEwMTUiLCJjYXB
 0aW9uIjoiIiwiYWx0IjoiIiwiZGVzY3JpcHRpb24iOiIifQ==\,eyJ1cmwiOiJodHRwczpcL1w
 vd3d3LmtqdWMuc2lcL3dwLWNvbnRlbnRcL3VwbG9hZHNcLzIwMTZcLzExXC8yMDE2MTIwOF8xN
 zM3NDcuanBnIiwidGl0bGUiOiIyMDE2MTIwOF8xNzM3NDciLCJjYXB0aW9uIjoiIiwiYWx0Ijo
 iIiwiZGVzY3JpcHRpb24iOiIifQ==\,eyJ1cmwiOiJodHRwczpcL1wvd3d3LmtqdWMuc2lcL3d
 wLWNvbnRlbnRcL3VwbG9hZHNcLzIwMTZcLzExXC8yMDE2MTIwOF8xNzM4MDQuanBnIiwidGl0b
 GUiOiIyMDE2MTIwOF8xNzM4MDQiLCJjYXB0aW9uIjoiIiwiYWx0IjoiIiwiZGVzY3JpcHRpb24
 iOiIifQ==\,eyJ1cmwiOiJodHRwczpcL1wvd3d3LmtqdWMuc2lcL3dwLWNvbnRlbnRcL3VwbG9
 hZHNcLzIwMTZcLzExXC8yMDE2MTIwOF8xODAzMjMuanBnIiwidGl0bGUiOiIyMDE2MTIwOF8xO
 DAzMjMiLCJjYXB0aW9uIjoiIiwiYWx0IjoiIiwiZGVzY3JpcHRpb24iOiIifQ==\,eyJ1cmwiO
 iJodHRwczpcL1wvd3d3LmtqdWMuc2lcL3dwLWNvbnRlbnRcL3VwbG9hZHNcLzIwMTZcLzExXC8
 yMDE2MTIwOF8xODAzMzMuanBnIiwidGl0bGUiOiIyMDE2MTIwOF8xODAzMzMiLCJjYXB0aW9uI
 joiIiwiYWx0IjoiIiwiZGVzY3JpcHRpb24iOiIifQ==\,eyJ1cmwiOiJodHRwczpcL1wvd3d3L
 mtqdWMuc2lcL3dwLWNvbnRlbnRcL3VwbG9hZHNcLzIwMTZcLzExXC8yMDE2MTIwOF8xODAzMzg
 uanBnIiwidGl0bGUiOiIyMDE2MTIwOF8xODAzMzgiLCJjYXB0aW9uIjoiIiwiYWx0IjoiIiwiZ
 GVzY3JpcHRpb24iOiIifQ==\,eyJ1cmwiOiJodHRwczpcL1wvd3d3LmtqdWMuc2lcL3dwLWNvb
 nRlbnRcL3VwbG9hZHNcLzIwMTZcLzExXC8yMDE2MTIwOF8xODAzNDQuanBnIiwidGl0bGUiOiI
 yMDE2MTIwOF8xODAzNDQiLCJjYXB0aW9uIjoiIiwiYWx0IjoiIiwiZGVzY3JpcHRpb24iOiIif
 Q=="]
ATTACH;FMTTYPE=image/jpeg:https://www.kjuc.si/wp-content/uploads/2025/03/a
 e1fd75628411103d318fd7ceb3232e5.jpg
CATEGORIES:Prireditev,Za otroke
LOCATION:Knjižnica Jožeta Udoviča Cerknica\, Partizanska cesta 22\, Cerk
 nica\, Slovenia
GEO:45.795484;14.362483
X-APPLE-STRUCTURED-LOCATION;VALUE=URI;X-ADDRESS=Partizanska cesta 22\, Cerk
 nica\, Slovenia;X-APPLE-RADIUS=100;X-TITLE=Knjižnica Jožeta Udoviča Cer
 knica:geo:45.795484,14.362483
END:VEVENT
BEGIN:VTIMEZONE
TZID:Europe/Ljubljana
X-LIC-LOCATION:Europe/Ljubljana
BEGIN:STANDARD
DTSTART:20161030T020000
TZOFFSETFROM:+0200
TZOFFSETTO:+0100
TZNAME:CET
END:STANDARD
END:VTIMEZONE
END:VCALENDAR