BEGIN:VCALENDAR
VERSION:2.0
PRODID:-//wp-events-plugin.com//7.2.3.1//EN
TZID:Europe/Ljubljana
X-WR-TIMEZONE:Europe/Ljubljana
BEGIN:VEVENT
UID:58@kjuc.si
DTSTART;TZID=Europe/Ljubljana;VALUE=DATE:20150320
DTEND;TZID=Europe/Ljubljana;VALUE=DATE:20150421
DTSTAMP:20250331T094656Z
URL:https://www.kjuc.si/dogodki/zbirateljska-razstava-figuric-vzigalnikov-
 denarja-druzina-zadnik/
SUMMARY:Zbirateljska razstava figuric\, vžigalnikov\, denarja - družina Z
 adnik
DESCRIPTION: \n\n&nbsp\;\n\n[gallery ids="eyJ1cmwiOiJodHRwczpcL1wvd3d3Lmtqd
 WMuc2lcL3dwLWNvbnRlbnRcL3VwbG9hZHNcLzIwMTVcLzA2XC84NDRfMTAuanBnIiwidGl0bGU
 iOiI4NDRfMTAiLCJjYXB0aW9uIjoiIiwiYWx0IjoiIiwiZGVzY3JpcHRpb24iOiIifQ==\,eyJ
 1cmwiOiJodHRwczpcL1wvd3d3LmtqdWMuc2lcL3dwLWNvbnRlbnRcL3VwbG9hZHNcLzIwMTVcL
 zA2XC84NDRfOS5qcGciLCJ0aXRsZSI6Ijg0NF85IiwiY2FwdGlvbiI6IiIsImFsdCI6IiIsImR
 lc2NyaXB0aW9uIjoiIn0=\,eyJ1cmwiOiJodHRwczpcL1wvd3d3LmtqdWMuc2lcL3dwLWNvbnR
 lbnRcL3VwbG9hZHNcLzIwMTVcLzA2XC84NDRfOC5qcGciLCJ0aXRsZSI6Ijg0NF84IiwiY2Fwd
 GlvbiI6IiIsImFsdCI6IiIsImRlc2NyaXB0aW9uIjoiIn0=\,eyJ1cmwiOiJodHRwczpcL1wvd
 3d3LmtqdWMuc2lcL3dwLWNvbnRlbnRcL3VwbG9hZHNcLzIwMTVcLzA2XC84NDRfNy5qcGciLCJ
 0aXRsZSI6Ijg0NF83IiwiY2FwdGlvbiI6IiIsImFsdCI6IiIsImRlc2NyaXB0aW9uIjoiIn0=\
 ,eyJ1cmwiOiJodHRwczpcL1wvd3d3LmtqdWMuc2lcL3dwLWNvbnRlbnRcL3VwbG9hZHNcLzIwM
 TVcLzA2XC84NDRfNi5qcGciLCJ0aXRsZSI6Ijg0NF82IiwiY2FwdGlvbiI6IiIsImFsdCI6IiI
 sImRlc2NyaXB0aW9uIjoiIn0=\,eyJ1cmwiOiJodHRwczpcL1wvd3d3LmtqdWMuc2lcL3dwLWN
 vbnRlbnRcL3VwbG9hZHNcLzIwMTVcLzA2XC84NDRfNS5qcGciLCJ0aXRsZSI6Ijg0NF81IiwiY
 2FwdGlvbiI6IiIsImFsdCI6IiIsImRlc2NyaXB0aW9uIjoiIn0=\,eyJ1cmwiOiJodHRwczpcL
 1wvd3d3LmtqdWMuc2lcL3dwLWNvbnRlbnRcL3VwbG9hZHNcLzIwMTVcLzA2XC84NDRfNC5qcGc
 iLCJ0aXRsZSI6Ijg0NF80IiwiY2FwdGlvbiI6IiIsImFsdCI6IiIsImRlc2NyaXB0aW9uIjoiI
 n0=\,eyJ1cmwiOiJodHRwczpcL1wvd3d3LmtqdWMuc2lcL3dwLWNvbnRlbnRcL3VwbG9hZHNcL
 zIwMTVcLzA2XC84NDRfMy5qcGciLCJ0aXRsZSI6Ijg0NF8zIiwiY2FwdGlvbiI6IiIsImFsdCI
 6IiIsImRlc2NyaXB0aW9uIjoiIn0="]\n\nvabilo: st_zadnikovi_marapr2015
ATTACH;FMTTYPE=image/jpeg:https://www.kjuc.si/wp-content/uploads/2025/03/8
 44_1.jpg
CATEGORIES:Razstave
LOCATION:Enota Maričke Žnidaršič Stari trg\, Cesta Notranjskega odreda 
 32\, Stari trg pri Ložu\, Slovenia
GEO:45.712702;14.472784
X-APPLE-STRUCTURED-LOCATION;VALUE=URI;X-ADDRESS=Cesta Notranjskega odreda 3
 2\, Stari trg pri Ložu\, Slovenia;X-APPLE-RADIUS=100;X-TITLE=Enota Marič
 ke Žnidaršič Stari trg:geo:45.712702,14.472784
END:VEVENT
BEGIN:VTIMEZONE
TZID:Europe/Ljubljana
X-LIC-LOCATION:Europe/Ljubljana
BEGIN:STANDARD
DTSTART:20141026T020000
TZOFFSETFROM:+0200
TZOFFSETTO:+0100
TZNAME:CET
END:STANDARD
BEGIN:DAYLIGHT
DTSTART:20150329T030000
TZOFFSETFROM:+0100
TZOFFSETTO:+0200
TZNAME:CEST
END:DAYLIGHT
END:VTIMEZONE
END:VCALENDAR