BEGIN:VCALENDAR
VERSION:2.0
PRODID:-//wp-events-plugin.com//7.2.3.1//EN
TZID:Europe/Ljubljana
X-WR-TIMEZONE:Europe/Ljubljana
BEGIN:VEVENT
UID:1250@kjuc.si
DTSTART;TZID=Europe/Ljubljana:20220421T190000
DTEND;TZID=Europe/Ljubljana:20220421T210000
DTSTAMP:20250331T103831Z
URL:https://www.kjuc.si/dogodki/zbornika-ob-stoletnici-amaterskega-gledali
 sca-dpd-svoboda-loska-dolina/
SUMMARY:Predstavitev zbornika ob stoletnici Amaterskega gledališča DPD »
 Svoboda« Loška dolina
DESCRIPTION:&nbsp\;\n\n\n\ndpd svoboda. zbornik1
ATTACH;FMTTYPE=image/jpeg:https://www.kjuc.si/wp-content/uploads/2025/03/d
 pd-svoboda.-zbornik1-page-001.jpg
CATEGORIES:Predavanja,Predstavitve,Prireditev
LOCATION:Enota Maričke Žnidaršič Stari trg\, Cesta Notranjskega odreda 
 32\, Stari trg pri Ložu\, Slovenia
GEO:45.712702;14.472784
X-APPLE-STRUCTURED-LOCATION;VALUE=URI;X-ADDRESS=Cesta Notranjskega odreda 3
 2\, Stari trg pri Ložu\, Slovenia;X-APPLE-RADIUS=100;X-TITLE=Enota Marič
 ke Žnidaršič Stari trg:geo:45.712702,14.472784
END:VEVENT
BEGIN:VTIMEZONE
TZID:Europe/Ljubljana
X-LIC-LOCATION:Europe/Ljubljana
BEGIN:DAYLIGHT
DTSTART:20220327T030000
TZOFFSETFROM:+0100
TZOFFSETTO:+0200
TZNAME:CEST
END:DAYLIGHT
END:VTIMEZONE
END:VCALENDAR