BEGIN:VCALENDAR
VERSION:2.0
PRODID:-//wp-events-plugin.com//7.2.3.1//EN
TZID:Europe/Ljubljana
X-WR-TIMEZONE:Europe/Ljubljana
BEGIN:VEVENT
UID:1954@kjuc.si
DTSTART;TZID=Europe/Ljubljana:20250412T093000
DTEND;TZID=Europe/Ljubljana:20250412T103000
DTSTAMP:20250521T115703Z
URL:https://www.kjuc.si/dogodki/zeliscarsvo-kot-kulturna-dediscina-predava
 nje-etnologinje-vlaste-mlakar/
SUMMARY:Zeliščarsvo kot kulturna dediščina - predavanje etnologinje Vla
 ste Mlakar
DESCRIPTION:
ATTACH;FMTTYPE=image/jpeg:https://www.kjuc.si/wp-content/uploads/2025/05/P
 omladni-2025-A3-1.jpg
CATEGORIES:Predavanja
LOCATION:Enota Ivana Matičiča Rakek\, Partizanska cesta 8a\, Rakek\, Slov
 enia
GEO:45.8127;14.319238
X-APPLE-STRUCTURED-LOCATION;VALUE=URI;X-ADDRESS=Partizanska cesta 8a\, Rake
 k\, Slovenia;X-APPLE-RADIUS=100;X-TITLE=Enota Ivana Matičiča Rakek:geo:4
 5.8127,14.319238
END:VEVENT
BEGIN:VTIMEZONE
TZID:Europe/Ljubljana
X-LIC-LOCATION:Europe/Ljubljana
BEGIN:DAYLIGHT
DTSTART:20250330T030000
TZOFFSETFROM:+0100
TZOFFSETTO:+0200
TZNAME:CEST
END:DAYLIGHT
END:VTIMEZONE
END:VCALENDAR