BEGIN:VCALENDAR
VERSION:2.0
PRODID:-//wp-events-plugin.com//7.2.3.1//EN
TZID:Europe/Ljubljana
X-WR-TIMEZONE:Europe/Ljubljana
BEGIN:VEVENT
UID:1528@kjuc.si
DTSTART;TZID=Europe/Ljubljana;VALUE=DATE:20230612
DTEND;TZID=Europe/Ljubljana;VALUE=DATE:20231031
DTSTAMP:20250331T104306Z
URL:https://www.kjuc.si/dogodki/zgodbe-mojega-kraja-kako-smo-se-nekoc-prev
 azali-natecaj-za-najboljso-zgodbo/
SUMMARY:Zgodbe mojega kraja: Kako smo se nekoč prevažali - natečaj za na
 jboljšo zgodbo
DESCRIPTION:ZGODBE MOJEGA KRAJA: Kako smo se nekoč prevažali – natečaj
  za najboljšo zgodbo\n\nMestna knjižnica Ljubljana je v sodelovanju s Kn
 jižnico Jožeta Udoviča Cerknica in z ostalimi knjižnicami Osrednjeslov
 enske regije pripravila natečaj za najboljšo zgodbo z naslovom Zgodbe mo
 jega kraja: Kako smo se nekoč prevažali\, ki bo potekal od 12. junija do
  30. oktobra 2023.\n\nČe ste dopolnili 60 let in radi pišete\, vas vabim
 o\, da nam do 30. oktobra 2023 pošljete kratko\, resnično zgodbo povezan
 o s spomini na različne oblike prevoza in prevoznih sredstev v vašem kra
 ju ali drugod po Sloveniji. Morda se spominjate prve ali pa kakšne prav p
 osebne vožnje z avtobusom ali vlakom\, dogodivščin s kolesom ali pa nak
 upa svojega prvega jeklenega konjička. Zaželeno je\, da priložite tudi 
 kakšno fotografijo\, povezano z zgodbo\, ni pa pogoj za sodelovanje.\n\nS
 odelujete lahko le z eno zgodbo\, ki naj bo napisana v slovenskem jeziku i
 n naj ne presega 1.600 besed. Oddate jo lahko tipkano ali v elektronski ob
 liki. Zgodbo pošljite po pošti na naslov Mestna knjižnica Ljubljana\, K
 ersnikova 2\, 1000 Ljubljana\, s pripisom »za natečaj Zgodbe mojega kraj
 a« ali po elektronski pošti na mojkraj@mklj.si. Dodajte še ime in priim
 ek avtorja zgodbe\, leto rojstva\, stalni naslov\, morebitni e-naslov in t
 elefonsko številko. Prispevke bo v novembru 2023 ocenila žirija in izbra
 la deset najboljših\, ki bodo nagrajeni in objavljeni na spletni strani M
 estne knjižnice Ljubljana (www.mklj.si) in na portalu digitalizirane kult
 urne dediščine slovenskih pokrajin Kamra (www.kamra.si). Za nagrade bodo
  poskrbeli: AMZS\, Arboretum Volčji Potok\, Založba Goga\, Kinodvor\, Sl
 ovensko mladinsko gledališče in Tehniški muzej Slovenije.\n\nPravila in
  pogoje sodelovanja boste našli na spletni strani Mestne Knjižnice Ljubl
 jana www.mklj.si ter na promocijskih letakih. Za dodatne informacije pokli
 čite na 01 308 56 21 ali pišite na e-naslov mojkraj@mklj.si.\n\n \n\n202
 3_Plakat A3&nbsp\;\n\n&nbsp\;
ATTACH;FMTTYPE=image/jpeg:https://www.kjuc.si/wp-content/uploads/2025/03/1
 -732x1024-1.jpg
CATEGORIES:Predstavitve,Razno
LOCATION:Knjižnica Jožeta Udoviča Cerknica\, Partizanska cesta 22\, Cerk
 nica\, Slovenia
GEO:45.795484;14.362483
X-APPLE-STRUCTURED-LOCATION;VALUE=URI;X-ADDRESS=Partizanska cesta 22\, Cerk
 nica\, Slovenia;X-APPLE-RADIUS=100;X-TITLE=Knjižnica Jožeta Udoviča Cer
 knica:geo:45.795484,14.362483
END:VEVENT
BEGIN:VTIMEZONE
TZID:Europe/Ljubljana
X-LIC-LOCATION:Europe/Ljubljana
BEGIN:DAYLIGHT
DTSTART:20230326T030000
TZOFFSETFROM:+0100
TZOFFSETTO:+0200
TZNAME:CEST
END:DAYLIGHT
BEGIN:STANDARD
DTSTART:20231029T020000
TZOFFSETFROM:+0200
TZOFFSETTO:+0100
TZNAME:CET
END:STANDARD
END:VTIMEZONE
END:VCALENDAR