BEGIN:VCALENDAR
VERSION:2.0
PRODID:-//wp-events-plugin.com//7.2.3.1//EN
TZID:Europe/Ljubljana
X-WR-TIMEZONE:Europe/Ljubljana
BEGIN:VEVENT
UID:519@kjuc.si
DTSTART;TZID=Europe/Ljubljana:20171012T170000
DTEND;TZID=Europe/Ljubljana:20171012T180000
DTSTAMP:20250331T101114Z
URL:https://www.kjuc.si/dogodki/zlata-jesen-pravljicna-urica-z-ustvarjalno
 -delavnico-za-otroke-od-4-leta-dalje-2/
SUMMARY:Zlata jesen - pravljična urica z ustvarjalno delavnico za otroke o
 d 4. leta dalje
DESCRIPTION:\n\n[gallery link="none" size="full" ids="eyJ1cmwiOiJodHRwczpcL
 1wvd3d3LmtqdWMuc2lcL3dwLWNvbnRlbnRcL3VwbG9hZHNcLzIwMTdcLzA5XC9QQTEyMDAzNS5
 qcGciLCJ0aXRsZSI6IlBBMTIwMDM1IiwiY2FwdGlvbiI6IiIsImFsdCI6IiIsImRlc2NyaXB0a
 W9uIjoiIn0=\,eyJ1cmwiOiJodHRwczpcL1wvd3d3LmtqdWMuc2lcL3dwLWNvbnRlbnRcL3Vwb
 G9hZHNcLzIwMTdcLzA5XC9QQTEyMDAzNy5qcGciLCJ0aXRsZSI6IlBBMTIwMDM3IiwiY2FwdGl
 vbiI6IiIsImFsdCI6IiIsImRlc2NyaXB0aW9uIjoiIn0=\,eyJ1cmwiOiJodHRwczpcL1wvd3d
 3LmtqdWMuc2lcL3dwLWNvbnRlbnRcL3VwbG9hZHNcLzIwMTdcLzA5XC9QQTEyMDA0MC5qcGciL
 CJ0aXRsZSI6IlBBMTIwMDQwIiwiY2FwdGlvbiI6IiIsImFsdCI6IiIsImRlc2NyaXB0aW9uIjo
 iIn0=\,eyJ1cmwiOiJodHRwczpcL1wvd3d3LmtqdWMuc2lcL3dwLWNvbnRlbnRcL3VwbG9hZHN
 cLzIwMTdcLzA5XC9QQTEyMDA0Mi5qcGciLCJ0aXRsZSI6IlBBMTIwMDQyIiwiY2FwdGlvbiI6I
 iIsImFsdCI6IiIsImRlc2NyaXB0aW9uIjoiIn0=\,eyJ1cmwiOiJodHRwczpcL1wvd3d3Lmtqd
 WMuc2lcL3dwLWNvbnRlbnRcL3VwbG9hZHNcLzIwMTdcLzA5XC9QQTEyMDA0My5qcGciLCJ0aXR
 sZSI6IlBBMTIwMDQzIiwiY2FwdGlvbiI6IiIsImFsdCI6IiIsImRlc2NyaXB0aW9uIjoiIn0=\
 ,eyJ1cmwiOiJodHRwczpcL1wvd3d3LmtqdWMuc2lcL3dwLWNvbnRlbnRcL3VwbG9hZHNcLzIwM
 TdcLzA5XC9QQTEyMDA0NS5qcGciLCJ0aXRsZSI6IlBBMTIwMDQ1IiwiY2FwdGlvbiI6IiIsImF
 sdCI6IiIsImRlc2NyaXB0aW9uIjoiIn0=\,eyJ1cmwiOiJodHRwczpcL1wvd3d3LmtqdWMuc2l
 cL3dwLWNvbnRlbnRcL3VwbG9hZHNcLzIwMTdcLzA5XC9QQTEyMDA0Ni5qcGciLCJ0aXRsZSI6I
 lBBMTIwMDQ2IiwiY2FwdGlvbiI6IiIsImFsdCI6IiIsImRlc2NyaXB0aW9uIjoiIn0=\,eyJ1c
 mwiOiJodHRwczpcL1wvd3d3LmtqdWMuc2lcL3dwLWNvbnRlbnRcL3VwbG9hZHNcLzIwMTdcLzA
 5XC9QQTEyMDA0Ny5qcGciLCJ0aXRsZSI6IlBBMTIwMDQ3IiwiY2FwdGlvbiI6IiIsImFsdCI6I
 iIsImRlc2NyaXB0aW9uIjoiIn0=\,eyJ1cmwiOiJodHRwczpcL1wvd3d3LmtqdWMuc2lcL3dwL
 WNvbnRlbnRcL3VwbG9hZHNcLzIwMTdcLzA5XC9QQTEyMDA0OC5qcGciLCJ0aXRsZSI6IlBBMTI
 wMDQ4IiwiY2FwdGlvbiI6IiIsImFsdCI6IiIsImRlc2NyaXB0aW9uIjoiIn0=\,eyJ1cmwiOiJ
 odHRwczpcL1wvd3d3LmtqdWMuc2lcL3dwLWNvbnRlbnRcL3VwbG9hZHNcLzIwMTdcLzA5XC9QQ
 TEyMDA0OS5qcGciLCJ0aXRsZSI6IlBBMTIwMDQ5IiwiY2FwdGlvbiI6IiIsImFsdCI6IiIsImR
 lc2NyaXB0aW9uIjoiIn0=\,eyJ1cmwiOiJodHRwczpcL1wvd3d3LmtqdWMuc2lcL3dwLWNvbnR
 lbnRcL3VwbG9hZHNcLzIwMTdcLzA5XC9QQTEyMDA1MC5qcGciLCJ0aXRsZSI6IlBBMTIwMDUwI
 iwiY2FwdGlvbiI6IiIsImFsdCI6IiIsImRlc2NyaXB0aW9uIjoiIn0=\,eyJ1cmwiOiJodHRwc
 zpcL1wvd3d3LmtqdWMuc2lcL3dwLWNvbnRlbnRcL3VwbG9hZHNcLzIwMTdcLzA5XC9QQTEyMDA
 1MS5qcGciLCJ0aXRsZSI6IlBBMTIwMDUxIiwiY2FwdGlvbiI6IiIsImFsdCI6IiIsImRlc2Nya
 XB0aW9uIjoiIn0=\,eyJ1cmwiOiJodHRwczpcL1wvd3d3LmtqdWMuc2lcL3dwLWNvbnRlbnRcL
 3VwbG9hZHNcLzIwMTdcLzA5XC9QQTEyMDA1Mi5qcGciLCJ0aXRsZSI6IlBBMTIwMDUyIiwiY2F
 wdGlvbiI6IiIsImFsdCI6IiIsImRlc2NyaXB0aW9uIjoiIn0=\,eyJ1cmwiOiJodHRwczpcL1w
 vd3d3LmtqdWMuc2lcL3dwLWNvbnRlbnRcL3VwbG9hZHNcLzIwMTdcLzA5XC9QQTEyMDA1NC5qc
 GciLCJ0aXRsZSI6IlBBMTIwMDU0IiwiY2FwdGlvbiI6IiIsImFsdCI6IiIsImRlc2NyaXB0aW9
 uIjoiIn0="]
ATTACH;FMTTYPE=image/jpeg:https://www.kjuc.si/wp-content/uploads/2025/03/9
 9584a4f4e3a16e.jpg
CATEGORIES:Za otroke
LOCATION:Knjižnica Jožeta Udoviča Cerknica\, Partizanska cesta 22\, Cerk
 nica\, Slovenia
GEO:45.795484;14.362483
X-APPLE-STRUCTURED-LOCATION;VALUE=URI;X-ADDRESS=Partizanska cesta 22\, Cerk
 nica\, Slovenia;X-APPLE-RADIUS=100;X-TITLE=Knjižnica Jožeta Udoviča Cer
 knica:geo:45.795484,14.362483
END:VEVENT
BEGIN:VTIMEZONE
TZID:Europe/Ljubljana
X-LIC-LOCATION:Europe/Ljubljana
BEGIN:DAYLIGHT
DTSTART:20170326T030000
TZOFFSETFROM:+0100
TZOFFSETTO:+0200
TZNAME:CEST
END:DAYLIGHT
END:VTIMEZONE
END:VCALENDAR