BEGIN:VCALENDAR
VERSION:2.0
PRODID:-//wp-events-plugin.com//7.2.3.1//EN
TZID:Europe/Ljubljana
X-WR-TIMEZONE:Europe/Ljubljana
BEGIN:VEVENT
UID:2141@kjuc.si
DTSTART;TZID=Europe/Ljubljana:20260129T180000
DTEND;TZID=Europe/Ljubljana:20260129T200000
DTSTAMP:20260126T151836Z
URL:https://www.kjuc.si/dogodki/zoran-furman-moji-najlepsi-trekingi-potopi
 sno-predavanje/
SUMMARY:ODPOVEDANO - Zoran Furman: Moji najlepši trekingi - potopisno pred
 avanje
DESCRIPTION:
ATTACH;FMTTYPE=image/jpeg:https://www.kjuc.si/wp-content/uploads/2026/01/Z
 oran-Furman-Moji-najlepsi-trekingi-potopisno-predavanje-scaled.jpg
CATEGORIES:Predavanja,Predstavitve,Prireditev
LOCATION:Enota Maričke Žnidaršič Stari trg\, Cesta Notranjskega odreda 
 32\, Stari trg pri Ložu\, Slovenia
GEO:45.712702;14.472784
X-APPLE-STRUCTURED-LOCATION;VALUE=URI;X-ADDRESS=Cesta Notranjskega odreda 3
 2\, Stari trg pri Ložu\, Slovenia;X-APPLE-RADIUS=100;X-TITLE=Enota Marič
 ke Žnidaršič Stari trg:geo:45.712702,14.472784
END:VEVENT
BEGIN:VTIMEZONE
TZID:Europe/Ljubljana
X-LIC-LOCATION:Europe/Ljubljana
BEGIN:STANDARD
DTSTART:20251026T020000
TZOFFSETFROM:+0200
TZOFFSETTO:+0100
TZNAME:CET
END:STANDARD
END:VTIMEZONE
END:VCALENDAR