BEGIN:VCALENDAR
VERSION:2.0
PRODID:-//wp-events-plugin.com//7.2.3.1//EN
TZID:Europe/Ljubljana
X-WR-TIMEZONE:Europe/Ljubljana
BEGIN:VEVENT
UID:2224@kjuc.si
DTSTART;TZID=Europe/Ljubljana;VALUE=DATE:20260423
DTEND;TZID=Europe/Ljubljana;VALUE=DATE:20260701
DTSTAMP:20260424T171908Z
URL:https://www.kjuc.si/dogodki/zoran-vidrih-afrika-dobrodelna-razstava-fo
 tografij-za-64-otrok-jezera-bunyonyi/
SUMMARY:Zoran Vidrih: Afrika - dobrodelna razstava fotografij za 64 otrok j
 ezera Bunyonyi
DESCRIPTION:\n\n&nbsp\;
ATTACH;FMTTYPE=image/jpeg:https://www.kjuc.si/wp-content/uploads/2026/04/V
 abilo-na-razstavo_Zoran-1.jpg
CATEGORIES:Razstave
LOCATION:Knjižnica Jožeta Udoviča Cerknica\, Partizanska cesta 22\, Cerk
 nica\, Slovenia
GEO:45.795484;14.362483
X-APPLE-STRUCTURED-LOCATION;VALUE=URI;X-ADDRESS=Partizanska cesta 22\, Cerk
 nica\, Slovenia;X-APPLE-RADIUS=100;X-TITLE=Knjižnica Jožeta Udoviča Cer
 knica:geo:45.795484,14.362483
END:VEVENT
BEGIN:VTIMEZONE
TZID:Europe/Ljubljana
X-LIC-LOCATION:Europe/Ljubljana
BEGIN:DAYLIGHT
DTSTART:20260329T030000
TZOFFSETFROM:+0100
TZOFFSETTO:+0200
TZNAME:CEST
END:DAYLIGHT
END:VTIMEZONE
END:VCALENDAR