BEGIN:VCALENDAR
VERSION:2.0
PRODID:-//wp-events-plugin.com//7.2.3.1//EN
TZID:Europe/Ljubljana
X-WR-TIMEZONE:Europe/Ljubljana
BEGIN:VEVENT
UID:2143@kjuc.si
DTSTART;TZID=Europe/Ljubljana;VALUE=DATE:20260113
DTEND;TZID=Europe/Ljubljana;VALUE=DATE:20260226
DTSTAMP:20260115T175210Z
URL:https://www.kjuc.si/dogodki/zoran-vidrih-notranjska-v-objemu-divjine-f
 otografska-razstava-3/
SUMMARY:Zoran Vidrih: Notranjska v objemu divjine - fotografska razstava
DESCRIPTION:
ATTACH;FMTTYPE=image/jpeg:https://www.kjuc.si/wp-content/uploads/2026/01/Z
 oran-Vidrih-Notranjska-v-objemu-divjine-NV.jpg
CATEGORIES:Razstave
LOCATION:Enota Ivana Čampa Nova vas\, Nova vas 4a\, Nova vas\, Slovenia
GEO:45.363149;13.640599
X-APPLE-STRUCTURED-LOCATION;VALUE=URI;X-ADDRESS=Nova vas 4a\, Nova vas\, Sl
 ovenia;X-APPLE-RADIUS=100;X-TITLE=Enota Ivana Čampa Nova vas:geo:45.36314
 9,13.640599
END:VEVENT
BEGIN:VTIMEZONE
TZID:Europe/Ljubljana
X-LIC-LOCATION:Europe/Ljubljana
BEGIN:STANDARD
DTSTART:20251026T020000
TZOFFSETFROM:+0200
TZOFFSETTO:+0100
TZNAME:CET
END:STANDARD
END:VTIMEZONE
END:VCALENDAR