BEGIN:VCALENDAR
VERSION:2.0
PRODID:-//wp-events-plugin.com//7.2.3.1//EN
TZID:Europe/Ljubljana
X-WR-TIMEZONE:Europe/Ljubljana
BEGIN:VEVENT
UID:737@kjuc.si
DTSTART;TZID=Europe/Ljubljana:20181120T180000
DTEND;TZID=Europe/Ljubljana:20181120T190000
DTSTAMP:20250331T103117Z
URL:https://www.kjuc.si/dogodki/zoran-vidrih-otvoritev-fotografske-razstav
 e/
SUMMARY:Zoran Vidrih - otvoritev fotografske razstave
DESCRIPTION:\n\nFotografska razstava Zorana Vidriha\n\nV rakovški knjižni
 ci so v torek\, 20. novembra\, odprli fotografsko razstavo Zorana Vidriha.
  Gre za prvo samostojno razstavo\, ki po obisku sodeč zagotovo ne bo zadn
 ja.\n\nS fotografijo kot hobijem se ukvarja že vrsto let\, združuje jo z
  navdušenjem nad pohodništvom\, kolesarjenjem\, turnim smučanjem in kaj
 akom. Povsod ga spremljata fotoaparat in kamera. V objektiv najraje ujame 
 pokrajino domače Notranjske in njenih živalskih prebivalcev\, fotografij
 e pa redno objavlja na družabnih omrežjih.\n\nDober odziv ga je skupaj s
  Sandro Pohole spodbudil k izdelavi koledarja za leto 2019 z dvanajstimi f
 otografijami Cerkniškega jezera in Planinskega dnevnika za pohodnike\, pl
 anince in kolesarje.\n\nNa odprtju razstave je zaigrala mlada pianistka Ma
 nca Pohole\, fotografije si lahko ogledate do 14. decembra 2018 v času ur
 nika knjižnice na Rakeku.\n\n&nbsp\;\n\nNevena Savić\n\nFoto: Ljubo Vuke
 lič\n\n[gallery link="file" columns="2" size="full" ids="eyJ1cmwiOiJodHRw
 czpcL1wvd3d3LmtqdWMuc2lcL3dwLWNvbnRlbnRcL3VwbG9hZHNcLzIwMThcLzExXC9PVFZPUk
 lURVYtUkFaU1RBVkUtRk9UT0dSQUZJSi1aT1JBTkEtVklEUklIQS0wMi1GT1RPLUxKVUJPLVZV
 S0VMSVx1MDEwYy5qcGciLCJ0aXRsZSI6Ik9UVk9SSVRFViBSQVpTVEFWRSBGT1RPR1JBRklKIF
 pPUkFOQSBWSURSSUhBIDAyIEZPVE8gTEpVQk8gVlVLRUxJXHUwMTBjIiwiY2FwdGlvbiI6IiIs
 ImFsdCI6IiIsImRlc2NyaXB0aW9uIjoiIn0=\,eyJ1cmwiOiJodHRwczpcL1wvd3d3LmtqdWMu
 c2lcL3dwLWNvbnRlbnRcL3VwbG9hZHNcLzIwMThcLzExXC9PVFZPUklURVYtUkFaU1RBVkUtRk
 9UT0dSQUZJSi1aT1JBTkEtVklEUklIQS0wNC1GT1RPLUxKVUJPLVZVS0VMSVx1MDEwYy5qcGci
 LCJ0aXRsZSI6Ik9UVk9SSVRFViBSQVpTVEFWRSBGT1RPR1JBRklKIFpPUkFOQSBWSURSSUhBID
 A0IEZPVE8gTEpVQk8gVlVLRUxJXHUwMTBjIiwiY2FwdGlvbiI6IiIsImFsdCI6IiIsImRlc2Ny
 aXB0aW9uIjoiIn0=\,eyJ1cmwiOiJodHRwczpcL1wvd3d3LmtqdWMuc2lcL3dwLWNvbnRlbnRc
 L3VwbG9hZHNcLzIwMThcLzExXC9PVFZPUklURVYtUkFaU1RBVkUtRk9UT0dSQUZJSi1aT1JBTk
 EtVklEUklIQS0wNS1GT1RPLUxKVUJPLVZVS0VMSVx1MDEwYy5qcGciLCJ0aXRsZSI6Ik9UVk9S
 SVRFViBSQVpTVEFWRSBGT1RPR1JBRklKIFpPUkFOQSBWSURSSUhBIDA1IEZPVE8gTEpVQk8gVl
 VLRUxJXHUwMTBjIiwiY2FwdGlvbiI6IiIsImFsdCI6IiIsImRlc2NyaXB0aW9uIjoiIn0=\,ey
 J1cmwiOiJodHRwczpcL1wvd3d3LmtqdWMuc2lcL3dwLWNvbnRlbnRcL3VwbG9hZHNcLzIwMThc
 LzExXC9PVFZPUklURVYtUkFaU1RBVkUtRk9UT0dSQUZJSi1aT1JBTkEtVklEUklIQS0wNi1GT1
 RPLUxKVUJPLVZVS0VMSVx1MDEwYy5qcGciLCJ0aXRsZSI6Ik9UVk9SSVRFViBSQVpTVEFWRSBG
 T1RPR1JBRklKIFpPUkFOQSBWSURSSUhBIDA2IEZPVE8gTEpVQk8gVlVLRUxJXHUwMTBjIiwiY2
 FwdGlvbiI6IiIsImFsdCI6IiIsImRlc2NyaXB0aW9uIjoiIn0=\,eyJ1cmwiOiJodHRwczpcL1
 wvd3d3LmtqdWMuc2lcL3dwLWNvbnRlbnRcL3VwbG9hZHNcLzIwMThcLzExXC9PVFZPUklURVYt
 UkFaU1RBVkUtRk9UT0dSQUZJSi1aT1JBTkEtVklEUklIQS0wNy1GT1RPLUxKVUJPLVZVS0VMSV
 x1MDEwYy5qcGciLCJ0aXRsZSI6Ik9UVk9SSVRFViBSQVpTVEFWRSBGT1RPR1JBRklKIFpPUkFO
 QSBWSURSSUhBIDA3IEZPVE8gTEpVQk8gVlVLRUxJXHUwMTBjIiwiY2FwdGlvbiI6IiIsImFsdC
 I6IiIsImRlc2NyaXB0aW9uIjoiIn0=\,eyJ1cmwiOiJodHRwczpcL1wvd3d3LmtqdWMuc2lcL3
 dwLWNvbnRlbnRcL3VwbG9hZHNcLzIwMThcLzExXC9PVFZPUklURVYtUkFaU1RBVkUtRk9UT0dS
 QUZJSi1aT1JBTkEtVklEUklIQS0wOC1GT1RPLUxKVUJPLVZVS0VMSVx1MDEwYy5qcGciLCJ0aX
 RsZSI6Ik9UVk9SSVRFViBSQVpTVEFWRSBGT1RPR1JBRklKIFpPUkFOQSBWSURSSUhBIDA4IEZP
 VE8gTEpVQk8gVlVLRUxJXHUwMTBjIiwiY2FwdGlvbiI6IiIsImFsdCI6IiIsImRlc2NyaXB0aW
 9uIjoiIn0=\,eyJ1cmwiOiJodHRwczpcL1wvd3d3LmtqdWMuc2lcL3dwLWNvbnRlbnRcL3VwbG
 9hZHNcLzIwMThcLzExXC9PVFZPUklURVYtUkFaU1RBVkUtRk9UT0dSQUZJSi1aT1JBTkEtVklE
 UklIQS0xMC1GT1RPLUxKVUJPLVZVS0VMSVx1MDEwYy5qcGciLCJ0aXRsZSI6Ik9UVk9SSVRFVi
 BSQVpTVEFWRSBGT1RPR1JBRklKIFpPUkFOQSBWSURSSUhBIDEwIEZPVE8gTEpVQk8gVlVLRUxJ
 XHUwMTBjIiwiY2FwdGlvbiI6IiIsImFsdCI6IiIsImRlc2NyaXB0aW9uIjoiIn0=\,eyJ1cmwi
 OiJodHRwczpcL1wvd3d3LmtqdWMuc2lcL3dwLWNvbnRlbnRcL3VwbG9hZHNcLzIwMThcLzExXC
 9PVFZPUklURVYtUkFaU1RBVkUtRk9UT0dSQUZJSi1aT1JBTkEtVklEUklIQS0xMS1GT1RPLUxK
 VUJPLVZVS0VMSVx1MDEwYy5qcGciLCJ0aXRsZSI6Ik9UVk9SSVRFViBSQVpTVEFWRSBGT1RPR1
 JBRklKIFpPUkFOQSBWSURSSUhBIDExIEZPVE8gTEpVQk8gVlVLRUxJXHUwMTBjIiwiY2FwdGlv
 biI6IiIsImFsdCI6IiIsImRlc2NyaXB0aW9uIjoiIn0="]
ATTACH;FMTTYPE=image/jpeg:https://www.kjuc.si/wp-content/uploads/2025/03/c
 over-1-26.jpg
CATEGORIES:Predstavitve,Prireditev
LOCATION:Enota Ivana Matičiča Rakek\, Partizanska cesta 8a\, Rakek\, Slov
 enia
GEO:45.8127;14.319238
X-APPLE-STRUCTURED-LOCATION;VALUE=URI;X-ADDRESS=Partizanska cesta 8a\, Rake
 k\, Slovenia;X-APPLE-RADIUS=100;X-TITLE=Enota Ivana Matičiča Rakek:geo:4
 5.8127,14.319238
END:VEVENT
BEGIN:VTIMEZONE
TZID:Europe/Ljubljana
X-LIC-LOCATION:Europe/Ljubljana
BEGIN:STANDARD
DTSTART:20181028T020000
TZOFFSETFROM:+0200
TZOFFSETTO:+0100
TZNAME:CET
END:STANDARD
END:VTIMEZONE
END:VCALENDAR