BEGIN:VCALENDAR
VERSION:2.0
PRODID:-//wp-events-plugin.com//7.2.3.1//EN
TZID:Europe/Ljubljana
X-WR-TIMEZONE:Europe/Ljubljana
BEGIN:VEVENT
UID:2026@kjuc.si
DTSTART;TZID=Europe/Ljubljana;VALUE=DATE:20250908
DTEND;TZID=Europe/Ljubljana;VALUE=DATE:20250928
DTSTAMP:20250825T122455Z
URL:https://www.kjuc.si/dogodki/zrcalo-narave-divji-svet-zivali-cerkniskeg
 a-jezera-razstava-fotografij-lokalnih-fotografov/
SUMMARY:Zrcalo narave: Divji svet živali Cerkniškega jezera - razstava fo
 tografij lokalnih fotografov
DESCRIPTION:
ATTACH;FMTTYPE=image/jpeg:https://www.kjuc.si/wp-content/uploads/2025/08/V
 abilo_razstava-fotografij_krajsa-verzija.jpg
CATEGORIES:Razstave
LOCATION:Knjižnica Jožeta Udoviča Cerknica\, Partizanska cesta 22\, Cerk
 nica\, Slovenia
GEO:45.795484;14.362483
X-APPLE-STRUCTURED-LOCATION;VALUE=URI;X-ADDRESS=Partizanska cesta 22\, Cerk
 nica\, Slovenia;X-APPLE-RADIUS=100;X-TITLE=Knjižnica Jožeta Udoviča Cer
 knica:geo:45.795484,14.362483
END:VEVENT
BEGIN:VTIMEZONE
TZID:Europe/Ljubljana
X-LIC-LOCATION:Europe/Ljubljana
BEGIN:DAYLIGHT
DTSTART:20250330T030000
TZOFFSETFROM:+0100
TZOFFSETTO:+0200
TZNAME:CEST
END:DAYLIGHT
END:VTIMEZONE
END:VCALENDAR