BEGIN:VCALENDAR
VERSION:2.0
PRODID:-//wp-events-plugin.com//7.2.3.1//EN
TZID:Europe/Ljubljana
X-WR-TIMEZONE:Europe/Ljubljana
BEGIN:VEVENT
UID:731@kjuc.si
DTSTART;TZID=Europe/Ljubljana;VALUE=DATE:20181024
DTEND;TZID=Europe/Ljubljana;VALUE=DATE:20181115
DTSTAMP:20250331T103109Z
URL:https://www.kjuc.si/dogodki/zvone-ivancic-160-let-juzne-zeleznice-razs
 tava-maket-lokomotiv-in-izbora-znamk-2/
SUMMARY:Zvone Ivančič: 160 let južne železnice – razstava maket lokom
 otiv in izbora znamk
DESCRIPTION:\n\n[gallery link="file" columns="2" size="full" ids="eyJ1cmwiO
 iJodHRwczpcL1wvd3d3LmtqdWMuc2lcL3dwLWNvbnRlbnRcL3VwbG9hZHNcLzIwMThcLzEwXC9
 JTUdfMjAxODExMTJfMTEwNjU5LmpwZyIsInRpdGxlIjoiSU1HXzIwMTgxMTEyXzExMDY1OSIsI
 mNhcHRpb24iOiIiLCJhbHQiOiIiLCJkZXNjcmlwdGlvbiI6IiJ9\,eyJ1cmwiOiJodHRwczpcL
 1wvd3d3LmtqdWMuc2lcL3dwLWNvbnRlbnRcL3VwbG9hZHNcLzIwMThcLzEwXC9JTUdfMjAxODE
 xMTJfMTEwODEwLmpwZyIsInRpdGxlIjoiSU1HXzIwMTgxMTEyXzExMDgxMCIsImNhcHRpb24iO
 iIiLCJhbHQiOiIiLCJkZXNjcmlwdGlvbiI6IiJ9\,eyJ1cmwiOiJodHRwczpcL1wvd3d3Lmtqd
 WMuc2lcL3dwLWNvbnRlbnRcL3VwbG9hZHNcLzIwMThcLzEwXC9JTUdfMjAxODExMTJfMTEwODE
 2LmpwZyIsInRpdGxlIjoiSU1HXzIwMTgxMTEyXzExMDgxNiIsImNhcHRpb24iOiIiLCJhbHQiO
 iIiLCJkZXNjcmlwdGlvbiI6IiJ9\,eyJ1cmwiOiJodHRwczpcL1wvd3d3LmtqdWMuc2lcL3dwL
 WNvbnRlbnRcL3VwbG9hZHNcLzIwMThcLzEwXC9JTUdfMjAxODExMTJfMTEwODI0LmpwZyIsInR
 pdGxlIjoiSU1HXzIwMTgxMTEyXzExMDgyNCIsImNhcHRpb24iOiIiLCJhbHQiOiIiLCJkZXNjc
 mlwdGlvbiI6IiJ9\,eyJ1cmwiOiJodHRwczpcL1wvd3d3LmtqdWMuc2lcL3dwLWNvbnRlbnRcL
 3VwbG9hZHNcLzIwMThcLzEwXC9JTUdfMjAxODExMTJfMTEwODMzLmpwZyIsInRpdGxlIjoiSU1
 HXzIwMTgxMTEyXzExMDgzMyIsImNhcHRpb24iOiIiLCJhbHQiOiIiLCJkZXNjcmlwdGlvbiI6I
 iJ9\,eyJ1cmwiOiJodHRwczpcL1wvd3d3LmtqdWMuc2lcL3dwLWNvbnRlbnRcL3VwbG9hZHNcL
 zIwMThcLzEwXC9JTUdfMjAxODExMTJfMTEwODQyLmpwZyIsInRpdGxlIjoiSU1HXzIwMTgxMTE
 yXzExMDg0MiIsImNhcHRpb24iOiIiLCJhbHQiOiIiLCJkZXNjcmlwdGlvbiI6IiJ9\,eyJ1cmw
 iOiJodHRwczpcL1wvd3d3LmtqdWMuc2lcL3dwLWNvbnRlbnRcL3VwbG9hZHNcLzIwMThcLzEwX
 C9JTUdfMjAxODExMTJfMTEwODUzLmpwZyIsInRpdGxlIjoiSU1HXzIwMTgxMTEyXzExMDg1MyI
 sImNhcHRpb24iOiIiLCJhbHQiOiIiLCJkZXNjcmlwdGlvbiI6IiJ9"]
ATTACH;FMTTYPE=image/jpeg:https://www.kjuc.si/wp-content/uploads/2025/03/c
 over-9-6.jpg
CATEGORIES:Razstave
LOCATION:Enota Ivana Matičiča Rakek\, Partizanska cesta 8a\, Rakek\, Slov
 enia
GEO:45.8127;14.319238
X-APPLE-STRUCTURED-LOCATION;VALUE=URI;X-ADDRESS=Partizanska cesta 8a\, Rake
 k\, Slovenia;X-APPLE-RADIUS=100;X-TITLE=Enota Ivana Matičiča Rakek:geo:4
 5.8127,14.319238
END:VEVENT
BEGIN:VTIMEZONE
TZID:Europe/Ljubljana
X-LIC-LOCATION:Europe/Ljubljana
BEGIN:DAYLIGHT
DTSTART:20180325T030000
TZOFFSETFROM:+0100
TZOFFSETTO:+0200
TZNAME:CEST
END:DAYLIGHT
BEGIN:STANDARD
DTSTART:20181028T020000
TZOFFSETFROM:+0200
TZOFFSETTO:+0100
TZNAME:CET
END:STANDARD
END:VTIMEZONE
END:VCALENDAR